BEGIN:VCALENDAR
VERSION:2.0
PRODID:-//New Jersey Alliance for Clinical and Translational Science - ECPv6.15.14//NONSGML v1.0//EN
CALSCALE:GREGORIAN
METHOD:PUBLISH
X-WR-CALNAME:New Jersey Alliance for Clinical and Translational Science
X-ORIGINAL-URL:https://njacts.rbhs.rutgers.edu
X-WR-CALDESC:Events for New Jersey Alliance for Clinical and Translational Science
REFRESH-INTERVAL;VALUE=DURATION:PT1H
X-Robots-Tag:noindex
X-PUBLISHED-TTL:PT1H
BEGIN:VTIMEZONE
TZID:UTC
BEGIN:STANDARD
TZOFFSETFROM:+0000
TZOFFSETTO:+0000
TZNAME:UTC
DTSTART:20230101T000000
END:STANDARD
END:VTIMEZONE
BEGIN:VEVENT
DTSTART;TZID=UTC:20240307T090000
DTEND;TZID=UTC:20240307T160000
DTSTAMP:20260424T024241
CREATED:20240205T202854Z
LAST-MODIFIED:20240205T202854Z
UID:39102-1709802000-1709827200@njacts.rbhs.rutgers.edu
SUMMARY:Rutgers Conference for  ﻿Rising Stars in Graduate Research
DESCRIPTION:Rutgers Conference for Rising Stars in Graduate Research-Designed to provide an accessible and authentic scientific presentation platform for PhD students in research-based fields who have no or minimal prior conference experience. View Flyer and Register Here
URL:https://njacts.rbhs.rutgers.edu/event/rutgers-conference-for-rising-stars-in-graduate-research/
END:VEVENT
END:VCALENDAR