BEGIN:VCALENDAR
VERSION:2.0
PRODID:-//New Jersey Alliance for Clinical and Translational Science - ECPv6.15.14//NONSGML v1.0//EN
CALSCALE:GREGORIAN
METHOD:PUBLISH
X-ORIGINAL-URL:https://njacts.rbhs.rutgers.edu
X-WR-CALDESC:Events for New Jersey Alliance for Clinical and Translational Science
REFRESH-INTERVAL;VALUE=DURATION:PT1H
X-Robots-Tag:noindex
X-PUBLISHED-TTL:PT1H
BEGIN:VTIMEZONE
TZID:America/New_York
BEGIN:DAYLIGHT
TZOFFSETFROM:-0500
TZOFFSETTO:-0400
TZNAME:EDT
DTSTART:20250309T070000
END:DAYLIGHT
BEGIN:STANDARD
TZOFFSETFROM:-0400
TZOFFSETTO:-0500
TZNAME:EST
DTSTART:20251102T060000
END:STANDARD
BEGIN:DAYLIGHT
TZOFFSETFROM:-0500
TZOFFSETTO:-0400
TZNAME:EDT
DTSTART:20260308T070000
END:DAYLIGHT
BEGIN:STANDARD
TZOFFSETFROM:-0400
TZOFFSETTO:-0500
TZNAME:EST
DTSTART:20261101T060000
END:STANDARD
BEGIN:DAYLIGHT
TZOFFSETFROM:-0500
TZOFFSETTO:-0400
TZNAME:EDT
DTSTART:20270314T070000
END:DAYLIGHT
BEGIN:STANDARD
TZOFFSETFROM:-0400
TZOFFSETTO:-0500
TZNAME:EST
DTSTART:20271107T060000
END:STANDARD
END:VTIMEZONE
BEGIN:VEVENT
DTSTART;TZID=America/New_York:20260423T120000
DTEND;TZID=America/New_York:20260423T133000
DTSTAMP:20260420T212720
CREATED:20260318T125030Z
LAST-MODIFIED:20260318T125030Z
UID:48079-1776945600-1776951000@njacts.rbhs.rutgers.edu
SUMMARY:Aging and Health Research at Rutgers: Speed Networking
DESCRIPTION:Aging and Health Research at Rutgers: Speed Networking-This fun\, fast-paced event brings together Rutgers faculty\, staff\, postdocs\, students\, and trainees interested in aging-related research. 303 George Street\, New Brunswick. Flyer and Register
URL:https://njacts.rbhs.rutgers.edu/event/aging-and-health-research-at-rutgers-speed-networking/
LOCATION:303 George Street\, 303 George Street\, New Brunswick\, NJ\, 08901
END:VEVENT
BEGIN:VEVENT
DTSTART;TZID=America/New_York:20260424T090000
DTEND;TZID=America/New_York:20260424T100000
DTSTAMP:20260420T212720
CREATED:20251203T155415Z
LAST-MODIFIED:20251203T155415Z
UID:47029-1777021200-1777024800@njacts.rbhs.rutgers.edu
SUMMARY:Spring Mentor Workshop Series
DESCRIPTION:Spring Mentor Workshop Series-Pre-College Initiatives & College Success\, Tools for Coping with Stress. Tillet Hall\, Room 204\, 50 Joyce Kilmer Avenue\, Piscataway. View Flyer and RSVP
URL:https://njacts.rbhs.rutgers.edu/event/spring-mentor-workshop-series-4/
LOCATION:Tillet Hall\, Room 204\, 50 Joyce Kilmer Avenue\, Piscataway\, NJ\, 08854
END:VEVENT
BEGIN:VEVENT
DTSTART;TZID=America/New_York:20260428T120000
DTEND;TZID=America/New_York:20260428T130000
DTSTAMP:20260420T212720
CREATED:20260318T114932Z
LAST-MODIFIED:20260330T123425Z
UID:48069-1777377600-1777381200@njacts.rbhs.rutgers.edu
SUMMARY:NJ ACTS Special Populations Seminar
DESCRIPTION:NJ ACTS Special Populations Seminar–Addressing Mental Illness and Addiction among Individuals with Intellectual and Developmental Disabilities\, Elizabeth M. Stone\, MD\, MSPH\, Rutgers RWJMS. View Flyer and Register
URL:https://njacts.rbhs.rutgers.edu/event/nj-acts-special-populations-seminar-9/
END:VEVENT
BEGIN:VEVENT
DTSTART;TZID=America/New_York:20260428T160000
DTEND;TZID=America/New_York:20260428T173000
DTSTAMP:20260420T212720
CREATED:20260416T132731Z
LAST-MODIFIED:20260416T132731Z
UID:48335-1777392000-1777397400@njacts.rbhs.rutgers.edu
SUMMARY:Propelus I-Corps Info Session at NJIT
DESCRIPTION:Propelus I-Corps Info Session at NJIT-Take your novel ideas to the next level by understanding how your research discovery or innovation can create value for potential customers. NJIT Martin Tuchman School of Management (MTSM) 2nd Floor Room CAB 2020. Read More and Register
URL:https://njacts.rbhs.rutgers.edu/event/propelus-i-corps-info-session-at-njit/
LOCATION:Engineering Martin Tuchman School of Management\, 198 Central Avenue\, Newark\, NJ\, 07103\, United States
END:VEVENT
BEGIN:VEVENT
DTSTART;TZID=America/New_York:20260429T093000
DTEND;TZID=America/New_York:20260429T113000
DTSTAMP:20260420T212720
CREATED:20260415T141800Z
LAST-MODIFIED:20260415T144941Z
UID:48309-1777455000-1777462200@njacts.rbhs.rutgers.edu
SUMMARY:NJACTS Multilingual Research Methods Workshop
DESCRIPTION:NJACTS Multilingual Research Methods Workshop–This session is designed for researchers who are working on\, or interested in\, multilingual projects and would benefit from peer and expert feedback. 303 George Street\, New Brunswick. View Flyer and Register by 4/22
URL:https://njacts.rbhs.rutgers.edu/event/njacts-multilingual-research-methods-workshop/
LOCATION:303 George Street\, 303 George Street\, New Brunswick\, NJ\, 08901
END:VEVENT
BEGIN:VEVENT
DTSTART;TZID=America/New_York:20260430T120000
DTEND;TZID=America/New_York:20260430T133000
DTSTAMP:20260420T212720
CREATED:20260409T122805Z
LAST-MODIFIED:20260409T122805Z
UID:48284-1777550400-1777555800@njacts.rbhs.rutgers.edu
SUMMARY:Rutgers Road to Commercialization Symposium Series
DESCRIPTION:Rutgers Road to Commercialization Symposium Series-HOW RESEARCH FUNDING IMPACTS COMMERCIALIZATION OPPORTUNITIES! Moderator\, Shemaila Sultana\, Phd\, Life Science Licensing. Virtual. Flyer and Register
URL:https://njacts.rbhs.rutgers.edu/event/rutgers-road-to-commercialization-symposium-series/
END:VEVENT
BEGIN:VEVENT
DTSTART;TZID=America/New_York:20260430T120000
DTEND;TZID=America/New_York:20260430T140000
DTSTAMP:20260420T212720
CREATED:20260408T143841Z
LAST-MODIFIED:20260408T143841Z
UID:48259-1777550400-1777557600@njacts.rbhs.rutgers.edu
SUMMARY:NJ ACTS NIH F Grant Writing Workshop
DESCRIPTION:NJ ACTS NIH F Grant Writing Workshop–Where Should I Start? Building a Research Proposal. In-person (EOHSI\, Room C – Piscataway) with virtual participation available via Zoom. View Flyer and Register by 4/27
URL:https://njacts.rbhs.rutgers.edu/event/nj-acts-nih-f-grant-writing-workshop/
LOCATION:EOHSI\, Conference Room C\, 170 Frelinghuysen Road\, Piscataway\, NJ\, 08854\, United States
END:VEVENT
BEGIN:VEVENT
DTSTART;TZID=America/New_York:20260430T130000
DTEND;TZID=America/New_York:20260430T140000
DTSTAMP:20260420T212720
CREATED:20260225T175523Z
LAST-MODIFIED:20260225T175523Z
UID:47791-1777554000-1777557600@njacts.rbhs.rutgers.edu
SUMMARY:Springer Nature Seminar Series
DESCRIPTION:Springer Nature Seminar Series–Using AI in Scientific Writing\, Register
URL:https://njacts.rbhs.rutgers.edu/event/springer-nature-seminar-series-2/
END:VEVENT
END:VCALENDAR