BEGIN:VCALENDAR
VERSION:2.0
PRODID:-//New Jersey Alliance for Clinical and Translational Science - ECPv6.15.14//NONSGML v1.0//EN
CALSCALE:GREGORIAN
METHOD:PUBLISH
X-ORIGINAL-URL:https://njacts.rbhs.rutgers.edu
X-WR-CALDESC:Events for New Jersey Alliance for Clinical and Translational Science
REFRESH-INTERVAL;VALUE=DURATION:PT1H
X-Robots-Tag:noindex
X-PUBLISHED-TTL:PT1H
BEGIN:VTIMEZONE
TZID:UTC
BEGIN:STANDARD
TZOFFSETFROM:+0000
TZOFFSETTO:+0000
TZNAME:UTC
DTSTART:20190101T000000
END:STANDARD
END:VTIMEZONE
BEGIN:VEVENT
DTSTART;TZID=UTC:20200302T120000
DTEND;TZID=UTC:20200302T130000
DTSTAMP:20260422T174153
CREATED:20200226T200852Z
LAST-MODIFIED:20200226T200852Z
UID:12421-1583150400-1583154000@njacts.rbhs.rutgers.edu
SUMMARY:Child Health Institute of New Jersey Science Seminar
DESCRIPTION:Child Health Institute of New Jersey Science Seminar-Environmental Cues that Shape the Gamma Delta Intraepithelial Lymphocyte Homeostasis and Activation\, Karen L. Edelblum\, Rutgers. Child Health Institute of New Jersey Room 3209\, 89 French Street\, New Brunswick.
URL:https://njacts.rbhs.rutgers.edu/event/child-health-institute-of-new-jersey-science-seminar-4/
LOCATION:Child Health Institute of NJ\, Room 3101\, 89 French Street\, New Brunswick\, NJ\, 08901\, United States
END:VEVENT
BEGIN:VEVENT
DTSTART;TZID=UTC:20200302T160000
DTEND;TZID=UTC:20200302T170000
DTSTAMP:20260422T174153
CREATED:20200302T192159Z
LAST-MODIFIED:20200302T192159Z
UID:12491-1583164800-1583168400@njacts.rbhs.rutgers.edu
SUMMARY:RWJMS Medical School Infectious Disease Seminar
DESCRIPTION:RWJMS Medical School Infectious Disease Seminar-Marshalling Natural Bacteriophage against KPC Klebsiella pneumoniae: Insights into phage resistance evolution and therapeutic phage efficacy in vivo\, Shayla Hesse\, NIH. Medical Education Building\, Lecture Hall 102\, 1 Robert Wood Johnson Place\, New Brunswick.
URL:https://njacts.rbhs.rutgers.edu/event/rwjms-medical-school-infectious-disease-seminar/
LOCATION:Medical Education Building\, Lecture Hall 102\, 1 Robert Wood Johnson Place\, New Brunswick\, NJ\, 08901\, United States
END:VEVENT
BEGIN:VEVENT
DTSTART;TZID=UTC:20200302T170000
DTEND;TZID=UTC:20200302T200000
DTSTAMP:20260422T174153
CREATED:20200203T202930Z
LAST-MODIFIED:20200203T202930Z
UID:11948-1583168400-1583179200@njacts.rbhs.rutgers.edu
SUMMARY:Biomedical Engineering Cell-Gene Therapy Seminar Series
DESCRIPTION:Biomedical Engineering Cell-Gene Therapy Seminar Series-Principles of Gene Therapy\, Biju Parekkadan\, Rutgers and Ligand-directed Targeting & Molecular Imaging in Cancer and Obesity\, Renata Pasquali\, Rutgers. Biomedical Engineering\, Auditorium\, 599 Taylor Road\, Piscataway.
URL:https://njacts.rbhs.rutgers.edu/event/biomedical-engineering-cell-gene-therapy-seminar-series-5/
LOCATION:Biomedical Engineering\, 599 Taylor Road\, Piscataway\, NJ\, 08854\, United States
END:VEVENT
BEGIN:VEVENT
DTSTART;TZID=UTC:20200302T181500
DTEND;TZID=UTC:20200302T193500
DTSTAMP:20260422T174153
CREATED:20200204T193701Z
LAST-MODIFIED:20200204T193701Z
UID:12018-1583172900-1583177700@njacts.rbhs.rutgers.edu
SUMMARY:Ernest Mario School of Pharmacy Medicinal Chemistry Seminar
DESCRIPTION:Ernest Mario School of Pharmacy Medicinal Chemistry Seminar- Metabolic ID and Profiling in Drug Design\, Zhoupeng Zhang\, Merck. Ernest Mario School of Pharmacy\, Room 288\, William Levine Hall\, 160 Frelinghuysen Road\, Piscataway.
URL:https://njacts.rbhs.rutgers.edu/event/ernest-mario-school-of-pharmacy-medicinal-chemistry-seminar-3/
LOCATION:Ernest Mario School of Pharmacy\, Room 288\, 160 Frelinghuysen Road\, Piscataway\, NJ\, 08854\, United States
END:VEVENT
BEGIN:VEVENT
DTSTART;TZID=UTC:20200303T173000
DTEND;TZID=UTC:20200303T193000
DTSTAMP:20260422T174153
CREATED:20200302T194214Z
LAST-MODIFIED:20200302T194214Z
UID:12493-1583256600-1583263800@njacts.rbhs.rutgers.edu
SUMMARY:Rutgers School of Health Professions Open House
DESCRIPTION:Rutgers School of Health Professions Open House-Please join us at our Virtual Open House to learn more about our B.S. in Radiologic Imaging Modalities and our certificate program. Our online programs are for ARRT-credentialed radiologic technicians who want to increase their knowledge and marketability. For more information.  To register.
URL:https://njacts.rbhs.rutgers.edu/event/rutgers-school-of-health-professions-open-house/
END:VEVENT
BEGIN:VEVENT
DTSTART;TZID=UTC:20200304T104500
DTEND;TZID=UTC:20200304T114500
DTSTAMP:20260422T174153
CREATED:20200304T183043Z
LAST-MODIFIED:20200304T183043Z
UID:12608-1583318700-1583322300@njacts.rbhs.rutgers.edu
SUMMARY:Biomedical Engineering Seminar
DESCRIPTION:Biomedical Engineering Seminar-Micro-construction – Building Homes of the Future for the Modern Cell\, Sasha Cai Lesher-Perez\, University of California\, Los Angeles.  Biomedical Engineering Building\, Room 116\, 599 Taylor Road\, Piscataway.
URL:https://njacts.rbhs.rutgers.edu/event/biomedical-engineering-seminar-2/
LOCATION:Biomedical Engineering\, 599 Taylor Road\, Piscataway\, NJ\, 08854\, United States
END:VEVENT
BEGIN:VEVENT
DTSTART;TZID=UTC:20200304T120000
DTEND;TZID=UTC:20200304T130000
DTSTAMP:20260422T174153
CREATED:20200303T183010Z
LAST-MODIFIED:20200303T183010Z
UID:12539-1583323200-1583326800@njacts.rbhs.rutgers.edu
SUMMARY:CABM Seminar Series
DESCRIPTION:CABM Seminar Series-Voyage from the Gates of the Hadean\, Loren Williams\, Georgia Tech University. CABM Room 010\, 679 Hoes Lane West\, Piscataway.
URL:https://njacts.rbhs.rutgers.edu/event/cabm-seminar-series/
LOCATION:CABM\, Seminar Room 010\, 679 Hoes Lane West\, Piscataway\, NJ\, 08854\, United States
END:VEVENT
BEGIN:VEVENT
DTSTART;TZID=UTC:20200304T120000
DTEND;TZID=UTC:20200304T130000
DTSTAMP:20260422T174153
CREATED:20200303T201705Z
LAST-MODIFIED:20200303T201705Z
UID:12568-1583323200-1583326800@njacts.rbhs.rutgers.edu
SUMMARY:Princeton Department of Molecular Biology Butler Seminar Series
DESCRIPTION:Princeton Department of Molecular Biology Butler Seminar Series– RNA methylation in gene expression regulation\, Chuan He\, University of Chicago. Princeton University\, Thomas Laboratory 003\, Department of Molecular Biology\, 119 Lewis Thomas Laboratory\, Washington Road\, Princeton.
URL:https://njacts.rbhs.rutgers.edu/event/princeton-department-of-molecular-biology-butler-seminar-series-2/
LOCATION:Princeton University\, Thomas Laboratory\, 119 Lewis Thomas Laboratory\, Washington Road\, Princeton\, NJ\, 08544-1014\, United States
END:VEVENT
BEGIN:VEVENT
DTSTART;TZID=UTC:20200304T123000
DTEND;TZID=UTC:20200304T133000
DTSTAMP:20260422T174153
CREATED:20200128T205422Z
LAST-MODIFIED:20200128T205422Z
UID:11801-1583325000-1583328600@njacts.rbhs.rutgers.edu
SUMMARY:RWJMS Neurology Grand Rounds
DESCRIPTION:RWJMS Neurology Grand Rounds-Case Presentation\, Victor Kayster\, Robert Wood Johnson Medical School. Clinical Academic Building\, 125 Paterson Street\, Conference Room 1302\, New Brunswick.
URL:https://njacts.rbhs.rutgers.edu/event/rwjms-neurology-grand-rounds-3/
LOCATION:Clinical Academic Building\, Conference Room 1302\, 125 Paterson Street\, New Brunswick\, NJ\, 08901\, United States
END:VEVENT
BEGIN:VEVENT
DTSTART;TZID=UTC:20200304T160000
DTEND;TZID=UTC:20200304T170000
DTSTAMP:20260422T174153
CREATED:20200303T185937Z
LAST-MODIFIED:20200303T185937Z
UID:12550-1583337600-1583341200@njacts.rbhs.rutgers.edu
SUMMARY:CINJ Grand Rounds
DESCRIPTION:CINJ Grand Rounds– Model Neoplasia in the Esophagus with Development and Stem Cells\, Jianwen Que\, Columbia.  Rutgers Cancer Institute of New Jersey\, 195 Little Albany Street\, Auditorium A\, New Brunswick.
URL:https://njacts.rbhs.rutgers.edu/event/cinj-grand-rounds/
LOCATION:Rutgers Cancer Institute of New Jersey\, 1st Floor\, Auditorium A\, 195 Little Albany Street\, New Brunswick\, NJ\, 08901\, United States
END:VEVENT
BEGIN:VEVENT
DTSTART;TZID=UTC:20200304T181500
DTEND;TZID=UTC:20200304T193500
DTSTAMP:20260422T174153
CREATED:20200204T193813Z
LAST-MODIFIED:20200204T193813Z
UID:12020-1583345700-1583350500@njacts.rbhs.rutgers.edu
SUMMARY:Ernest Mario School of Pharmacy Medicinal Chemistry Seminar
DESCRIPTION:Ernest Mario School of Pharmacy Medicinal Chemistry Seminar- Discovery of Vorapaxar – A New Antiplatelet Agent\, Sam Chackalamannil\, Rutgers. Ernest Mario School of Pharmacy\, Room 288\, William Levine Hall\, 160 Frelinghuysen Road\, Piscataway.
URL:https://njacts.rbhs.rutgers.edu/event/ernest-mario-school-of-pharmacy-medicinal-chemistry-seminar-4/
LOCATION:Ernest Mario School of Pharmacy\, Room 288\, 160 Frelinghuysen Road\, Piscataway\, NJ\, 08854\, United States
END:VEVENT
BEGIN:VEVENT
DTSTART;TZID=UTC:20200305T080000
DTEND;TZID=UTC:20200305T090000
DTSTAMP:20260422T174153
CREATED:20200128T214222Z
LAST-MODIFIED:20200128T214222Z
UID:11831-1583395200-1583398800@njacts.rbhs.rutgers.edu
SUMMARY:RWJMS Pediatric Grand Rounds
DESCRIPTION:RWJMS Pediatric Grand Rounds-TBD\, Vidhu V. Thaker\, New York-Presbyterian Columbia & Morgan Stanley Children’s Hospital. Clinical Academic Building\, Room 1302\, 125 Paterson Street\, New Brunswick.
URL:https://njacts.rbhs.rutgers.edu/event/rwjms-pediatric-grand-rounds-6/
LOCATION:Clinical Academic Building\, Conference Room 1302\, 125 Paterson Street\, New Brunswick\, NJ\, 08901\, United States
END:VEVENT
BEGIN:VEVENT
DTSTART;TZID=UTC:20200306T080000
DTEND;TZID=UTC:20200306T090000
DTSTAMP:20260422T174153
CREATED:20200304T193315Z
LAST-MODIFIED:20200304T193315Z
UID:12619-1583481600-1583485200@njacts.rbhs.rutgers.edu
SUMMARY:NJMS Surgery Grand Rounds
DESCRIPTION:NJMS Surgery Grand Rounds– Cardiothoracic Surgery for the General Surgery Resident\, Jordan Dozier\, Rutgers NJMS. Medical Science Building\, Room B610\, New Jersey Medical School\, 185 South Orange Avenue\, Newark.
URL:https://njacts.rbhs.rutgers.edu/event/njms-surgery-grand-rounds/
LOCATION:Medical Science Building\, 185 South Orange Avenue\, Newark\, 07103\, United States
END:VEVENT
BEGIN:VEVENT
DTSTART;TZID=UTC:20200306T080000
DTEND;TZID=UTC:20200306T150000
DTSTAMP:20260422T174153
CREATED:20200326T183048Z
LAST-MODIFIED:20200326T183048Z
UID:12889-1583481600-1583506800@njacts.rbhs.rutgers.edu
SUMMARY:T32 Training Showcase
DESCRIPTION:T32 Training Showcase-Will highlight the T32 Postdoctoral Training Program\, an NIH-funded postdoctoral program that is highly regarded for its innovative multi-institutional collaboration. Rutgers University Life Science Building\, 145 Bevier Road\, Piscataway. For more information.
URL:https://njacts.rbhs.rutgers.edu/event/t32-training-showcase/
LOCATION:Rutgers Life Science Building\, 145 Bevier Road\, Piscataway\, NJ\, 08854\, United States
END:VEVENT
BEGIN:VEVENT
DTSTART;TZID=UTC:20200306T120000
DTEND;TZID=UTC:20200306T130000
DTSTAMP:20260422T174153
CREATED:20200303T190114Z
LAST-MODIFIED:20200303T190114Z
UID:12552-1583496000-1583499600@njacts.rbhs.rutgers.edu
SUMMARY:CINJ Trainee Seminar Series
DESCRIPTION:CINJ Trainee Seminar Series– The Role of a Tumor Suppressor Enhancer of PTEN in T-All\, Luca Tottone\, Rutgers. Rutgers Cancer Institute of New Jersey\, 195 Little Albany Street\, Auditorium B\, New Brunswick.
URL:https://njacts.rbhs.rutgers.edu/event/cinj-trainee-seminar-series-13/
LOCATION:Rutgers Cancer Institute\, Auditorium B\, 1st Floor\, 195 Little Albany Street\, New Brunswick\, NJ\, 08901\, United States
END:VEVENT
BEGIN:VEVENT
DTSTART;TZID=UTC:20200309T090000
DTEND;TZID=UTC:20200309T110000
DTSTAMP:20260422T174153
CREATED:20200302T202647Z
LAST-MODIFIED:20200302T202647Z
UID:12511-1583744400-1583751600@njacts.rbhs.rutgers.edu
SUMMARY:Rutgers Project ECHO\, Maternal Child Health and Opioid Use Disorder
DESCRIPTION:Rutgers Project ECHO\, Maternal Child Health and Opioid Use Disorder-Working with Women through pregnancy to support recovery efforts\, this 12 twice-monthly live video session program (3/9 through 8/24) offers providers and healthcare teams timely information on best practice treatment and care coordination for moms with OUD. For more information.  To register.
URL:https://njacts.rbhs.rutgers.edu/event/rutgers-project-echo-maternal-child-health-and-opioid-use-disorder/
END:VEVENT
BEGIN:VEVENT
DTSTART;TZID=UTC:20200309T170000
DTEND;TZID=UTC:20200309T200000
DTSTAMP:20260422T174153
CREATED:20200203T203037Z
LAST-MODIFIED:20200203T203037Z
UID:11950-1583773200-1583784000@njacts.rbhs.rutgers.edu
SUMMARY:Biomedical Engineering Cell-Gene Therapy Seminar Series
DESCRIPTION:Biomedical Engineering Cell-Gene Therapy Seminar Series-Manufacturing of Viral Vectors- General Principles and Approaches\, Johannes van der Loo\, University of Pennsylvania and Clinical Developments of NK Cell-Based Therapies\, Xiaokui Zhang\, Celularity. Biomedical Engineering\, Auditorium\, 599 Taylor Road\, Piscataway.
URL:https://njacts.rbhs.rutgers.edu/event/biomedical-engineering-cell-gene-therapy-seminar-series-6/
LOCATION:Biomedical Engineering\, 599 Taylor Road\, Piscataway\, NJ\, 08854\, United States
END:VEVENT
BEGIN:VEVENT
DTSTART;TZID=UTC:20200309T181500
DTEND;TZID=UTC:20200309T193500
DTSTAMP:20260422T174153
CREATED:20200204T193917Z
LAST-MODIFIED:20200204T193917Z
UID:12022-1583777700-1583782500@njacts.rbhs.rutgers.edu
SUMMARY:Ernest Mario School of Pharmacy Medicinal Chemistry Seminar
DESCRIPTION:Ernest Mario School of Pharmacy Medicinal Chemistry Seminar- Discovery and safety de-risking of a GPR40 full agonist for the treatment of type 2 diabetes\, Mark R. Player\, Jannsen. Ernest Mario School of Pharmacy\, Room 288\, William Levine Hall\, 160 Frelinghuysen Road\, Piscataway.
URL:https://njacts.rbhs.rutgers.edu/event/ernest-mario-school-of-pharmacy-medicinal-chemistry-seminar-5/
LOCATION:Ernest Mario School of Pharmacy\, Room 288\, 160 Frelinghuysen Road\, Piscataway\, NJ\, 08854\, United States
END:VEVENT
BEGIN:VEVENT
DTSTART;TZID=UTC:20200310T080000
DTEND;TZID=UTC:20200310T163000
DTSTAMP:20260422T174153
CREATED:20200203T203321Z
LAST-MODIFIED:20200203T203321Z
UID:11952-1583827200-1583857800@njacts.rbhs.rutgers.edu
SUMMARY:School of Nursing Continuing Education
DESCRIPTION:School of Nursing Continuing Education-Surge into the Future as an Operating Room Nurse\, A ten-week (March 10\, 2020 – May 15\, 2020) immersion course for nurses who would like to work in an Operating Room. Blackwood\, NJ.  To register.
URL:https://njacts.rbhs.rutgers.edu/event/school-of-nursing-continuing-education/
LOCATION:Blackwood\, Blackwood\, NJ\, 08012\, United States
END:VEVENT
BEGIN:VEVENT
DTSTART;TZID=UTC:20200311T120000
DTEND;TZID=UTC:20200311T130000
DTSTAMP:20260422T174153
CREATED:20200128T194705Z
LAST-MODIFIED:20200128T194705Z
UID:11777-1583928000-1583931600@njacts.rbhs.rutgers.edu
SUMMARY:Institute for Quantitative Biomedicine Seminar Series
DESCRIPTION:Institute for Quantitative Biomedicine Seminar Series-U2AF at the Pre-mRNA Splice Site: A disease-vulnerable step of gene expression\, Clara Kielkopf\, University of Rochester Medical Center. Proteomics Room 120\, Institute for Quantitative Biomedicine at Rutgers\, 174 Frelinghuysen Road\, Piscataway.
URL:https://njacts.rbhs.rutgers.edu/event/institute-for-quantitative-biomedicine-seminar-series-5/
LOCATION:Institute for Quantitative Biomedicine at Rutgers\, Proteomics Room 120\, 174 Frelinghuysen Road\, Piscataway\, NJ\, 08854\, United States
END:VEVENT
BEGIN:VEVENT
DTSTART;TZID=UTC:20200311T120000
DTEND;TZID=UTC:20200311T130000
DTSTAMP:20260422T174153
CREATED:20200303T201818Z
LAST-MODIFIED:20200407T171626Z
UID:12570-1583928000-1583931600@njacts.rbhs.rutgers.edu
SUMMARY:Cancelled-Princeton Department of Molecular Biology Butler Seminar Series
DESCRIPTION:Princeton Department of Molecular Biology Butler Seminar Series– TBA\, Cigall Kadoch\, Harvard University. Princeton University\, Thomas Laboratory 003\, Department of Molecular Biology\, 119 Lewis Thomas Laboratory\, Washington Road\, Princeton.
URL:https://njacts.rbhs.rutgers.edu/event/princeton-department-of-molecular-biology-butler-seminar-series-3/
LOCATION:Princeton University\, Thomas Laboratory\, 119 Lewis Thomas Laboratory\, Washington Road\, Princeton\, NJ\, 08544-1014\, United States
END:VEVENT
BEGIN:VEVENT
DTSTART;TZID=UTC:20200311T120000
DTEND;TZID=UTC:20200311T130000
DTSTAMP:20260422T174153
CREATED:20200310T181427Z
LAST-MODIFIED:20200310T181427Z
UID:12719-1583928000-1583931600@njacts.rbhs.rutgers.edu
SUMMARY:Brain Health Institute Faculty Candidate Seminar
DESCRIPTION:Brain Health Institute Faculty Candidate Seminar-Neural molecular and cellular mechanisms underlying vulnerability towards alcohol abuse\, Miriam E. Bocarsly\, Postdoctoral Fellow\, National Institute on Alcohol Abuse and Alcoholism.  CABM Room 010\, 679 Hoes Lane West\, Piscataway.
URL:https://njacts.rbhs.rutgers.edu/event/brain-health-institute-faculty-candidate-seminar-2/
LOCATION:CABM\, Seminar Room 010\, 679 Hoes Lane West\, Piscataway\, NJ\, 08854\, United States
END:VEVENT
BEGIN:VEVENT
DTSTART;TZID=UTC:20200311T123000
DTEND;TZID=UTC:20200311T133000
DTSTAMP:20260422T174153
CREATED:20200128T205747Z
LAST-MODIFIED:20200407T172709Z
UID:11805-1583929800-1583933400@njacts.rbhs.rutgers.edu
SUMMARY:Cancelled-RWJMS Neurology Grand Rounds
DESCRIPTION:RWJMS Neurology Grand Rounds-TBD\, Deviyani Mehta\, Robert Wood Johnson Medical School. Clinical Academic Building\, 125 Paterson Street\, Conference Room 1302\, New Brunswick.
URL:https://njacts.rbhs.rutgers.edu/event/rwjms-neurology-grand-rounds-5/
LOCATION:Clinical Academic Building\, Conference Room 1302\, 125 Paterson Street\, New Brunswick\, NJ\, 08901\, United States
END:VEVENT
BEGIN:VEVENT
DTSTART;TZID=UTC:20200311T150000
DTEND;TZID=UTC:20200311T160000
DTSTAMP:20260422T174153
CREATED:20200309T175702Z
LAST-MODIFIED:20200309T175702Z
UID:12677-1583938800-1583942400@njacts.rbhs.rutgers.edu
SUMMARY:CINJ Clinical Investigations & Precision Therapeutics Research Program
DESCRIPTION:CINJ Clinical Investigations & Precision Therapeutics Research Program-Precision Therapies that Leverage Tumor Evolution\, Kris C. Wood\, Duke University. Rutgers Cancer Institute of New Jersey\, 195 Little Albany Street\, Auditorium B\, New Brunswick. Join Webex Meeting. Meeting 796 502 038\, harrisja@rutgers.webex.com or dial in +1-650-429-3300 and enter your host PIN 8843.
URL:https://njacts.rbhs.rutgers.edu/event/cinj-clinical-investigations-precision-therapeutics-research-program-3/
LOCATION:Rutgers Cancer Institute\, Auditorium B\, 1st Floor\, 195 Little Albany Street\, New Brunswick\, NJ\, 08901\, United States
END:VEVENT
BEGIN:VEVENT
DTSTART;TZID=UTC:20200311T173000
DTEND;TZID=UTC:20200311T193000
DTSTAMP:20260422T174153
CREATED:20200226T194543Z
LAST-MODIFIED:20200226T194543Z
UID:12414-1583947800-1583955000@njacts.rbhs.rutgers.edu
SUMMARY:Rutgers University Microbiome Program
DESCRIPTION:Rutgers University Microbiome Program-To determine who on the faculty is doing work related to microbiome and microbiome science and to determine who might want to participate in a university-wide microbiome program to begin organizational efforts. Institute for Food\, Nutrition\, and Health\, Room 101\, 61 Dudley Road\, New Brunswick. RSVP here
URL:https://njacts.rbhs.rutgers.edu/event/rutgers-university-microbiome-program/
LOCATION:Institute for Food\, Nutrition\, and Health\, 61 Dudley Road\, New Brunswick\, NJ\, 08901\, United States
ORGANIZER;CN="":MAILTO:dahlen@rbhs.rutgers.edu
END:VEVENT
BEGIN:VEVENT
DTSTART;TZID=UTC:20200311T181500
DTEND;TZID=UTC:20200311T193500
DTSTAMP:20260422T174153
CREATED:20200204T194022Z
LAST-MODIFIED:20200204T194022Z
UID:12024-1583950500-1583955300@njacts.rbhs.rutgers.edu
SUMMARY:Ernest Mario School of Pharmacy Medicinal Chemistry
DESCRIPTION:Ernest Mario School of Pharmacy Medicinal Chemistry Seminar-Discovery of an oral BET inhibitor for the treatment of cancer\, Ashwinikumar Gavai\, Bristol-Myers Squibb. Ernest Mario School of Pharmacy\, Room 288\, William Levine Hall\, 160 Frelinghuysen Road\, Piscataway.
URL:https://njacts.rbhs.rutgers.edu/event/ernest-mario-school-of-pharmacy-medicinal-chemistry/
LOCATION:Ernest Mario School of Pharmacy\, Room 288\, 160 Frelinghuysen Road\, Piscataway\, NJ\, 08854\, United States
END:VEVENT
BEGIN:VEVENT
DTSTART;TZID=UTC:20200312T080000
DTEND;TZID=UTC:20200312T090000
DTSTAMP:20260422T174153
CREATED:20200128T214325Z
LAST-MODIFIED:20200128T214325Z
UID:11835-1584000000-1584003600@njacts.rbhs.rutgers.edu
SUMMARY:RWJMS Pediatric Grand Rounds
DESCRIPTION:RWJMS Pediatric Grand Rounds-Pediatric Stroke: Finding (and Treating) the Needle in the Haystack\, Lauren Belsow\, University of Pennsylvania. Clinical Academic Building\, Room 1302\, 125 Paterson Street\, New Brunswick.
URL:https://njacts.rbhs.rutgers.edu/event/rwjms-pediatric-grand-rounds-7/
LOCATION:Clinical Academic Building\, Conference Room 1302\, 125 Paterson Street\, New Brunswick\, NJ\, 08901\, United States
END:VEVENT
BEGIN:VEVENT
DTSTART;TZID=UTC:20200312T120000
DTEND;TZID=UTC:20200312T130000
DTSTAMP:20260422T174153
CREATED:20200128T190508Z
LAST-MODIFIED:20200128T190508Z
UID:11756-1584014400-1584018000@njacts.rbhs.rutgers.edu
SUMMARY:Rutgers Brain Health Institute Plenary Seminar Series
DESCRIPTION:Rutgers Brain Health Institute Plenary Seminar Series– The major goal of Stuber Lab research is to delineate the neural circuits involved in the manifestation of neuropsychiatric disorders including addiction\, maladaptive eating behaviors\, and anxiety\, Garret Stuber\, University of Washington. Proteomics Seminar Room\, Institute for Quantitative Biomedicine at Rutgers\, 174 Frelinghuysen Road\, Piscataway.
URL:https://njacts.rbhs.rutgers.edu/event/rutgers-brain-health-institute-plenary-seminar-series/
LOCATION:Institute for Quantitative Biomedicine at Rutgers\, Proteomics Room 120\, 174 Frelinghuysen Road\, Piscataway\, NJ\, 08854\, United States
END:VEVENT
BEGIN:VEVENT
DTSTART;TZID=UTC:20200312T120000
DTEND;TZID=UTC:20200312T130000
DTSTAMP:20260422T174153
CREATED:20200309T183738Z
LAST-MODIFIED:20200309T183738Z
UID:12694-1584014400-1584018000@njacts.rbhs.rutgers.edu
SUMMARY:Rutgers School of Public Health/EOHSI Special Seminar
DESCRIPTION:Rutgers School of Public Health/EOHSI Special Seminar– Modeling COVID-19 (Coronavirus) in New Jersey: What can and cannot be predicted\, Nathaniel Hupert\, Cornell University. Environmental and Occupational Health Sciences Institute (EOHSI)\, Conference Room C\, 170 Frelinghuysen Road\, Piscataway.
URL:https://njacts.rbhs.rutgers.edu/event/rutgers-school-of-public-health-eohsi-special-seminar/
LOCATION:EOHSI\, Conference Room C\, 170 Frelinghuysen Road\, Piscataway\, NJ\, 08854\, United States
END:VEVENT
BEGIN:VEVENT
DTSTART;TZID=UTC:20200312T120000
DTEND;TZID=UTC:20200312T133000
DTSTAMP:20260422T174153
CREATED:20200303T184707Z
LAST-MODIFIED:20200303T184707Z
UID:12545-1584014400-1584019800@njacts.rbhs.rutgers.edu
SUMMARY:Institute for Health\, Health Care Policy and Aging Research Lecture
DESCRIPTION:Institute for Health\, Health Care Policy and Aging Research Lecture– Mobile health for substance use: What does your smartphone know about your daily routine? Tammy Chung\, Rutgers.  Institute for Health\, Health Care Policy and Aging Research\, 1st Floor Conference Room\, 120 Paterson St\, New Brunswick.
URL:https://njacts.rbhs.rutgers.edu/event/institute-for-health-health-care-policy-and-aging-research-lecture-4/
LOCATION:Institute for Health\, Health Care Policy and Aging\, 1st Floor\, Room 120\, 112 Paterson Street\, New Brunswick\, NJ\, 08901\, United States
END:VEVENT
END:VCALENDAR