BEGIN:VCALENDAR
VERSION:2.0
PRODID:-//New Jersey Alliance for Clinical and Translational Science - ECPv6.15.14//NONSGML v1.0//EN
CALSCALE:GREGORIAN
METHOD:PUBLISH
X-WR-CALNAME:New Jersey Alliance for Clinical and Translational Science
X-ORIGINAL-URL:https://njacts.rbhs.rutgers.edu
X-WR-CALDESC:Events for New Jersey Alliance for Clinical and Translational Science
REFRESH-INTERVAL;VALUE=DURATION:PT1H
X-Robots-Tag:noindex
X-PUBLISHED-TTL:PT1H
BEGIN:VTIMEZONE
TZID:UTC
BEGIN:STANDARD
TZOFFSETFROM:+0000
TZOFFSETTO:+0000
TZNAME:UTC
DTSTART:20190101T000000
END:STANDARD
END:VTIMEZONE
BEGIN:VEVENT
DTSTART;TZID=UTC:20200203T120000
DTEND;TZID=UTC:20200203T130000
DTSTAMP:20260424T233221
CREATED:20200127T221140Z
LAST-MODIFIED:20200127T221140Z
UID:11740-1580731200-1580734800@njacts.rbhs.rutgers.edu
SUMMARY:CABM/Basic Sciences Faculty Candidate Seminar
DESCRIPTION:CABM/Basic Sciences Faculty Candidate Seminar-Blood Clot Structure and Mechanics in Health and Disease\, Valerie Tutwiler\, University of Pennsylvania. CABM Room 010\, 679 Hoes Lane West\, Piscataway.
URL:https://njacts.rbhs.rutgers.edu/event/cabm-basic-sciences-faculty-candidate-seminar/
LOCATION:CABM\, Seminar Room 010\, 679 Hoes Lane West\, Piscataway\, NJ\, 08854\, United States
END:VEVENT
BEGIN:VEVENT
DTSTART;TZID=UTC:20200203T130000
DTEND;TZID=UTC:20200203T160000
DTSTAMP:20260424T233221
CREATED:20200203T210712Z
LAST-MODIFIED:20200203T210712Z
UID:11988-1580734800-1580745600@njacts.rbhs.rutgers.edu
SUMMARY:School of Nursing Continuing Education
DESCRIPTION:School of Nursing Continuing Education-Detrimental Impact of Substance Use Disorder in the Oral Cavity\, Mahnaz Fatahzadeh. Stanley S. Bergen\, Jr. Building\, room 1023\, 65 Bergen Street\, Newark. To register.
URL:https://njacts.rbhs.rutgers.edu/event/school-of-nursing-continuing-education-9/
LOCATION:Stanley S. Bergen Jr. Building\, 65 Bergen Street\, Newark\, NJ\, United States
END:VEVENT
BEGIN:VEVENT
DTSTART;TZID=UTC:20200203T170000
DTEND;TZID=UTC:20200203T200000
DTSTAMP:20260424T233221
CREATED:20200203T202306Z
LAST-MODIFIED:20200203T202306Z
UID:11935-1580749200-1580760000@njacts.rbhs.rutgers.edu
SUMMARY:Biomedical Engineering Cell-Gene Therapy Seminar Series
DESCRIPTION:Biomedical Engineering Cell-Gene Therapy Seminar Series– Lessons from the History of the Cell Therapy Industry: The evolving answers to the primary constraints of manufacturing development\, Robert Preti\, HCATS and Quality Target Product Profiles\, David Smith\, HCATS. Biomedical Engineering\, Auditorium\, 599 Taylor Road\, Piscataway.
URL:https://njacts.rbhs.rutgers.edu/event/biomedical-engineering-cell-gene-therapy-seminar-series/
LOCATION:Biomedical Engineering\, 599 Taylor Road\, Piscataway\, NJ\, 08854\, United States
END:VEVENT
BEGIN:VEVENT
DTSTART;TZID=UTC:20200203T173000
DTEND;TZID=UTC:20200203T183000
DTSTAMP:20260424T233221
CREATED:20200203T202446Z
LAST-MODIFIED:20200203T202446Z
UID:11938-1580751000-1580754600@njacts.rbhs.rutgers.edu
SUMMARY:Annual Humanism Talks
DESCRIPTION:Annual Humanism Talks-The 4th Annual Humanism Talks – Humanism Talks are similar to TED talks\, but are given by our very own students and faculty. Medical Science Building\, Room B552\, 185 South Orange Avenue\, Newark. A reception will follow in the Grand Foyer. RSVP.
URL:https://njacts.rbhs.rutgers.edu/event/annual-humanism-talks/
LOCATION:Medical Science Building\, 185 South Orange Avenue\, Newark\, 07103\, United States
END:VEVENT
BEGIN:VEVENT
DTSTART;TZID=UTC:20200204T120000
DTEND;TZID=UTC:20200204T130000
DTSTAMP:20260424T233221
CREATED:20200128T201533Z
LAST-MODIFIED:20200128T201534Z
UID:11789-1580817600-1580821200@njacts.rbhs.rutgers.edu
SUMMARY:NJMS Seminar
DESCRIPTION:NJMS Seminar-bioRxiv: Communicating at the speed of science with preprints\, Richard Sever\, Cold Spring Harbor Laboratory Press. Rutgers International Center for Public Health (ICPH)\, 225 Warren Street\, 1st Floor Auditorium\, Newark.
URL:https://njacts.rbhs.rutgers.edu/event/njms-seminar/
LOCATION:International Center for Public Health\, First Floor Auditorium\, 225 Warren Street\, Newark\, 07103\, United States
END:VEVENT
BEGIN:VEVENT
DTSTART;TZID=UTC:20200204T120000
DTEND;TZID=UTC:20200204T133000
DTSTAMP:20260424T233221
CREATED:20190924T195348Z
LAST-MODIFIED:20190924T195348Z
UID:9859-1580817600-1580823000@njacts.rbhs.rutgers.edu
SUMMARY:K-Award Grant Writing Seminar
DESCRIPTION:K-Award Grant Writing Seminar: Responding to Peer Review-It’s Not Over Till It’s Over. Institute for Health\, Health Care Policy and Aging Research\, 120 Paterson St\, New Brunswick.
URL:https://njacts.rbhs.rutgers.edu/event/k-award-grant-writing-seminar-8/
LOCATION:Institute for Health\, Health Care Policy and Aging Research\, 1st floor conference room\, 112 Paterson Street\, New Brunswick\, 08901\, United States
END:VEVENT
BEGIN:VEVENT
DTSTART;TZID=UTC:20200204T150000
DTEND;TZID=UTC:20200204T160000
DTSTAMP:20260424T233221
CREATED:20200204T215005Z
LAST-MODIFIED:20200204T215005Z
UID:12032-1580828400-1580832000@njacts.rbhs.rutgers.edu
SUMMARY:CINJ Clinical Investigations & Precision Therapeutics Research Program
DESCRIPTION:CINJ Clinical Investigations & Precision Therapeutics Research Program– Effective combinatorial immunotherapy for pancreatic ductal adenocarcinoma\, Pat Gulhati\, University of Texas. Rutgers Cancer Institute of New Jersey\, 195 Little Albany Street\, Auditorium B\, New Brunswick.
URL:https://njacts.rbhs.rutgers.edu/event/cinj-clinical-investigations-precision-therapeutics-research-program-2/
LOCATION:Rutgers Cancer Institute\, Auditorium B\, 1st Floor\, 195 Little Albany Street\, New Brunswick\, NJ\, 08901\, United States
END:VEVENT
BEGIN:VEVENT
DTSTART;TZID=UTC:20200205T123000
DTEND;TZID=UTC:20200205T133000
DTSTAMP:20260424T233221
CREATED:20200128T205315Z
LAST-MODIFIED:20200128T205315Z
UID:11799-1580905800-1580909400@njacts.rbhs.rutgers.edu
SUMMARY:RWJMS Neurology Grand Rounds
DESCRIPTION:RWJMS Neurology Grand Rounds-Patient Care\, Ram Mani\, Robert Wood Johnson Medical School. Clinical Academic Building\, 125 Paterson Street\, Conference Room 1302\, New Brunswick.
URL:https://njacts.rbhs.rutgers.edu/event/rwjms-neurology-grand-rounds-2/
LOCATION:Clinical Academic Building\, Conference Room 1302\, 125 Paterson Street\, New Brunswick\, NJ\, 08901\, United States
END:VEVENT
BEGIN:VEVENT
DTSTART;TZID=UTC:20200205T160000
DTEND;TZID=UTC:20200205T170000
DTSTAMP:20260424T233221
CREATED:20200127T225717Z
LAST-MODIFIED:20200127T225717Z
UID:11751-1580918400-1580922000@njacts.rbhs.rutgers.edu
SUMMARY:Princeton Department of Molecular Biology Special Seminar
DESCRIPTION:Princeton Department of Molecular Biology Special Seminar-Cas13-based technologies for viral detection and destruction\, Cameron Myhrvold\, Harvard. Princeton University\, Schultz Laboratory 107\, Princeton.
URL:https://njacts.rbhs.rutgers.edu/event/princeton-department-of-molecular-biology-special-seminar-6/
LOCATION:Princeton University\, Schultz Laboratory\, Princeton\, 08544-1014\, United States
END:VEVENT
BEGIN:VEVENT
DTSTART;TZID=UTC:20200205T160000
DTEND;TZID=UTC:20200205T170000
DTSTAMP:20260424T233221
CREATED:20200130T212454Z
LAST-MODIFIED:20200130T212454Z
UID:11901-1580918400-1580922000@njacts.rbhs.rutgers.edu
SUMMARY:CINJ Grand Round Lecture Series
DESCRIPTION:CINJ Grand Round Lecture Series-Cancer Survivorship 2020-Current Status and Future Research Directions\, Deborah Mayer\, University of North Carolina. Rutgers Cancer Institute of New Jersey\, Auditorium A\, 195 Little Albany Street\, New Brunswick.
URL:https://njacts.rbhs.rutgers.edu/event/cinj-grand-round-lecture-series-2/
LOCATION:Rutgers Cancer Institute of New Jersey\, 1st Floor\, Auditorium A\, 195 Little Albany Street\, New Brunswick\, NJ\, 08901\, United States
END:VEVENT
BEGIN:VEVENT
DTSTART;TZID=UTC:20200206T080000
DTEND;TZID=UTC:20200206T090000
DTSTAMP:20260424T233221
CREATED:20200128T213635Z
LAST-MODIFIED:20200128T213635Z
UID:11821-1580976000-1580979600@njacts.rbhs.rutgers.edu
SUMMARY:RWJMS Pediatric Grand Rounds
DESCRIPTION:RWJMS Pediatric Grand Rounds-Eating Disorders in Children and Adolescents\, Anna Tanner\, Medical Services-Veritas Collaborative. Clinical Academic Building\, Room 1302\, 125 Paterson Street\, New Brunswick.
URL:https://njacts.rbhs.rutgers.edu/event/rwjms-pediatric-grand-rounds-2/
LOCATION:Clinical Academic Building\, Conference Room 1302\, 125 Paterson Street\, New Brunswick\, NJ\, 08901\, United States
END:VEVENT
BEGIN:VEVENT
DTSTART;TZID=UTC:20200206T120000
DTEND;TZID=UTC:20200206T133000
DTSTAMP:20260424T233221
CREATED:20200127T223203Z
LAST-MODIFIED:20200127T223203Z
UID:11745-1580990400-1580995800@njacts.rbhs.rutgers.edu
SUMMARY:Institute for Health\, Health Care Policy and Aging Research Lecture
DESCRIPTION:Institute for Health\, Health Care Policy and Aging Research Lecture-Infertility and Beyond: History and Reproductive Technology from Test-Tube Babies to Uterus Transplants\, Margaret Marsh\, University of Pennsylvania. Institute for Health\, Health Care Policy and Aging Research\, 1st Floor Conference Room\, 120 Paterson St\, New Brunswick.
URL:https://njacts.rbhs.rutgers.edu/event/institute-for-health-health-care-policy-and-aging-research-lecture-2/
LOCATION:Institute for Health\, Health Care Policy and Aging\, 1st Floor\, Room 120\, 112 Paterson Street\, New Brunswick\, NJ\, 08901\, United States
END:VEVENT
BEGIN:VEVENT
DTSTART;TZID=UTC:20200210T120000
DTEND;TZID=UTC:20200210T130000
DTSTAMP:20260424T233221
CREATED:20200127T221506Z
LAST-MODIFIED:20200127T221506Z
UID:11742-1581336000-1581339600@njacts.rbhs.rutgers.edu
SUMMARY:CABM/Basic Sciences Faculty Candidate Seminar
DESCRIPTION:CABM/Basic Sciences Faculty Candidate Seminar-Selective mRNA Translation in the Cellular Stress Response\, Deepika Vasudevan\, NYU Langone Medical Center. CABM Room 010\, 679 Hoes Lane West\, Piscataway.
URL:https://njacts.rbhs.rutgers.edu/event/cabm-basic-sciences-faculty-candidate-seminar-2/
LOCATION:CABM\, Seminar Room 010\, 679 Hoes Lane West\, Piscataway\, NJ\, 08854\, United States
END:VEVENT
BEGIN:VEVENT
DTSTART;TZID=UTC:20200210T134500
DTEND;TZID=UTC:20200210T144500
DTSTAMP:20260424T233221
CREATED:20200128T200046Z
LAST-MODIFIED:20200128T200046Z
UID:11787-1581342300-1581345900@njacts.rbhs.rutgers.edu
SUMMARY:Biomedical Engineering Seminar
DESCRIPTION:Biomedical Engineering Seminar-Unique Challenges for Head and Neck Reconstructive Surgeons: Opportunities for Innovation\, Boris Paskhover\, Rutgers New Jersey Medical School. Biomedical Engineering Building\, Room 102\, 599 Taylor Road\, Piscataway.
URL:https://njacts.rbhs.rutgers.edu/event/biomedical-engineering-seminar/
LOCATION:Biomedical Engineering\, 599 Taylor Road\, Piscataway\, NJ\, 08854\, United States
END:VEVENT
BEGIN:VEVENT
DTSTART;TZID=UTC:20200210T170000
DTEND;TZID=UTC:20200210T180000
DTSTAMP:20260424T233221
CREATED:20200212T224529Z
LAST-MODIFIED:20200212T224529Z
UID:12132-1581354000-1581357600@njacts.rbhs.rutgers.edu
SUMMARY:Rutgers School of Public Health Signature Seminar
DESCRIPTION:2/10/20 5:00 pm-6:00 pm: Rutgers School of Public Health Signature Seminar-21PHirst Signature Seminar: Bottle of Lies\, The Hidden World Behind America’s Low-Cost Drugs\, Katherine Eban. Rutgers School of Public Health\, 683 Hoes Lane West\, Piscataway.
URL:https://njacts.rbhs.rutgers.edu/event/rutgers-school-of-public-health-signature-seminar/
LOCATION:Rutgers School of Public Health\, 683 Hoes Lane West\, Piscataway\, NJ\, 08854\, United States
END:VEVENT
BEGIN:VEVENT
DTSTART;TZID=UTC:20200210T170000
DTEND;TZID=UTC:20200210T200000
DTSTAMP:20260424T233221
CREATED:20200203T202603Z
LAST-MODIFIED:20200203T202603Z
UID:11942-1581354000-1581364800@njacts.rbhs.rutgers.edu
SUMMARY:Biomedical Engineering Cell-Gene Therapy Seminar Series
DESCRIPTION:Biomedical Engineering Cell-Gene Therapy Seminar Series– CAR T cell biology\, Andrew Fesnak\, University of Pennsylvania and CAR-T manufacturing\, Tom Brieva\, Celgene. Biomedical Engineering\, Auditorium\, 599 Taylor Road\, Piscataway.
URL:https://njacts.rbhs.rutgers.edu/event/biomedical-engineering-cell-gene-therapy-seminar-series-2/
LOCATION:Biomedical Engineering\, 599 Taylor Road\, Piscataway\, NJ\, 08854\, United States
END:VEVENT
BEGIN:VEVENT
DTSTART;TZID=UTC:20200211T123000
DTEND;TZID=UTC:20200211T133000
DTSTAMP:20260424T233221
CREATED:20200108T200544Z
LAST-MODIFIED:20200108T201321Z
UID:11428-1581424200-1581427800@njacts.rbhs.rutgers.edu
SUMMARY:Princeton Computer Science Department Colloquium Series
DESCRIPTION:Princeton Computer Science Department Colloquium Series– Learning to predict the future in healthcare\, Kira Radinsky\, Diagnostic Robotics. Computer Science Building\, Small Auditorium-Room 105\, 35 Olden Street\, Princeton. Read more.
URL:https://njacts.rbhs.rutgers.edu/event/princeton-computer-science-department-colloquium-series/
LOCATION:Princeton Computer Science Building\, 35 Olden Street\, Princeton\, NJ\, 08544\, United States
END:VEVENT
BEGIN:VEVENT
DTSTART;TZID=UTC:20200212T100000
DTEND;TZID=UTC:20200212T110000
DTSTAMP:20260424T233221
CREATED:20200210T203112Z
LAST-MODIFIED:20200210T203112Z
UID:12101-1581501600-1581505200@njacts.rbhs.rutgers.edu
SUMMARY:Rutgers Princeton Center for Computational Cognitive Neuropsychiatry Seminar
DESCRIPTION:Rutgers Princeton Center for Computational Cognitive Neuropsychiatry Seminar– Neurocognitive Predictors of Depression Relapse\, Quentin Huys\, University College London. Rutgers University Behavioral Healthcare\, Rm 101\, Princeton Neuroscience Institute and Chairman’s Conference Room\, D-203\, 671 Hoes Lane\, Piscataway. For those that cannot attend in person\, use https://global.gotomeeting.com/join/196596085
URL:https://njacts.rbhs.rutgers.edu/event/rutgers-princeton-center-for-computational-cognitive-neuropsychiatry-seminar-2/
LOCATION:Rutgers University Behavioral Healthcare\, 671 Hoes Lane\, Piscataway\, 08854\, United States
ORGANIZER;CN="":MAILTO:dahlen@rbhs.rutgers.edu
END:VEVENT
BEGIN:VEVENT
DTSTART;TZID=UTC:20200212T120000
DTEND;TZID=UTC:20200212T130000
DTSTAMP:20260424T233221
CREATED:20200128T194353Z
LAST-MODIFIED:20200128T194353Z
UID:11771-1581508800-1581512400@njacts.rbhs.rutgers.edu
SUMMARY:Institute for Quantitative Biomedicine Seminar Series
DESCRIPTION:Institute for Quantitative Biomedicine Seminar Series-Genome-wide study of pioneer factors in budding yeast\, Lu Bai\, Penn State University. Proteomics Room 120\, Institute for Quantitative Biomedicine at Rutgers\, 174 Frelinghuysen Road\, Piscataway.
URL:https://njacts.rbhs.rutgers.edu/event/institute-for-quantitative-biomedicine-seminar-series-2/
LOCATION:Institute for Quantitative Biomedicine at Rutgers\, Proteomics Room 120\, 174 Frelinghuysen Road\, Piscataway\, NJ\, 08854\, United States
END:VEVENT
BEGIN:VEVENT
DTSTART;TZID=UTC:20200212T160000
DTEND;TZID=UTC:20200212T170000
DTSTAMP:20260424T233221
CREATED:20200210T202135Z
LAST-MODIFIED:20200210T202135Z
UID:12099-1581523200-1581526800@njacts.rbhs.rutgers.edu
SUMMARY:Princeton Department of Molecular Biology Special Seminar
DESCRIPTION:Princeton Department of Molecular Biology Special Seminar-How aberrant influenza virus replication triggers the innate immune response\, Aartjan te Velthuis\, Cambridge. Princeton University\, Schultz Laboratory 107\, Princeton.
URL:https://njacts.rbhs.rutgers.edu/event/princeton-department-of-molecular-biology-special-seminar-7/
LOCATION:Princeton University\, Schultz Laboratory\, Princeton\, 08544-1014\, United States
END:VEVENT
BEGIN:VEVENT
DTSTART;TZID=UTC:20200212T160000
DTEND;TZID=UTC:20200212T170000
DTSTAMP:20260424T233221
CREATED:20200210T203618Z
LAST-MODIFIED:20200210T203618Z
UID:12107-1581523200-1581526800@njacts.rbhs.rutgers.edu
SUMMARY:CINJ Grand Round Lecture Series
DESCRIPTION:CINJ Grand Round Lecture Series-Setting Priorities at Replication Origin: Preventing Runaway DNA Synthesis in Cancer Cells\, Mirit Aladjem\, National Cancer Institute. Rutgers Cancer Institute of New Jersey\, Auditorium A\, 195 Little Albany Street\, New Brunswick.
URL:https://njacts.rbhs.rutgers.edu/event/cinj-grand-round-lecture-series-3/
LOCATION:Rutgers Cancer Institute of New Jersey\, 1st Floor\, Auditorium A\, 195 Little Albany Street\, New Brunswick\, NJ\, 08901\, United States
END:VEVENT
BEGIN:VEVENT
DTSTART;TZID=UTC:20200213T080000
DTEND;TZID=UTC:20200213T090000
DTSTAMP:20260424T233221
CREATED:20200128T213737Z
LAST-MODIFIED:20200128T213737Z
UID:11823-1581580800-1581584400@njacts.rbhs.rutgers.edu
SUMMARY:RWJMS Pediatric Grand Rounds
DESCRIPTION:RWJMS Pediatric Grand Rounds-New Hepatitis C Therapies: Impact on Treatment Strategies in Children\, Nadia Ovchinsky\, Albert Einstein College of Medicine. Clinical Academic Building\, Room 1302\, 125 Paterson Street\, New Brunswick.
URL:https://njacts.rbhs.rutgers.edu/event/rwjms-pediatric-grand-rounds-3/
LOCATION:Clinical Academic Building\, Conference Room 1302\, 125 Paterson Street\, New Brunswick\, NJ\, 08901\, United States
END:VEVENT
BEGIN:VEVENT
DTSTART;TZID=UTC:20200214T120000
DTEND;TZID=UTC:20200214T130000
DTSTAMP:20260424T233221
CREATED:20200217T211058Z
LAST-MODIFIED:20200217T211058Z
UID:12178-1581681600-1581685200@njacts.rbhs.rutgers.edu
SUMMARY:CINJ Trainee Seminar Series
DESCRIPTION:CINJ Trainee Seminar Series– CXC Chemokine/Receptor Axis Profile and Metastasis Site in Prostate Cancer\, Naoya Nagaya\, Rutgers. Rutgers Cancer Institute of New Jersey\, 195 Little Albany Street\, Auditorium B\, New Brunswick.
URL:https://njacts.rbhs.rutgers.edu/event/cinj-trainee-seminar-series-11/
LOCATION:Rutgers Cancer Institute\, Auditorium B\, 1st Floor\, 195 Little Albany Street\, New Brunswick\, NJ\, 08901\, United States
END:VEVENT
BEGIN:VEVENT
DTSTART;TZID=UTC:20200215T080000
DTEND;TZID=UTC:20200215T141500
DTSTAMP:20260424T233221
CREATED:20191217T214816Z
LAST-MODIFIED:20200113T225132Z
UID:11154-1581753600-1581776100@njacts.rbhs.rutgers.edu
SUMMARY:School of Nursing IV Therapy Training Course
DESCRIPTION:School of Nursing IV Therapy Training Course-This course presents all the core skills needed for the healthcare practitioner to become familiar with intravenous therapy. Rutgers University\, School of Nursing\, Stanley S. Bergen\, Jr. Building\, Newark. To register.
URL:https://njacts.rbhs.rutgers.edu/event/iv-therapy-training-course-3/
LOCATION:Stanley S. Bergen Jr. Building\, 65 Bergen Street\, Newark\, NJ\, United States
END:VEVENT
BEGIN:VEVENT
DTSTART;TZID=UTC:20200217T170000
DTEND;TZID=UTC:20200217T200000
DTSTAMP:20260424T233221
CREATED:20200203T202732Z
LAST-MODIFIED:20200203T202732Z
UID:11944-1581958800-1581969600@njacts.rbhs.rutgers.edu
SUMMARY:Biomedical Engineering Cell-Gene Therapy Seminar Series
DESCRIPTION:Biomedical Engineering Cell-Gene Therapy Seminar Series– Ex Vivo Mesenchymal Stem Cell Therapy\, Rita Barcia\, Sentien and CAR Macrophages: Pioneering the Development of Engineered Macrophages\, Sascha Abramson\, Carisma Therapeutics. Biomedical Engineering\, Auditorium\, 599 Taylor Road\, Piscataway.
URL:https://njacts.rbhs.rutgers.edu/event/biomedical-engineering-cell-gene-therapy-seminar-series-3/
LOCATION:Biomedical Engineering\, 599 Taylor Road\, Piscataway\, NJ\, 08854\, United States
END:VEVENT
BEGIN:VEVENT
DTSTART;TZID=UTC:20200218T120000
DTEND;TZID=UTC:20200218T130000
DTSTAMP:20260424T233221
CREATED:20200128T201650Z
LAST-MODIFIED:20200128T201650Z
UID:11791-1582027200-1582030800@njacts.rbhs.rutgers.edu
SUMMARY:NJMS Seminar
DESCRIPTION:NJMS Seminar-Tuberculosis: Recognizing the problem T cells and immunity to infection\, Samuel Behar\, University of Massachusetts Medical School. Rutgers International Center for Public Health (ICPH)\, 225 Warren Street\, 1st Floor Auditorium\, Newark.
URL:https://njacts.rbhs.rutgers.edu/event/njms-seminar-2/
LOCATION:International Center for Public Health\, First Floor Auditorium\, 225 Warren Street\, Newark\, 07103\, United States
END:VEVENT
BEGIN:VEVENT
DTSTART;TZID=UTC:20200219T120000
DTEND;TZID=UTC:20200219T130000
DTSTAMP:20260424T233221
CREATED:20200128T194459Z
LAST-MODIFIED:20200128T194459Z
UID:11773-1582113600-1582117200@njacts.rbhs.rutgers.edu
SUMMARY:Institute for Quantitative Biomedicine Seminar Series
DESCRIPTION:Institute for Quantitative Biomedicine Seminar Series-Structure and Dynamics of HIV-1 Protein Assemblies by Integrated MAS NMR Spectroscopy\, DNP\, MD Simulations\, and Density Functional Theory\, Tatyana Polenova\, NIH. Proteomics Room 120\, Institute for Quantitative Biomedicine at Rutgers\, 174 Frelinghuysen Road\, Piscataway.pr
URL:https://njacts.rbhs.rutgers.edu/event/institute-for-quantitative-biomedicine-seminar-series-3/
LOCATION:Institute for Quantitative Biomedicine at Rutgers\, Proteomics Room 120\, 174 Frelinghuysen Road\, Piscataway\, NJ\, 08854\, United States
END:VEVENT
BEGIN:VEVENT
DTSTART;TZID=UTC:20200219T160000
DTEND;TZID=UTC:20200219T170000
DTSTAMP:20260424T233221
CREATED:20191224T204834Z
LAST-MODIFIED:20191224T204834Z
UID:11275-1582128000-1582131600@njacts.rbhs.rutgers.edu
SUMMARY:Princeton Department of Molecular Biology Special Seminar
DESCRIPTION:Princeton Department of Molecular Biology Special Seminar-Frozen But in Motion: The Structural Dynamics of Integrin-Mediated TGF-β Activation\, Melody Campbell\, UCSF. Princeton University\, Schultz Laboratory 107\, Princeton. \n 
URL:https://njacts.rbhs.rutgers.edu/event/princeton-department-of-molecular-biology-special-seminar-3/
LOCATION:Princeton University\, Schultz Laboratory\, Princeton\, 08544-1014\, United States
END:VEVENT
BEGIN:VEVENT
DTSTART;TZID=UTC:20200219T160000
DTEND;TZID=UTC:20200219T170000
DTSTAMP:20260424T233221
CREATED:20200219T200018Z
LAST-MODIFIED:20200219T200018Z
UID:12254-1582128000-1582131600@njacts.rbhs.rutgers.edu
SUMMARY:CINJ Grand Round Lecture Series
DESCRIPTION:CINJ Grand Round Lecture Series– Ribosomes in Distress: A Signal for Adaptive Cellular Responses\, Dimitri Pestov\, Rutgers Cancer Institute of New Jersey\, 195 Little Albany Street\, Auditorium A\, 1st Floor\, New Brunswick.
URL:https://njacts.rbhs.rutgers.edu/event/cinj-grand-round-lecture-series-4/
LOCATION:Rutgers Cancer Institute of New Jersey\, 1st Floor\, Auditorium A\, 195 Little Albany Street\, New Brunswick\, NJ\, 08901\, United States
END:VEVENT
BEGIN:VEVENT
DTSTART;TZID=UTC:20200220T080000
DTEND;TZID=UTC:20200220T090000
DTSTAMP:20260424T233221
CREATED:20200128T214005Z
LAST-MODIFIED:20200128T214005Z
UID:11825-1582185600-1582189200@njacts.rbhs.rutgers.edu
SUMMARY:RWJMS Pediatric Grand Rounds
DESCRIPTION:RWJMS Pediatric Grand Rounds-E-Cigarettes\, Cannabis and Adolescents: A Hot Mess\, Diane Collelo\, Rutgers New Jersey Medical School. Clinical Academic Building\, Room 1302\, 125 Paterson Street\, New Brunswick.
URL:https://njacts.rbhs.rutgers.edu/event/rwjms-pediatric-grand-rounds-4/
LOCATION:Clinical Academic Building\, Conference Room 1302\, 125 Paterson Street\, New Brunswick\, NJ\, 08901\, United States
END:VEVENT
END:VCALENDAR