BEGIN:VCALENDAR
VERSION:2.0
PRODID:-//New Jersey Alliance for Clinical and Translational Science - ECPv6.15.14//NONSGML v1.0//EN
CALSCALE:GREGORIAN
METHOD:PUBLISH
X-ORIGINAL-URL:https://njacts.rbhs.rutgers.edu
X-WR-CALDESC:Events for New Jersey Alliance for Clinical and Translational Science
REFRESH-INTERVAL;VALUE=DURATION:PT1H
X-Robots-Tag:noindex
X-PUBLISHED-TTL:PT1H
BEGIN:VTIMEZONE
TZID:America/New_York
BEGIN:DAYLIGHT
TZOFFSETFROM:-0500
TZOFFSETTO:-0400
TZNAME:EDT
DTSTART:20250309T070000
END:DAYLIGHT
BEGIN:STANDARD
TZOFFSETFROM:-0400
TZOFFSETTO:-0500
TZNAME:EST
DTSTART:20251102T060000
END:STANDARD
BEGIN:DAYLIGHT
TZOFFSETFROM:-0500
TZOFFSETTO:-0400
TZNAME:EDT
DTSTART:20260308T070000
END:DAYLIGHT
BEGIN:STANDARD
TZOFFSETFROM:-0400
TZOFFSETTO:-0500
TZNAME:EST
DTSTART:20261101T060000
END:STANDARD
BEGIN:DAYLIGHT
TZOFFSETFROM:-0500
TZOFFSETTO:-0400
TZNAME:EDT
DTSTART:20270314T070000
END:DAYLIGHT
BEGIN:STANDARD
TZOFFSETFROM:-0400
TZOFFSETTO:-0500
TZNAME:EST
DTSTART:20271107T060000
END:STANDARD
END:VTIMEZONE
BEGIN:VEVENT
DTSTART;TZID=America/New_York:20260526T123000
DTEND;TZID=America/New_York:20260526T153000
DTSTAMP:20260421T135133
CREATED:20260224T134615Z
LAST-MODIFIED:20260224T134615Z
UID:47768-1779798600-1779809400@njacts.rbhs.rutgers.edu
SUMMARY:Propelus I-Corps hosted by Princeton University
DESCRIPTION:Propelus I-Corps hosted by Princeton University-Our three-session Propelus program helps researchers explore the customer perspective to inform how a discovery or innovation can become the basis of a successful startup or venture. Virtual. Read More and Apply by April 7.
URL:https://njacts.rbhs.rutgers.edu/event/propelus-i-corps-hosted-by-princeton-university-7/
LOCATION:NJ
END:VEVENT
BEGIN:VEVENT
DTSTART;TZID=America/New_York:20260527T100000
DTEND;TZID=America/New_York:20260527T130000
DTSTAMP:20260421T135133
CREATED:20260319T190328Z
LAST-MODIFIED:20260319T190328Z
UID:48109-1779876000-1779886800@njacts.rbhs.rutgers.edu
SUMMARY:Propelus I-Corps hosted by Rutgers University
DESCRIPTION:Propelus I-Corps hosted by Rutgers University-Our four-session Propelus program helps researchers explore the customer perspective to inform how a discovery or innovation can become the basis of a successful startup or venture. In person. Richard Weeks Hall of Engineering\, Piscataway. Details and Register
URL:https://njacts.rbhs.rutgers.edu/event/propelus-i-corps-hosted-by-rutgers-university-5/
LOCATION:Richard Weeks Hall of Engineering\, 500 Bartholomew Rd\, Piscataway\, New Jersey
END:VEVENT
BEGIN:VEVENT
DTSTART;TZID=America/New_York:20260528T150000
DTEND;TZID=America/New_York:20260528T180000
DTSTAMP:20260421T135133
CREATED:20260416T131045Z
LAST-MODIFIED:20260416T131045Z
UID:48326-1779980400-1779991200@njacts.rbhs.rutgers.edu
SUMMARY:Propelus I-Corps hosted by the New Jersey Institute of Technology
DESCRIPTION:Propelus I-Corps hosted by the New Jersey Institute of Technology-Our four-session Propelus program helps researchers explore the customer perspective to inform how a discovery or innovation can become the basis of a successful startup or venture. Virtual. Read More and Apply by May 4
URL:https://njacts.rbhs.rutgers.edu/event/propelus-i-corps-hosted-by-the-new-jersey-institute-of-technology-3/
LOCATION:NJ
END:VEVENT
BEGIN:VEVENT
DTSTART;TZID=America/New_York:20260601T083000
DTEND;TZID=America/New_York:20260601T170000
DTSTAMP:20260421T135133
CREATED:20260312T130430Z
LAST-MODIFIED:20260312T130430Z
UID:48032-1780302600-1780333200@njacts.rbhs.rutgers.edu
SUMMARY:Short Course on Multilingual Approaches to Research Studies
DESCRIPTION:Short Course on Multilingual Approaches to Research Studies-Helps prepare health researchers to recruit and engage children\, youth\, and families who prefer a language other than English. Children’s Hospital of Philadelphia and Online. Read More about the Program. View the Agenda.
URL:https://njacts.rbhs.rutgers.edu/event/short-course-on-multilingual-approaches-to-research-studies/
LOCATION:Children’s Hospital of Philadelphia\, Roberts Center\, 2716 South Street\, Philadelphia\, PA\, 19146
END:VEVENT
BEGIN:VEVENT
DTSTART;TZID=America/New_York:20260602T083000
DTEND;TZID=America/New_York:20260602T170000
DTSTAMP:20260421T135133
CREATED:20260312T131005Z
LAST-MODIFIED:20260312T131005Z
UID:48036-1780389000-1780419600@njacts.rbhs.rutgers.edu
SUMMARY:Short Course on Multilingual Approaches to Research Studies
DESCRIPTION:Short Course on Multilingual Approaches to Research Studies-Helps prepare health researchers to recruit and engage children\, youth\, and families who prefer a language other than English. Children’s Hospital of Philadelphia and Online. Read More about the Program. View the Agenda.
URL:https://njacts.rbhs.rutgers.edu/event/short-course-on-multilingual-approaches-to-research-studies-2/
LOCATION:Children’s Hospital of Philadelphia\, Roberts Center\, 2716 South Street\, Philadelphia\, PA\, 19146
END:VEVENT
BEGIN:VEVENT
DTSTART;TZID=America/New_York:20260603T083000
DTEND;TZID=America/New_York:20260603T160000
DTSTAMP:20260421T135133
CREATED:20260312T131131Z
LAST-MODIFIED:20260312T131131Z
UID:48039-1780475400-1780502400@njacts.rbhs.rutgers.edu
SUMMARY:Short Course on Multilingual Approaches to Research Studies
DESCRIPTION:Short Course on Multilingual Approaches to Research Studies-Helps prepare health researchers to recruit and engage children\, youth\, and families who prefer a language other than English. Children’s Hospital of Philadelphia and Online. Read More about the Program. View the Agenda.
URL:https://njacts.rbhs.rutgers.edu/event/short-course-on-multilingual-approaches-to-research-studies-3/
LOCATION:Children’s Hospital of Philadelphia\, Roberts Center\, 2716 South Street\, Philadelphia\, PA\, 19146
END:VEVENT
BEGIN:VEVENT
DTSTART;TZID=America/New_York:20260603T100000
DTEND;TZID=America/New_York:20260603T130000
DTSTAMP:20260421T135133
CREATED:20260319T190445Z
LAST-MODIFIED:20260319T190514Z
UID:48112-1780480800-1780491600@njacts.rbhs.rutgers.edu
SUMMARY:Propelus I-Corps hosted by Rutgers University
DESCRIPTION:Propelus I-Corps hosted by Rutgers University-Our four-session Propelus program helps researchers explore the customer perspective to inform how a discovery or innovation can become the basis of a successful startup or venture. Virtual. Details and Register
URL:https://njacts.rbhs.rutgers.edu/event/48112/
LOCATION:NJ
END:VEVENT
BEGIN:VEVENT
DTSTART;TZID=America/New_York:20260604T150000
DTEND;TZID=America/New_York:20260604T180000
DTSTAMP:20260421T135133
CREATED:20260416T131126Z
LAST-MODIFIED:20260416T131126Z
UID:48328-1780585200-1780596000@njacts.rbhs.rutgers.edu
SUMMARY:Propelus I-Corps hosted by the New Jersey Institute of Technology
DESCRIPTION:Propelus I-Corps hosted by the New Jersey Institute of Technology-Our four-session Propelus program helps researchers explore the customer perspective to inform how a discovery or innovation can become the basis of a successful startup or venture. Virtual. Read More and Apply by May 4
URL:https://njacts.rbhs.rutgers.edu/event/propelus-i-corps-hosted-by-the-new-jersey-institute-of-technology-4/
LOCATION:NJ
END:VEVENT
BEGIN:VEVENT
DTSTART;TZID=America/New_York:20260610T100000
DTEND;TZID=America/New_York:20260610T130000
DTSTAMP:20260421T135133
CREATED:20260319T190618Z
LAST-MODIFIED:20260319T190618Z
UID:48115-1781085600-1781096400@njacts.rbhs.rutgers.edu
SUMMARY:Propelus I-Corps hosted by Rutgers University
DESCRIPTION:Propelus I-Corps hosted by Rutgers University-Our four-session Propelus program helps researchers explore the customer perspective to inform how a discovery or innovation can become the basis of a successful startup or venture. Virtual. Details and Register
URL:https://njacts.rbhs.rutgers.edu/event/propelus-i-corps-hosted-by-rutgers-university-6/
LOCATION:NJ
END:VEVENT
BEGIN:VEVENT
DTSTART;TZID=America/New_York:20260611T093000
DTEND;TZID=America/New_York:20260611T123000
DTSTAMP:20260421T135133
CREATED:20260416T143500Z
LAST-MODIFIED:20260416T143500Z
UID:48348-1781170200-1781181000@njacts.rbhs.rutgers.edu
SUMMARY:2026 CTSC Skills Acquisition Workshop Series
DESCRIPTION:2026 CTSC Skills Acquisition Workshop Series–GCP & Investigational Project Management for Clinical Research Pharmacists. Read More and Register
URL:https://njacts.rbhs.rutgers.edu/event/2026-ctsc-skills-acquisition-workshop-series-3/
LOCATION:NJ
END:VEVENT
BEGIN:VEVENT
DTSTART;TZID=America/New_York:20260611T150000
DTEND;TZID=America/New_York:20260611T180000
DTSTAMP:20260421T135133
CREATED:20260416T131214Z
LAST-MODIFIED:20260416T131214Z
UID:48330-1781190000-1781200800@njacts.rbhs.rutgers.edu
SUMMARY:Propelus I-Corps hosted by the New Jersey Institute of Technology
DESCRIPTION:Propelus I-Corps hosted by the New Jersey Institute of Technology-Our four-session Propelus program helps researchers explore the customer perspective to inform how a discovery or innovation can become the basis of a successful startup or venture. Virtual. Read More and Apply by May 4
URL:https://njacts.rbhs.rutgers.edu/event/propelus-i-corps-hosted-by-the-new-jersey-institute-of-technology-5/
LOCATION:NJ
END:VEVENT
BEGIN:VEVENT
DTSTART;TZID=America/New_York:20260612T090000
DTEND;TZID=America/New_York:20260612T130000
DTSTAMP:20260421T135133
CREATED:20260416T143634Z
LAST-MODIFIED:20260416T143634Z
UID:48350-1781254800-1781269200@njacts.rbhs.rutgers.edu
SUMMARY:2026 CTSC Skills Acquisition Workshop Series
DESCRIPTION:2026 CTSC Skills Acquisition Workshop Series–Planning and Writing Successful K Award Proposals. Read More and Register
URL:https://njacts.rbhs.rutgers.edu/event/2026-ctsc-skills-acquisition-workshop-series-4/
LOCATION:NJ
END:VEVENT
BEGIN:VEVENT
DTSTART;TZID=America/New_York:20260624T100000
DTEND;TZID=America/New_York:20260624T130000
DTSTAMP:20260421T135133
CREATED:20260319T190811Z
LAST-MODIFIED:20260319T190811Z
UID:48117-1782295200-1782306000@njacts.rbhs.rutgers.edu
SUMMARY:Propelus I-Corps hosted by Rutgers University
DESCRIPTION:Propelus I-Corps hosted by Rutgers University-Our four-session Propelus program helps researchers explore the customer perspective to inform how a discovery or innovation can become the basis of a successful startup or venture. In-person. Richard Weeks Hall of Engineering\, Busch Campus\, Piscataway. Details and Register
URL:https://njacts.rbhs.rutgers.edu/event/propelus-i-corps-hosted-by-rutgers-university-7/
LOCATION:Richard Weeks Hall of Engineering\, 500 Bartholomew Rd\, Piscataway\, New Jersey
END:VEVENT
BEGIN:VEVENT
DTSTART;TZID=America/New_York:20260630T083000
DTEND;TZID=America/New_York:20260630T170000
DTSTAMP:20260421T135133
CREATED:20260416T143832Z
LAST-MODIFIED:20260416T143832Z
UID:48352-1782808200-1782838800@njacts.rbhs.rutgers.edu
SUMMARY:2026 CTSC Skills Acquisition Workshop Series
DESCRIPTION:2026 CTSC Skills Acquisition Workshop Series–Writing and Publishing High-Impact Research Manuscripts. Webinar. Read More and Register
URL:https://njacts.rbhs.rutgers.edu/event/2026-ctsc-skills-acquisition-workshop-series-5/
LOCATION:NJ
END:VEVENT
BEGIN:VEVENT
DTSTART;TZID=America/New_York:20260924T083000
DTEND;TZID=America/New_York:20260924T164500
DTSTAMP:20260421T135133
CREATED:20260226T201638Z
LAST-MODIFIED:20260226T201638Z
UID:47806-1790238600-1790268300@njacts.rbhs.rutgers.edu
SUMMARY:Child Health Institute of New Jersey Annual Scientific Retreat
DESCRIPTION:Child Health Institute of New Jersey Annual Scientific Retreat-SAVE THE DATE\, Cook Student Center\, MPR ABC\, 59 Biel Road\, New Brunswick.
URL:https://njacts.rbhs.rutgers.edu/event/child-health-institute-of-new-jersey-annual-scientific-retreat/
LOCATION:Cook Student Center\, 59 Biel Road\, New Brunswick\, NJ\, 08901\, United States
END:VEVENT
BEGIN:VEVENT
DTSTART;TZID=America/New_York:20260929T120000
DTEND;TZID=America/New_York:20260929T130000
DTSTAMP:20260421T135133
CREATED:20260323T132429Z
LAST-MODIFIED:20260323T132429Z
UID:48123-1790683200-1790686800@njacts.rbhs.rutgers.edu
SUMMARY:NJ ACTS Special Populations Seminar
DESCRIPTION:NJ ACTS Special Populations Seminar-More information to follow!
URL:https://njacts.rbhs.rutgers.edu/event/nj-acts-special-populations-seminar-10/
LOCATION:NJ
END:VEVENT
BEGIN:VEVENT
DTSTART;TZID=America/New_York:20261027T120000
DTEND;TZID=America/New_York:20261027T130000
DTSTAMP:20260421T135133
CREATED:20260406T113200Z
LAST-MODIFIED:20260416T133405Z
UID:48197-1793102400-1793106000@njacts.rbhs.rutgers.edu
SUMMARY:NJ ACTS Special Populations Seminar
DESCRIPTION:NJ ACTS Special Populations Seminar–Early Adversity and Child Development and Pediatric Medical Home Environment\, Manuel E. Jimenez\, MD\, Rutgers.
URL:https://njacts.rbhs.rutgers.edu/event/nj-acts-special-populations-seminar-11/
LOCATION:NJ
END:VEVENT
BEGIN:VEVENT
DTSTART;TZID=America/New_York:20261110T120000
DTEND;TZID=America/New_York:20261110T130000
DTSTAMP:20260421T135133
CREATED:20260421T140020Z
LAST-MODIFIED:20260421T140045Z
UID:48362-1794312000-1794315600@njacts.rbhs.rutgers.edu
SUMMARY:NJ ACTS Special Populations Seminar
DESCRIPTION:NJ ACTS Special Populations Seminar-Topic- HIV prevention intervention barriers to prevention tools and Black women\, Shawnika Hull\, PhD\, Rutgers University.
URL:https://njacts.rbhs.rutgers.edu/event/nj-acts-special-populations-seminar-13/
LOCATION:NJ
END:VEVENT
BEGIN:VEVENT
DTSTART;TZID=America/New_York:20261208T120000
DTEND;TZID=America/New_York:20261208T130000
DTSTAMP:20260421T135133
CREATED:20260409T123224Z
LAST-MODIFIED:20260416T133517Z
UID:48286-1796731200-1796734800@njacts.rbhs.rutgers.edu
SUMMARY:NJ ACTS Special Populations Seminar
DESCRIPTION:NJ ACTS Special Populations Seminar–Aging and Emergency Medicine\, Kei Ouchi\, MD\, MPH\, Harvard University.
URL:https://njacts.rbhs.rutgers.edu/event/nj-acts-special-populations-seminar-12/
LOCATION:NJ
END:VEVENT
END:VCALENDAR