BEGIN:VCALENDAR
VERSION:2.0
PRODID:-//New Jersey Alliance for Clinical and Translational Science - ECPv6.15.14//NONSGML v1.0//EN
CALSCALE:GREGORIAN
METHOD:PUBLISH
X-WR-CALNAME:New Jersey Alliance for Clinical and Translational Science
X-ORIGINAL-URL:https://njacts.rbhs.rutgers.edu
X-WR-CALDESC:Events for New Jersey Alliance for Clinical and Translational Science
REFRESH-INTERVAL;VALUE=DURATION:PT1H
X-Robots-Tag:noindex
X-PUBLISHED-TTL:PT1H
BEGIN:VTIMEZONE
TZID:America/New_York
BEGIN:DAYLIGHT
TZOFFSETFROM:-0500
TZOFFSETTO:-0400
TZNAME:EDT
DTSTART:20240310T070000
END:DAYLIGHT
BEGIN:STANDARD
TZOFFSETFROM:-0400
TZOFFSETTO:-0500
TZNAME:EST
DTSTART:20241103T060000
END:STANDARD
BEGIN:DAYLIGHT
TZOFFSETFROM:-0500
TZOFFSETTO:-0400
TZNAME:EDT
DTSTART:20250309T070000
END:DAYLIGHT
BEGIN:STANDARD
TZOFFSETFROM:-0400
TZOFFSETTO:-0500
TZNAME:EST
DTSTART:20251102T060000
END:STANDARD
BEGIN:DAYLIGHT
TZOFFSETFROM:-0500
TZOFFSETTO:-0400
TZNAME:EDT
DTSTART:20260308T070000
END:DAYLIGHT
BEGIN:STANDARD
TZOFFSETFROM:-0400
TZOFFSETTO:-0500
TZNAME:EST
DTSTART:20261101T060000
END:STANDARD
BEGIN:DAYLIGHT
TZOFFSETFROM:-0500
TZOFFSETTO:-0400
TZNAME:EDT
DTSTART:20270314T070000
END:DAYLIGHT
BEGIN:STANDARD
TZOFFSETFROM:-0400
TZOFFSETTO:-0500
TZNAME:EST
DTSTART:20271107T060000
END:STANDARD
END:VTIMEZONE
BEGIN:VEVENT
DTSTART;TZID=America/New_York:20260127T150000
DTEND;TZID=America/New_York:20260127T163000
DTSTAMP:20260422T014937
CREATED:20251208T140322Z
LAST-MODIFIED:20251208T140322Z
UID:47105-1769526000-1769531400@njacts.rbhs.rutgers.edu
SUMMARY:Propelus I-Corps
DESCRIPTION:Propelus I-Corps-Info session at NJIT.Learn how to make real-world impact with your innovations by turning them into products/services that create value in the market. NJIT Martin Tuchman School of Management (MTSM) 2nd Floor Room CAB. Read more and Register.
URL:https://njacts.rbhs.rutgers.edu/event/propelus-i-corps-13/
LOCATION:Engineering Martin Tuchman School of Management\, 198 Central Avenue\, Newark\, NJ\, 07103\, United States
END:VEVENT
BEGIN:VEVENT
DTSTART;TZID=America/New_York:20260123T083000
DTEND;TZID=America/New_York:20260123T130000
DTSTAMP:20260422T014937
CREATED:20260114T135858Z
LAST-MODIFIED:20260114T135858Z
UID:47407-1769157000-1769173200@njacts.rbhs.rutgers.edu
SUMMARY:Maternal Health Awareness Day 2026
DESCRIPTION:Maternal Health Awareness Day 2026-Navigating Today’s Challenges in Maternal Health. CAB\, Room 1302\, New Brunswick. Flyer and Register by Jan. 15th
URL:https://njacts.rbhs.rutgers.edu/event/maternal-health-awareness-day-2026/
LOCATION:Clinical Academic Building\, Conference Room 1302\, 125 Paterson Street\, New Brunswick\, NJ\, 08901\, United States
END:VEVENT
BEGIN:VEVENT
DTSTART;TZID=America/New_York:20260122T120000
DTEND;TZID=America/New_York:20260122T133000
DTSTAMP:20260422T014937
CREATED:20251224T150303Z
LAST-MODIFIED:20260112T190140Z
UID:47336-1769083200-1769088600@njacts.rbhs.rutgers.edu
SUMMARY:NJ ACTS Biostatistics and Epidemiology Research Design Workshop Series
DESCRIPTION:NJ ACTS Biostatistics and Epidemiology Research Design Workshop Series-Uncertainty Quantification for Predictive Models: Conformal Prediction and Calibration\, Yan Sun\, NJIT.  View Flyer and Register
URL:https://njacts.rbhs.rutgers.edu/event/nj-acts-biostatistics-and-epidemiology-research-design-workshop-series-3/
END:VEVENT
BEGIN:VEVENT
DTSTART;TZID=America/New_York:20260122T120000
DTEND;TZID=America/New_York:20260122T130000
DTSTAMP:20260422T014937
CREATED:20260106T140811Z
LAST-MODIFIED:20260106T140811Z
UID:47357-1769083200-1769086800@njacts.rbhs.rutgers.edu
SUMMARY:Trial Innovation Network Collaboration Webinar
DESCRIPTION:Trial Innovation Network Collaboration Webinar–The AI Research Assistant: Ethical\, Efficient\, Everyday Use\, Jeri Burr\, University of Utah. Register.
URL:https://njacts.rbhs.rutgers.edu/event/trial-innovation-network-collaboration-webinar-29/
END:VEVENT
BEGIN:VEVENT
DTSTART;TZID=America/New_York:20260122T093000
DTEND;TZID=America/New_York:20260122T133000
DTSTAMP:20260422T014937
CREATED:20251208T135141Z
LAST-MODIFIED:20251208T135141Z
UID:47091-1769074200-1769088600@njacts.rbhs.rutgers.edu
SUMMARY:Novus I-Corps
DESCRIPTION:Novus I-Corps-Introductory training to learn how to change your focus from the science/technology to the people it benefits and more! Rutgers – Center for Advanced Biotechnology & Medicine CABM Room 010 679 Hoes Lane West. Read More and Register
URL:https://njacts.rbhs.rutgers.edu/event/novus-i-corps-2/
LOCATION:CABM\, Seminar Room 010\, 679 Hoes Lane West\, Piscataway\, NJ\, 08854\, United States
END:VEVENT
BEGIN:VEVENT
DTSTART;TZID=America/New_York:20260121T160000
DTEND;TZID=America/New_York:20260121T170000
DTSTAMP:20260422T014937
CREATED:20251027T135957Z
LAST-MODIFIED:20260106T141222Z
UID:46481-1769011200-1769014800@njacts.rbhs.rutgers.edu
SUMMARY:Research Resources Workshop Wednesday
DESCRIPTION:Research Resources Workshop Wednesday-Rutgers libraries Research Support Services to RH Researchers\, Yingting Zhang\, Rutgers. On Zoom. View Flyer
URL:https://njacts.rbhs.rutgers.edu/event/research-resources-workshop-wednesday-13/
END:VEVENT
BEGIN:VEVENT
DTSTART;TZID=America/New_York:20260121T120000
DTEND;TZID=America/New_York:20260121T130000
DTSTAMP:20260422T014937
CREATED:20251103T133512Z
LAST-MODIFIED:20251103T133512Z
UID:46514-1768996800-1769000400@njacts.rbhs.rutgers.edu
SUMMARY:Trial Innovation Network Collaboration Webinar
DESCRIPTION:Trial Innovation Network Collaboration Webinar–Fraud Prevention in Decentralized Trials\, Jaimee Heffner\, PhD\, Associate Professor\, Fred Hutchinson Cancer Center. Register
URL:https://njacts.rbhs.rutgers.edu/event/trial-innovation-network-collaboration-webinar-26/
END:VEVENT
BEGIN:VEVENT
DTSTART;TZID=America/New_York:20260114T080000
DTEND;TZID=America/New_York:20260114T090000
DTSTAMP:20260422T014937
CREATED:20260107T162541Z
LAST-MODIFIED:20260107T162901Z
UID:47365-1768377600-1768381200@njacts.rbhs.rutgers.edu
SUMMARY:RWJMS Pediatric Grand Rounds
DESCRIPTION:RWJMS Pediatric Grand Rounds-Defining the Human Genetics and Pathogenesis of Congenital Muscle Disease\, M. Chiara Manzini\, RWJMS. Hybrid. Clinical Academic Building\, Room 3403\, New Brunswick\, and on Zoom. View Flyer
URL:https://njacts.rbhs.rutgers.edu/event/rwjms-pediatric-grand-rounds-29/
LOCATION:Clinical Academic Building\, Room 1302\, 125 Paterson Street\, New Brunswick\, NJ\, 08901\, United States
END:VEVENT
BEGIN:VEVENT
DTSTART;TZID=America/New_York:20260113T120000
DTEND;TZID=America/New_York:20260113T130000
DTSTAMP:20260422T014937
CREATED:20251204T151058Z
LAST-MODIFIED:20251224T143250Z
UID:47058-1768305600-1768309200@njacts.rbhs.rutgers.edu
SUMMARY:NJ ACTS Special Populations Seminar
DESCRIPTION:NJ ACTS Special Populations Seminar-Increasing Access to MOUD: Direct to Inject Buprenorphine\, Arianna Campbell\, The Bridge Center at the Public Health Institute. View Flyer and Register
URL:https://njacts.rbhs.rutgers.edu/event/nj-acts-special-populations-seminar-8/
END:VEVENT
BEGIN:VEVENT
DTSTART;TZID=America/New_York:20260112T130000
DTEND;TZID=America/New_York:20260112T140000
DTSTAMP:20260422T014937
CREATED:20251203T165427Z
LAST-MODIFIED:20251203T165427Z
UID:47042-1768222800-1768226400@njacts.rbhs.rutgers.edu
SUMMARY:Novus I-Corps
DESCRIPTION:Novus I-Corps–Learn about the impact your research or innovation could have in solving real-world problems.In person\, at Princeton University. Register
URL:https://njacts.rbhs.rutgers.edu/event/novus-i-corps/
END:VEVENT
BEGIN:VEVENT
DTSTART;TZID=America/New_York:20260112T120000
DTEND;TZID=America/New_York:20260112T130000
DTSTAMP:20260422T014937
CREATED:20260112T173119Z
LAST-MODIFIED:20260112T173119Z
UID:47385-1768219200-1768222800@njacts.rbhs.rutgers.edu
SUMMARY:Trial Innovation Network Collaboration Webinar
DESCRIPTION:Trial Innovation Network Collaboration Webinar–The AI Research Assistant: Ethical\, Efficient\, Everyday Use\, Jeri Burr\, RN\, PED-BC\, MS\, CCRC\, FACRP\, Program Director\, University of Utah. Register
URL:https://njacts.rbhs.rutgers.edu/event/trial-innovation-network-collaboration-webinar-31/
END:VEVENT
BEGIN:VEVENT
DTSTART;TZID=America/New_York:20260109T140000
DTEND;TZID=America/New_York:20260109T153000
DTSTAMP:20260422T014937
CREATED:20250910T133224Z
LAST-MODIFIED:20250910T133224Z
UID:45928-1767967200-1767972600@njacts.rbhs.rutgers.edu
SUMMARY:NJ ACTS Workforce Development Grant Writing Mini-Course
DESCRIPTION:NJ ACTS Workforce Development Grant Writing Mini-Course-For Postdocs\, residents\, fellows\, faculty\, instructors\, and clinicians working towards their 1st career (K)and research (R) NIH grant application. On Zoom. View Flyer and Register by 12/12
URL:https://njacts.rbhs.rutgers.edu/event/nj-acts-workforce-development-grant-writing-mini-course-5/
END:VEVENT
BEGIN:VEVENT
DTSTART;TZID=America/New_York:20260108T140000
DTEND;TZID=America/New_York:20260108T153000
DTSTAMP:20260422T014937
CREATED:20250910T133135Z
LAST-MODIFIED:20250910T133135Z
UID:45926-1767880800-1767886200@njacts.rbhs.rutgers.edu
SUMMARY:NJ ACTS Workforce Development Grant Writing Mini-Course
DESCRIPTION:NJ ACTS Workforce Development Grant Writing Mini-Course-For Postdocs\, residents\, fellows\, faculty\, instructors\, and clinicians working towards their 1st career (K)and research (R) NIH grant application. On Zoom. View Flyer and Register by 12/12
URL:https://njacts.rbhs.rutgers.edu/event/nj-acts-workforce-development-grant-writing-mini-course-4/
END:VEVENT
BEGIN:VEVENT
DTSTART;TZID=America/New_York:20260107T140000
DTEND;TZID=America/New_York:20260107T153000
DTSTAMP:20260422T014937
CREATED:20250910T133048Z
LAST-MODIFIED:20250910T133048Z
UID:45924-1767794400-1767799800@njacts.rbhs.rutgers.edu
SUMMARY:NJ ACTS Workforce Development Grant Writing Mini-Course
DESCRIPTION:NJ ACTS Workforce Development Grant Writing Mini-Course-For Postdocs\, residents\, fellows\, faculty\, instructors\, and clinicians working towards their 1st career (K)and research (R) NIH grant application. On Zoom. View Flyer and Register by 12/12
URL:https://njacts.rbhs.rutgers.edu/event/nj-acts-workforce-development-grant-writing-mini-course-3/
END:VEVENT
BEGIN:VEVENT
DTSTART;TZID=America/New_York:20260106T140000
DTEND;TZID=America/New_York:20260106T153000
DTSTAMP:20260422T014937
CREATED:20250910T132959Z
LAST-MODIFIED:20250910T132959Z
UID:45922-1767708000-1767713400@njacts.rbhs.rutgers.edu
SUMMARY:NJ ACTS Workforce Development Grant Writing Mini-Course
DESCRIPTION:NJ ACTS Workforce Development Grant Writing Mini-Course-For Postdocs\, residents\, fellows\, faculty\, instructors\, and clinicians working towards their 1st career (K)and research (R) NIH grant application. On Zoom. View Flyer and Register by 12/12
URL:https://njacts.rbhs.rutgers.edu/event/nj-acts-workforce-development-grant-writing-mini-course-2/
END:VEVENT
BEGIN:VEVENT
DTSTART;TZID=America/New_York:20260105T140000
DTEND;TZID=America/New_York:20260105T153000
DTSTAMP:20260422T014937
CREATED:20250910T132903Z
LAST-MODIFIED:20250910T132903Z
UID:45919-1767621600-1767627000@njacts.rbhs.rutgers.edu
SUMMARY:NJ ACTS Workforce Development Grant Writing Mini-Course
DESCRIPTION:NJ ACTS Workforce Development Grant Writing Mini-Course-For Postdocs\, residents\, fellows\, faculty\, instructors\, and clinicians working towards their 1st career (K)and research (R) NIH grant application. On Zoom. View Flyer and Register by 12/12
URL:https://njacts.rbhs.rutgers.edu/event/nj-acts-workforce-development-grant-writing-mini-course/
END:VEVENT
BEGIN:VEVENT
DTSTART;TZID=America/New_York:20251217T160000
DTEND;TZID=America/New_York:20251217T170000
DTSTAMP:20260422T014937
CREATED:20251027T135620Z
LAST-MODIFIED:20251027T135711Z
UID:46478-1765987200-1765990800@njacts.rbhs.rutgers.edu
SUMMARY:Research Resources Workshop Wednesday
DESCRIPTION:Research Resources Workshop Wednesday-Genomics at Rutgers: Driving Cutting Edge Basic and Translational Genomics Research\, Milind C Mahajan and Jessica C. Hargarten\, NJMS. On Zoom. View Flyer
URL:https://njacts.rbhs.rutgers.edu/event/research-resources-workshop-wednesday-12/
END:VEVENT
BEGIN:VEVENT
DTSTART;TZID=America/New_York:20251217T100000
DTEND;TZID=America/New_York:20251217T110000
DTSTAMP:20260422T014937
CREATED:20251211T131339Z
LAST-MODIFIED:20251211T131339Z
UID:47128-1765965600-1765969200@njacts.rbhs.rutgers.edu
SUMMARY:Rutgers Princeton Center for Computational Cognitive Neuropsychiatry Seminar
DESCRIPTION:Rutgers Princeton Center for Computational Cognitive Neuropsychiatry Seminar–Metacognition for value-based choices: computational process and implications for psychiatry\, Silvia Lopez-Guzman\, MD\, PhD\, National Institute of Mental Health (NIMH) | National Institute on Drug Abuse (NIDA). ccnp.princeton.edu
URL:https://njacts.rbhs.rutgers.edu/event/rutgers-princeton-center-for-computational-cognitive-neuropsychiatry-seminar-115/
END:VEVENT
BEGIN:VEVENT
DTSTART;TZID=America/New_York:20251212T153000
DTEND;TZID=America/New_York:20251212T163000
DTSTAMP:20260422T014937
CREATED:20251204T130644Z
LAST-MODIFIED:20251204T130644Z
UID:47051-1765553400-1765557000@njacts.rbhs.rutgers.edu
SUMMARY:Child Health Institute Special Seminar
DESCRIPTION:Child Health Institute Special Seminar-Combinatorial pathogen/drug effects on the 16p11.2 locus in autism\, Elaine Lim\, PhD\, UMass Chan Medical School. CHI Conf Room 3209. View Flyer
URL:https://njacts.rbhs.rutgers.edu/event/child-health-institute-special-seminar-3/
LOCATION:Child Health Institute\, Room 3209\, 89 French Street\, New Brunswick\, 08901\, United States
END:VEVENT
BEGIN:VEVENT
DTSTART;TZID=America/New_York:20251211T120000
DTEND;TZID=America/New_York:20251211T130000
DTSTAMP:20260422T014937
CREATED:20251203T161218Z
LAST-MODIFIED:20251203T161218Z
UID:47034-1765454400-1765458000@njacts.rbhs.rutgers.edu
SUMMARY:NJ ACTS Biostatistics and Epidemiology Research Design Workshop Series
DESCRIPTION:NJ ACTS Biostatistics and Epidemiology Research Design Workshop Series-Design-Based Supervised Learning: A General Framework for Using LLM Annotations and Other Predicted Variables in Downstream Analyses\, Brandon Stewart\, PhD. On Zoom. Read More and Register Here.
URL:https://njacts.rbhs.rutgers.edu/event/nj-acts-biostatistics-and-epidemiology-research-design-workshop-series-2/
END:VEVENT
BEGIN:VEVENT
DTSTART;TZID=America/New_York:20251210T130000
DTEND;TZID=America/New_York:20251210T140000
DTSTAMP:20260422T014937
CREATED:20251203T164244Z
LAST-MODIFIED:20251203T164244Z
UID:47038-1765371600-1765375200@njacts.rbhs.rutgers.edu
SUMMARY:Center for Environmental Exposure and Disease (CEED) Pilot Grant Workshop
DESCRIPTION:Center for Environmental Exposure and Disease (CEED) Pilot Grant Workshop-Funding opportunity supports new environmental health research with the potential to improve human health and establish or strengthen community partnerships. Via Zoom for a virtual workshop on Developing Community-Engaged Research Projects. View Flyer
URL:https://njacts.rbhs.rutgers.edu/event/center-for-environmental-exposure-and-disease-ceed-pilot-grant-workshop/
END:VEVENT
BEGIN:VEVENT
DTSTART;TZID=America/New_York:20251210T080000
DTEND;TZID=America/New_York:20251210T090000
DTSTAMP:20260422T014937
CREATED:20251208T133956Z
LAST-MODIFIED:20251208T134854Z
UID:47087-1765353600-1765357200@njacts.rbhs.rutgers.edu
SUMMARY:RWJMS Pediatric Grand Rounds
DESCRIPTION:RWJMS Pediatric Grand Rounds-Harnessing Natural Killer Cells for HIV Immunotherapy\, Tricia Burdo\, PhD\, RWJMS. On Zoom or in person at CAB 3403-04. View Flyer
URL:https://njacts.rbhs.rutgers.edu/event/rwjms-pediatric-grand-rounds-28/
LOCATION:Clinical Academic Building\, Room 1302\, 125 Paterson Street\, New Brunswick\, NJ\, 08901\, United States
END:VEVENT
BEGIN:VEVENT
DTSTART;TZID=America/New_York:20251208T120000
DTEND;TZID=America/New_York:20251208T130000
DTSTAMP:20260422T014937
CREATED:20251203T160631Z
LAST-MODIFIED:20251203T160631Z
UID:47032-1765195200-1765198800@njacts.rbhs.rutgers.edu
SUMMARY:Department of Genetics Research Seminar
DESCRIPTION:Department of Genetics Research Seminar-Genomics in the 21st Century: Challenges and Considerations\, Mark Kristiansen\, University of London. Life Sciences Building\, Room 151\, Busch Campus\, Piscataway. View Flyer
URL:https://njacts.rbhs.rutgers.edu/event/department-of-genetics-research-seminar/
LOCATION:Rutgers Life Science Building\, 145 Bevier Road\, Piscataway\, NJ\, 08854\, United States
END:VEVENT
BEGIN:VEVENT
DTSTART;TZID=America/New_York:20251208T100000
DTEND;TZID=America/New_York:20251208T105000
DTSTAMP:20260422T014937
CREATED:20251118T163725Z
LAST-MODIFIED:20251118T163725Z
UID:46753-1765188000-1765191000@njacts.rbhs.rutgers.edu
SUMMARY:Rutgers Health Policy and Advocacy Corps (HPAC) Fall Speaker Series
DESCRIPTION:Rutgers Health Policy and Advocacy Corps (HPAC) Fall Speaker Series-The White House\, The State House\, Congress and Princeton University – A Tour of Institutions that Impact Health Policy\, Heather Howard\, JD\, Princeton University. View Flyer and RSVP for Zoom by 12/5
URL:https://njacts.rbhs.rutgers.edu/event/rutgers-health-policy-and-advocacy-corps-hpac-fall-speaker-series-2/
END:VEVENT
BEGIN:VEVENT
DTSTART;TZID=America/New_York:20251205T130000
DTEND;TZID=America/New_York:20251205T140000
DTSTAMP:20260422T014937
CREATED:20250908T124019Z
LAST-MODIFIED:20250908T124019Z
UID:45883-1764939600-1764943200@njacts.rbhs.rutgers.edu
SUMMARY:Fall Mentor Workshops
DESCRIPTION:Fall Mentor Workshops-STORYTELLING THROUGH ART. Learn how you can offer guidance and advice based on your own experiences. Share insights on academic challenges\, career paths\, and personal growth. Tillet Hall Room 204\, Piscataway. View Flyer and Become a Mentor
URL:https://njacts.rbhs.rutgers.edu/event/fall-mentor-workshops-4/
LOCATION:Tillet Hall\, Room 204\, 50 Joyce Kilmer Avenue\, Piscataway\, NJ\, 08854
END:VEVENT
BEGIN:VEVENT
DTSTART;TZID=America/New_York:20251203T120000
DTEND;TZID=America/New_York:20251203T130000
DTSTAMP:20260422T014937
CREATED:20251021T124110Z
LAST-MODIFIED:20251021T124245Z
UID:46371-1764763200-1764766800@njacts.rbhs.rutgers.edu
SUMMARY:Translational and Integrative Engagement in Research (TIER) SIG
DESCRIPTION:Translational and Integrative Engagement in Research (TIER) SIG–Integrating Team Science with Community Voices to Drive Translational Impact\, Whitney Sweeney\, PhD. Read More and Register
URL:https://njacts.rbhs.rutgers.edu/event/translational-and-integrative-engagement-in-research-tier-sig/
END:VEVENT
BEGIN:VEVENT
DTSTART;TZID=America/New_York:20251203T100000
DTEND;TZID=America/New_York:20251203T110000
DTSTAMP:20260422T014937
CREATED:20251201T134309Z
LAST-MODIFIED:20251201T134309Z
UID:46967-1764756000-1764759600@njacts.rbhs.rutgers.edu
SUMMARY:Rutgers Princeton Center for Computational Cognitive Neuropsychiatry Seminar
DESCRIPTION:Rutgers Princeton Center for Computational Cognitive Neuropsychiatry Seminar–Risk mechanisms for internalizing psychopathology: Cognition and stress during the transition to adulthood\, Hannah Snyder\, Brandeis University. ccnp.princeton.edu
URL:https://njacts.rbhs.rutgers.edu/event/rutgers-princeton-center-for-computational-cognitive-neuropsychiatry-seminar-114/
END:VEVENT
BEGIN:VEVENT
DTSTART;TZID=America/New_York:20251202T120000
DTEND;TZID=America/New_York:20251202T130000
DTSTAMP:20260422T014937
CREATED:20250618T121827Z
LAST-MODIFIED:20251103T181000Z
UID:45082-1764676800-1764680400@njacts.rbhs.rutgers.edu
SUMMARY:NJ ACTS Special Populations Seminar
DESCRIPTION:NJ ACTS Special Populations Seminar–Inside IRTS: Data\, Design\, and the Power of Peer Support\, Katie Honovich. Virtual\, View Flyer and Register for Zoom
URL:https://njacts.rbhs.rutgers.edu/event/nj-acts-special-populations-seminar-7/
END:VEVENT
BEGIN:VEVENT
DTSTART;TZID=America/New_York:20251201T120000
DTEND;TZID=America/New_York:20251201T130000
DTSTAMP:20260422T014937
CREATED:20250818T133518Z
LAST-MODIFIED:20250818T133518Z
UID:45713-1764590400-1764594000@njacts.rbhs.rutgers.edu
SUMMARY:Trial Innovation Network Collaboration Webinar
DESCRIPTION:Trial Innovation Network Collaboration Webinar–Decentralized Trial Design\, Christopher Lindsell\, PhD\, Duke Clinical Research Institute. Register
URL:https://njacts.rbhs.rutgers.edu/event/trial-innovation-network-collaboration-webinar-24/
END:VEVENT
BEGIN:VEVENT
DTSTART;TZID=America/New_York:20251120T120000
DTEND;TZID=America/New_York:20251120T130000
DTSTAMP:20260422T014937
CREATED:20251120T164423Z
LAST-MODIFIED:20251120T174234Z
UID:46840-1763640000-1763643600@njacts.rbhs.rutgers.edu
SUMMARY:RWJ Tri-Departmental Research Discussion Series
DESCRIPTION:RWJ Tri-Departmental Research Discussion Series-Oligodendrocyte Lineage Cells in Aging and Parkinson’s Disease: Single-Nuclei Multiomic Approach of Human Midbrain\, Dr. Yoon-Seong Kim\, RWJMS. View Flyer
URL:https://njacts.rbhs.rutgers.edu/event/rwj-tri-departmental-research-discussion-series/
END:VEVENT
END:VCALENDAR