BEGIN:VCALENDAR
VERSION:2.0
PRODID:-//New Jersey Alliance for Clinical and Translational Science - ECPv6.15.14//NONSGML v1.0//EN
CALSCALE:GREGORIAN
METHOD:PUBLISH
X-WR-CALNAME:New Jersey Alliance for Clinical and Translational Science
X-ORIGINAL-URL:https://njacts.rbhs.rutgers.edu
X-WR-CALDESC:Events for New Jersey Alliance for Clinical and Translational Science
REFRESH-INTERVAL;VALUE=DURATION:PT1H
X-Robots-Tag:noindex
X-PUBLISHED-TTL:PT1H
BEGIN:VTIMEZONE
TZID:America/New_York
BEGIN:DAYLIGHT
TZOFFSETFROM:-0500
TZOFFSETTO:-0400
TZNAME:EDT
DTSTART:20250309T070000
END:DAYLIGHT
BEGIN:STANDARD
TZOFFSETFROM:-0400
TZOFFSETTO:-0500
TZNAME:EST
DTSTART:20251102T060000
END:STANDARD
BEGIN:DAYLIGHT
TZOFFSETFROM:-0500
TZOFFSETTO:-0400
TZNAME:EDT
DTSTART:20260308T070000
END:DAYLIGHT
BEGIN:STANDARD
TZOFFSETFROM:-0400
TZOFFSETTO:-0500
TZNAME:EST
DTSTART:20261101T060000
END:STANDARD
BEGIN:DAYLIGHT
TZOFFSETFROM:-0500
TZOFFSETTO:-0400
TZNAME:EDT
DTSTART:20270314T070000
END:DAYLIGHT
BEGIN:STANDARD
TZOFFSETFROM:-0400
TZOFFSETTO:-0500
TZNAME:EST
DTSTART:20271107T060000
END:STANDARD
END:VTIMEZONE
BEGIN:VEVENT
DTSTART;TZID=America/New_York:20260421T080000
DTEND;TZID=America/New_York:20260421T170000
DTSTAMP:20260423T200252
CREATED:20250821T143729Z
LAST-MODIFIED:20250821T143729Z
UID:45766-1776758400-1776790800@njacts.rbhs.rutgers.edu
SUMMARY:ACTS 2026 Conference
DESCRIPTION:ACTS 2026 Conference–Building Trustworthy Translation: Rigor\, Reproducibility\, and Real-World Impact. Baird Center\, Milwaukee\, WI. Read More.
URL:https://njacts.rbhs.rutgers.edu/event/acts-2026-conference-2/
LOCATION:Baird Center\, 400 W Wisconsin Ave\, Milwaukee\, WI\, 53203
END:VEVENT
BEGIN:VEVENT
DTSTART;TZID=America/New_York:20260421T133000
DTEND;TZID=America/New_York:20260421T160000
DTSTAMP:20260423T200252
CREATED:20260407T143414Z
LAST-MODIFIED:20260407T143414Z
UID:48253-1776778200-1776787200@njacts.rbhs.rutgers.edu
SUMMARY:Rutgers Health Annual Faculty and Staff Engagement Symposium
DESCRIPTION:Rutgers Health Annual Faculty and Staff Engagement Symposium-Empowering Teams: Navigating Conflict\, Facilitator Cristina Heta. Hageman Hall\, New Brunswick Theological Seminary\, 35 Seminary Place\, New Brunswick. Flyer and Register
URL:https://njacts.rbhs.rutgers.edu/event/rutgers-health-annual-faculty-and-staff-engagement-symposium/
LOCATION:Hageman Hall\, New Brunswick Seminary\, 35 Seminary Place\, New Brunswick\, NJ\, United States
END:VEVENT
END:VCALENDAR