BEGIN:VCALENDAR
VERSION:2.0
PRODID:-//New Jersey Alliance for Clinical and Translational Science - ECPv6.15.14//NONSGML v1.0//EN
CALSCALE:GREGORIAN
METHOD:PUBLISH
X-ORIGINAL-URL:https://njacts.rbhs.rutgers.edu
X-WR-CALDESC:Events for New Jersey Alliance for Clinical and Translational Science
REFRESH-INTERVAL;VALUE=DURATION:PT1H
X-Robots-Tag:noindex
X-PUBLISHED-TTL:PT1H
BEGIN:VTIMEZONE
TZID:America/New_York
BEGIN:DAYLIGHT
TZOFFSETFROM:-0500
TZOFFSETTO:-0400
TZNAME:EDT
DTSTART:20240310T070000
END:DAYLIGHT
BEGIN:STANDARD
TZOFFSETFROM:-0400
TZOFFSETTO:-0500
TZNAME:EST
DTSTART:20241103T060000
END:STANDARD
BEGIN:DAYLIGHT
TZOFFSETFROM:-0500
TZOFFSETTO:-0400
TZNAME:EDT
DTSTART:20250309T070000
END:DAYLIGHT
BEGIN:STANDARD
TZOFFSETFROM:-0400
TZOFFSETTO:-0500
TZNAME:EST
DTSTART:20251102T060000
END:STANDARD
BEGIN:DAYLIGHT
TZOFFSETFROM:-0500
TZOFFSETTO:-0400
TZNAME:EDT
DTSTART:20260308T070000
END:DAYLIGHT
BEGIN:STANDARD
TZOFFSETFROM:-0400
TZOFFSETTO:-0500
TZNAME:EST
DTSTART:20261101T060000
END:STANDARD
END:VTIMEZONE
BEGIN:VEVENT
DTSTART;TZID=America/New_York:20250129T080000
DTEND;TZID=America/New_York:20250129T090000
DTSTAMP:20260422T060502
CREATED:20250127T173433Z
LAST-MODIFIED:20250127T173433Z
UID:42961-1738137600-1738141200@njacts.rbhs.rutgers.edu
SUMMARY:Pediatric Grand Rounds
DESCRIPTION:Pediatric Grand Rounds-The Current Approach to Obesity in Children\, Svetlana Ten\, MD\, Rutgers RWJMS. Virtual. Zoom.
URL:https://njacts.rbhs.rutgers.edu/event/pediatric-grand-rounds-26/
END:VEVENT
BEGIN:VEVENT
DTSTART;TZID=America/New_York:20250129T100000
DTEND;TZID=America/New_York:20250129T110000
DTSTAMP:20260422T060502
CREATED:20250123T151927Z
LAST-MODIFIED:20250123T151927Z
UID:42937-1738144800-1738148400@njacts.rbhs.rutgers.edu
SUMMARY:Rutgers Princeton Center for Computational Cognitive Neuropsychiatry Seminar
DESCRIPTION:Rutgers Princeton Center for Computational Cognitive Neuropsychiatry Seminar–How can direct-brain recordings inform computational cognitive science and psychiatry? Salman Qasim\, Rutgers. ccnp.princeton.edu
URL:https://njacts.rbhs.rutgers.edu/event/rutgers-princeton-center-for-computational-cognitive-neuropsychiatry-seminar-98/
END:VEVENT
BEGIN:VEVENT
DTSTART;TZID=America/New_York:20250129T110000
DTEND;TZID=America/New_York:20250129T120000
DTSTAMP:20260422T060502
CREATED:20250130T173109Z
LAST-MODIFIED:20250130T173109Z
UID:43121-1738148400-1738152000@njacts.rbhs.rutgers.edu
SUMMARY:Spring Mentor Workshops 2025
DESCRIPTION:Spring Mentor Workshops 2025-Introduction to Mentoring. Beck Hall\, Room 215\, Livingston Campus\, Piscataway. View Flyer
URL:https://njacts.rbhs.rutgers.edu/event/spring-mentor-workshops-2025/
LOCATION:Beck Hall\, Room 215\, Livingston Campus\, Piscataway\, NJ
END:VEVENT
END:VCALENDAR