BEGIN:VCALENDAR
VERSION:2.0
PRODID:-//New Jersey Alliance for Clinical and Translational Science - ECPv6.15.14//NONSGML v1.0//EN
CALSCALE:GREGORIAN
METHOD:PUBLISH
X-ORIGINAL-URL:https://njacts.rbhs.rutgers.edu
X-WR-CALDESC:Events for New Jersey Alliance for Clinical and Translational Science
REFRESH-INTERVAL;VALUE=DURATION:PT1H
X-Robots-Tag:noindex
X-PUBLISHED-TTL:PT1H
BEGIN:VTIMEZONE
TZID:UTC
BEGIN:STANDARD
TZOFFSETFROM:+0000
TZOFFSETTO:+0000
TZNAME:UTC
DTSTART:20230101T000000
END:STANDARD
END:VTIMEZONE
BEGIN:VEVENT
DTSTART;TZID=UTC:20240419T120000
DTEND;TZID=UTC:20240419T130000
DTSTAMP:20260422T172645
CREATED:20240410T183925Z
LAST-MODIFIED:20240410T183925Z
UID:40058-1713528000-1713531600@njacts.rbhs.rutgers.edu
SUMMARY:Princeton Precision Health Seminar Series
DESCRIPTION:Princeton Precision Health Seminar Series-The Etiologies of Kawasaki Disease\, Jane Burns\, MD\, University of California\, San Diego\, 252 Nassau Street. View Flyer
URL:https://njacts.rbhs.rutgers.edu/event/princeton-precision-health-seminar-series-3/
LOCATION:Princeton University\, 252 Nassau Street\, Princeton\, NJ\, 08544\, United States
END:VEVENT
BEGIN:VEVENT
DTSTART;TZID=UTC:20240419T123000
DTEND;TZID=UTC:20240419T130000
DTSTAMP:20260422T172645
CREATED:20240214T204715Z
LAST-MODIFIED:20240415T214011Z
UID:39182-1713529800-1713531600@njacts.rbhs.rutgers.edu
SUMMARY:Diversity & Inclusion Campus Communication Cafe
DESCRIPTION:Diversity and Inclusion Campus Communication Cafe-Meeting That Win: The Science Behind Successful Meetings\, Issata Oluwadare\, Rutgers. Virtual. Meeting ID: 932 4426 6578 Password: 370910.
URL:https://njacts.rbhs.rutgers.edu/event/diversity-and-inclusion-campus-communication-cafe-3/
END:VEVENT
BEGIN:VEVENT
DTSTART;TZID=UTC:20240419T130000
DTEND;TZID=UTC:20240419T141500
DTSTAMP:20260422T172645
CREATED:20240403T185800Z
LAST-MODIFIED:20240403T185800Z
UID:39936-1713531600-1713536100@njacts.rbhs.rutgers.edu
SUMMARY:NIH Community Engagement Alliance Consultative Resource (CEACR) Speaker Series
DESCRIPTION:NIH Community Engagement Alliance Consultative Resource (CEACR) Speaker Series-Community-Centered Research Design\, explore considerations and strategies for engaging in participatory research processes with community members and organizations\, including study design\, partnership structures\, engagement planning\, and bidirectional communication. Register for Webinar
URL:https://njacts.rbhs.rutgers.edu/event/nih-community-engagement-alliance-consultative-resource-ceacr-speaker-series/
END:VEVENT
BEGIN:VEVENT
DTSTART;TZID=UTC:20240419T140000
DTEND;TZID=UTC:20240419T144500
DTSTAMP:20260422T172645
CREATED:20240415T213902Z
LAST-MODIFIED:20240417T173218Z
UID:40071-1713535200-1713537900@njacts.rbhs.rutgers.edu
SUMMARY:School of Social Work X Chat
DESCRIPTION:School of Social Work X Chat-Community Perspectives on Using Wastewater to Monitor Opioid Misuse\, hosted by Qiana L. Brown\, PhD\, Rutgers.(@QianaBrownPhD\, @NJACTS). Click here to learn more. View Flyer
URL:https://njacts.rbhs.rutgers.edu/event/school-of-social-work-x-chat/
END:VEVENT
END:VCALENDAR