BEGIN:VCALENDAR
VERSION:2.0
PRODID:-//New Jersey Alliance for Clinical and Translational Science - ECPv6.15.14//NONSGML v1.0//EN
CALSCALE:GREGORIAN
METHOD:PUBLISH
X-WR-CALNAME:New Jersey Alliance for Clinical and Translational Science
X-ORIGINAL-URL:https://njacts.rbhs.rutgers.edu
X-WR-CALDESC:Events for New Jersey Alliance for Clinical and Translational Science
REFRESH-INTERVAL;VALUE=DURATION:PT1H
X-Robots-Tag:noindex
X-PUBLISHED-TTL:PT1H
BEGIN:VTIMEZONE
TZID:UTC
BEGIN:STANDARD
TZOFFSETFROM:+0000
TZOFFSETTO:+0000
TZNAME:UTC
DTSTART:20220101T000000
END:STANDARD
END:VTIMEZONE
BEGIN:VEVENT
DTSTART;TZID=UTC:20231031T120000
DTEND;TZID=UTC:20231031T130000
DTSTAMP:20260423T230720
CREATED:20231019T173110Z
LAST-MODIFIED:20231019T174152Z
UID:38063-1698753600-1698757200@njacts.rbhs.rutgers.edu
SUMMARY:Rutgers New Jersey Medical School Invited Speaker Seminar
DESCRIPTION:Rutgers New Jersey Medical School Invited Speaker Seminar-The Genomics Center: Driving Research and Precision Medicine Initiatives\, Milind C. Mahajan\, PhD\, Rutgers. View Flyer. In person at the ICPH Auditorium C-109\, 225 Warren Street\, Newark or Join on Zoom.
URL:https://njacts.rbhs.rutgers.edu/event/rutgers-new-jersey-medical-school-invited-speaker-seminar/
LOCATION:International Center for Public Health\, First Floor Auditorium\, 225 Warren Street\, Newark\, 07103\, United States
END:VEVENT
BEGIN:VEVENT
DTSTART;TZID=UTC:20231031T120000
DTEND;TZID=UTC:20231031T133000
DTSTAMP:20260423T230720
CREATED:20231018T202741Z
LAST-MODIFIED:20231018T202856Z
UID:38046-1698753600-1698759000@njacts.rbhs.rutgers.edu
SUMMARY:University Equity and Inclusion Classroom Inclusivity Series
DESCRIPTION:University Equity and Inclusion Classroom Inclusivity Series–Speak Up! Bystander Intervention Workshop\, Virtual – Register Here
URL:https://njacts.rbhs.rutgers.edu/event/university-equity-and-inclusion-classroom-inclusivity-series-2/
END:VEVENT
BEGIN:VEVENT
DTSTART;TZID=UTC:20231031T130000
DTEND;TZID=UTC:20231031T140000
DTSTAMP:20260423T230720
CREATED:20230927T173204Z
LAST-MODIFIED:20230927T182703Z
UID:37678-1698757200-1698760800@njacts.rbhs.rutgers.edu
SUMMARY:NJ ACTS Special Populations Seminar Series
DESCRIPTION:NJ ACTS Special Populations Seminar Series-Improving Pain Strategies in the Emergency Department\, Cynthia Santos\, MD\, Rutgers NJMS. Virtual. View Flyer and Join on Zoom.
URL:https://njacts.rbhs.rutgers.edu/event/nj-acts-special-populations-seminar-series-2/
END:VEVENT
END:VCALENDAR