BEGIN:VCALENDAR
VERSION:2.0
PRODID:-//New Jersey Alliance for Clinical and Translational Science - ECPv6.15.14//NONSGML v1.0//EN
CALSCALE:GREGORIAN
METHOD:PUBLISH
X-ORIGINAL-URL:https://njacts.rbhs.rutgers.edu
X-WR-CALDESC:Events for New Jersey Alliance for Clinical and Translational Science
REFRESH-INTERVAL;VALUE=DURATION:PT1H
X-Robots-Tag:noindex
X-PUBLISHED-TTL:PT1H
BEGIN:VTIMEZONE
TZID:UTC
BEGIN:STANDARD
TZOFFSETFROM:+0000
TZOFFSETTO:+0000
TZNAME:UTC
DTSTART:20220101T000000
END:STANDARD
END:VTIMEZONE
BEGIN:VEVENT
DTSTART;TZID=UTC:20230118T140000
DTEND;TZID=UTC:20230118T153000
DTSTAMP:20260422T110353
CREATED:20221228T002151Z
LAST-MODIFIED:20221228T002151Z
UID:33278-1674050400-1674055800@njacts.rbhs.rutgers.edu
SUMMARY:Rutgers Center for State Health Policy Virtual Discussion
DESCRIPTION:Rutgers Center for State Health Policy Virtual Discussion-Exploring Interstate Licensure Compacts: Implications for NJ’s Healthcare Workforce. Ann M. Nguyen\, PhD\, MPH\, Rutgers.  View Flyer and Register
URL:https://njacts.rbhs.rutgers.edu/event/rutgers-center-for-state-health-policy-virtual-discussion/
END:VEVENT
BEGIN:VEVENT
DTSTART;TZID=UTC:20230118T160000
DTEND;TZID=UTC:20230118T170000
DTSTAMP:20260422T110353
CREATED:20230124T000055Z
LAST-MODIFIED:20230124T000055Z
UID:33489-1674057600-1674061200@njacts.rbhs.rutgers.edu
SUMMARY:Rutgers Cancer Institute of New Jersey Grand Round Seminar Series
DESCRIPTION:Rutgers Cancer Institute of New Jersey Grand Round Seminar Series-“Aberrant CRTC Activation in Cancer:  Mechanisms and Targeting Strategies”  View Flyer
URL:https://njacts.rbhs.rutgers.edu/event/rutgers-cancer-institute-of-new-jersey-grand-round-seminar-series/
END:VEVENT
BEGIN:VEVENT
DTSTART;TZID=UTC:20230118T190000
DTEND;TZID=UTC:20230118T200000
DTSTAMP:20260422T110353
CREATED:20230119T222100Z
LAST-MODIFIED:20230119T222100Z
UID:33470-1674068400-1674072000@njacts.rbhs.rutgers.edu
SUMMARY:Rutgers School of Health Professions Virtual Open House
DESCRIPTION:Rutgers School of Health Professions Virtual Open House-Master of Science in Clinical Research Management\, designed for students who would like to manage clinical research at a Pharmaceutical\, Biotech\, Clinical Research Organization (CRO) or Academic Medical Center (AMC).
URL:https://njacts.rbhs.rutgers.edu/event/rutgers-school-of-health-professions-virtual-open-house-4/
END:VEVENT
END:VCALENDAR