BEGIN:VCALENDAR
VERSION:2.0
PRODID:-//New Jersey Alliance for Clinical and Translational Science - ECPv6.15.14//NONSGML v1.0//EN
CALSCALE:GREGORIAN
METHOD:PUBLISH
X-WR-CALNAME:New Jersey Alliance for Clinical and Translational Science
X-ORIGINAL-URL:https://njacts.rbhs.rutgers.edu
X-WR-CALDESC:Events for New Jersey Alliance for Clinical and Translational Science
REFRESH-INTERVAL;VALUE=DURATION:PT1H
X-Robots-Tag:noindex
X-PUBLISHED-TTL:PT1H
BEGIN:VTIMEZONE
TZID:UTC
BEGIN:STANDARD
TZOFFSETFROM:+0000
TZOFFSETTO:+0000
TZNAME:UTC
DTSTART:20200101T000000
END:STANDARD
END:VTIMEZONE
BEGIN:VEVENT
DTSTART;TZID=UTC:20210921T090000
DTEND;TZID=UTC:20210921T140000
DTSTAMP:20260419T094340
CREATED:20210913T162715Z
LAST-MODIFIED:20210913T163115Z
UID:24492-1632214800-1632232800@njacts.rbhs.rutgers.edu
SUMMARY:Third Annual CHINJ Scientific Retreat (Virtual)
DESCRIPTION:Third Annual CHINJ Scientific Retreat (Virtual)\nThe program will begin promptly at 9:00 AM with a Keynote Talk by Dr. Carlos Pato\, Dr. Michele Pato (Rutgers Univ) and Dr. Tim Bigdeli (SYNY Downstate)\nWe will then have a series of talks by our faculty and trainees and will conclude with a lunch reception on the 2nd floor atrium and patio.\nView flyer for more information. \nJoin via Zoom\nMeeting ID: 966 6947 7465\nPassword: KvwTD4  \n  \n 
URL:https://njacts.rbhs.rutgers.edu/event/third-annual-chinj-scientific-retreat-virtual/
END:VEVENT
BEGIN:VEVENT
DTSTART;TZID=UTC:20210921T120000
DTEND;TZID=UTC:20210921T130000
DTSTAMP:20260419T094340
CREATED:20201019T180201Z
LAST-MODIFIED:20201019T180201Z
UID:17475-1632225600-1632229200@njacts.rbhs.rutgers.edu
SUMMARY:Center for COVID-19 Response and Pandemic Preparedness (CCRP2) Biomedical Research-In-Progress Series
DESCRIPTION:Center for COVID-19 Response and Pandemic Preparedness (CCRP2) Biomedical Research-In-Progress Series-Translational Science Project(s). Join via Webex.
URL:https://njacts.rbhs.rutgers.edu/event/center-for-covid-19-response-and-pandemic-preparedness-ccrp2-biomedical-research-in-progress-series-13/
END:VEVENT
BEGIN:VEVENT
DTSTART;TZID=UTC:20210921T120000
DTEND;TZID=UTC:20210921T130000
DTSTAMP:20260419T094340
CREATED:20210920T212505Z
LAST-MODIFIED:20210920T212505Z
UID:24584-1632225600-1632229200@njacts.rbhs.rutgers.edu
SUMMARY:Rutgers Princeton Center for Computational Cognitive Neuropsychiatry Faculty Candidate Seminar
DESCRIPTION:Rutgers Princeton Center for Computational Cognitive Neuropsychiatry Faculty Candidate Seminar-Striatal Dopamine and the Costs and Benefits of Cognitive Effort\, Andrew Westbrook\, PhD\, Department of Cognitive\, Linguistic\, and Psychological Sciences\, Brown University. Join via Zoom.
URL:https://njacts.rbhs.rutgers.edu/event/rutgers-princeton-center-for-computational-cognitive-neuropsychiatry-faculty-candidate-seminar/
END:VEVENT
BEGIN:VEVENT
DTSTART;TZID=UTC:20210921T130000
DTEND;TZID=UTC:20210921T140000
DTSTAMP:20260419T094340
CREATED:20210726T214108Z
LAST-MODIFIED:20210726T214108Z
UID:23693-1632229200-1632232800@njacts.rbhs.rutgers.edu
SUMMARY:NJ ACTS Special Populations Core 2021 Webinar Series
DESCRIPTION:NJ ACTS Special Populations Core 2021 Webinar Series-Using Genetics to Do Social Science: Inside the Social Genomics Revolution\, Dalton Conley\, PhD\, Princeton University. View Flyer and Join via Zoom.
URL:https://njacts.rbhs.rutgers.edu/event/nj-acts-special-populations-core-2021-webinar-series-3/
END:VEVENT
BEGIN:VEVENT
DTSTART;TZID=UTC:20210921T140000
DTEND;TZID=UTC:20210921T153000
DTSTAMP:20260419T094340
CREATED:20210913T194506Z
LAST-MODIFIED:20210913T194727Z
UID:24507-1632232800-1632238200@njacts.rbhs.rutgers.edu
SUMMARY:Office of Cancer Survivorship 25th Anniversary Director Series
DESCRIPTION:Office of Cancer Survivorship 25th Anniversary Director Series-Survivorship Healthcare Delivery: Challenges and Opportunities Integrating Primary Care\, Shawna Hudson\, PhD\, Rutgers.  Read more and Register Here.
URL:https://njacts.rbhs.rutgers.edu/event/office-of-cancer-survivorship-25th-anniversary-director-series/
END:VEVENT
BEGIN:VEVENT
DTSTART;TZID=UTC:20210921T170000
DTEND;TZID=UTC:20210921T180000
DTSTAMP:20260419T094340
CREATED:20210922T171753Z
LAST-MODIFIED:20210922T171904Z
UID:24619-1632243600-1632247200@njacts.rbhs.rutgers.edu
SUMMARY:NJ ACTS Workforce Core Professional Training
DESCRIPTION:NJ ACTS Workforce Core Professional Training-Translating ResearchFrom Bench to Bedside\, Lauren Aleksunes\, PharmD\, PhD\, Rutgers. View Flyer and Register Here!
URL:https://njacts.rbhs.rutgers.edu/event/nj-acts-workforce-core-interactive-session/
END:VEVENT
END:VCALENDAR