BEGIN:VCALENDAR
VERSION:2.0
PRODID:-//New Jersey Alliance for Clinical and Translational Science - ECPv6.15.14//NONSGML v1.0//EN
CALSCALE:GREGORIAN
METHOD:PUBLISH
X-WR-CALNAME:New Jersey Alliance for Clinical and Translational Science
X-ORIGINAL-URL:https://njacts.rbhs.rutgers.edu
X-WR-CALDESC:Events for New Jersey Alliance for Clinical and Translational Science
REFRESH-INTERVAL;VALUE=DURATION:PT1H
X-Robots-Tag:noindex
X-PUBLISHED-TTL:PT1H
BEGIN:VTIMEZONE
TZID:UTC
BEGIN:STANDARD
TZOFFSETFROM:+0000
TZOFFSETTO:+0000
TZNAME:UTC
DTSTART:20200101T000000
END:STANDARD
END:VTIMEZONE
BEGIN:VEVENT
DTSTART;TZID=UTC:20210415T110000
DTEND;TZID=UTC:20210415T190000
DTSTAMP:20260425T171046
CREATED:20210119T212631Z
LAST-MODIFIED:20210119T212631Z
UID:19277-1618484400-1618513200@njacts.rbhs.rutgers.edu
SUMMARY:2021 Spring CTSA Program Group Meetings
DESCRIPTION:2021 Spring CTSA Program Group Meetings-The Spring CTSA Program Group Meeting supports meetings of several Enterprise Committees (EC) and Consortium groups. Team leads and respective group membership members will continue to collaborate in planning the individual Group Meeting agendas. Read More and Register Here.
URL:https://njacts.rbhs.rutgers.edu/event/2021-spring-ctsa-program-group-meetings-2/
END:VEVENT
END:VCALENDAR