BEGIN:VCALENDAR
VERSION:2.0
PRODID:-//New Jersey Alliance for Clinical and Translational Science - ECPv6.15.14//NONSGML v1.0//EN
CALSCALE:GREGORIAN
METHOD:PUBLISH
X-ORIGINAL-URL:https://njacts.rbhs.rutgers.edu
X-WR-CALDESC:Events for New Jersey Alliance for Clinical and Translational Science
REFRESH-INTERVAL;VALUE=DURATION:PT1H
X-Robots-Tag:noindex
X-PUBLISHED-TTL:PT1H
BEGIN:VTIMEZONE
TZID:UTC
BEGIN:STANDARD
TZOFFSETFROM:+0000
TZOFFSETTO:+0000
TZNAME:UTC
DTSTART:20200101T000000
END:STANDARD
END:VTIMEZONE
BEGIN:VEVENT
DTSTART;VALUE=DATE:20210119
DTEND;VALUE=DATE:20210126
DTSTAMP:20260422T123301
CREATED:20210113T194901Z
LAST-MODIFIED:20210113T194901Z
UID:19147-1611014400-1611619199@njacts.rbhs.rutgers.edu
SUMMARY:COVID-19 Research Open House Week & Community Research Symposium
DESCRIPTION:COVID-19 Research Open House Week & Community Research Symposium –\nKick-off Event: Community Research Symposium: Jan 19th\, 2021\nOpen House Week: Jan 19th – 25th\, 2021 \nThe event will be kicked off with a 1-hour symposium\, followed by a week of open Clinical Domain Team meetings to welcome new collaborators and help them launch their research questions.
URL:https://njacts.rbhs.rutgers.edu/event/covid-19-research-open-house-week-community-research-symposium/
END:VEVENT
BEGIN:VEVENT
DTSTART;TZID=UTC:20210122T100000
DTEND;TZID=UTC:20210122T110000
DTSTAMP:20260422T123301
CREATED:20210114T005053Z
LAST-MODIFIED:20210114T005053Z
UID:19152-1611309600-1611313200@njacts.rbhs.rutgers.edu
SUMMARY:Child Health Institute of New Jersey Science Seminar
DESCRIPTION:Child Health Institute of New Jersey Science Seminar – “Evolving understanding of ani-HLA antibodies in transplantation”\nSpeaker: Ronald Pelletier\, MD\, FACS\, Kidney and Pancreas Transplant Program Director\, Kidney/Pancreas Transplant Center\, RWJ Barnabas Health\nJoin via Zoom
URL:https://njacts.rbhs.rutgers.edu/event/child-health-institute-of-new-jersey-science-seminar-11/
END:VEVENT
BEGIN:VEVENT
DTSTART;TZID=UTC:20210122T133000
DTEND;TZID=UTC:20210122T143000
DTSTAMP:20260422T123301
CREATED:20210112T190137Z
LAST-MODIFIED:20210112T190137Z
UID:19136-1611322200-1611325800@njacts.rbhs.rutgers.edu
SUMMARY:Innovative Statistical Methods for Clinical Trials\, Observational Studies and Bioassays
DESCRIPTION:Innovative Statistical Methods for Clinical Trials\, Observational Studies and Bioassays – hosted by Dr. Xuelin Huang\, The University of Texas MD Anderson Cancer Center.\nJoin via Webex.\nMeeting number (access code): 120 928 8602\nMeeting password: 8nSGQ5dfk8x\nJoin by phone: 1-650-429-3300
URL:https://njacts.rbhs.rutgers.edu/event/innovative-statistical-methods-for-clinical-trials-observational-studies-and-bioassays/
END:VEVENT
END:VCALENDAR