BEGIN:VCALENDAR
VERSION:2.0
PRODID:-//New Jersey Alliance for Clinical and Translational Science - ECPv6.15.14//NONSGML v1.0//EN
CALSCALE:GREGORIAN
METHOD:PUBLISH
X-WR-CALNAME:New Jersey Alliance for Clinical and Translational Science
X-ORIGINAL-URL:https://njacts.rbhs.rutgers.edu
X-WR-CALDESC:Events for New Jersey Alliance for Clinical and Translational Science
REFRESH-INTERVAL;VALUE=DURATION:PT1H
X-Robots-Tag:noindex
X-PUBLISHED-TTL:PT1H
BEGIN:VTIMEZONE
TZID:UTC
BEGIN:STANDARD
TZOFFSETFROM:+0000
TZOFFSETTO:+0000
TZNAME:UTC
DTSTART:20190101T000000
END:STANDARD
END:VTIMEZONE
BEGIN:VEVENT
DTSTART;TZID=UTC:20201210T110000
DTEND;TZID=UTC:20201210T120000
DTSTAMP:20260423T144243
CREATED:20200928T212057Z
LAST-MODIFIED:20201208T210517Z
UID:16725-1607598000-1607601600@njacts.rbhs.rutgers.edu
SUMMARY:Child Health Institute Weekly COVID-19 Discussion Group
DESCRIPTION:Child Health Institute Weekly COVID-19 Discussion Group – Immune responses to SARS-CoV-2 infection in hospitalized pediatric and adult patients\, Jerry Langer \, Rutgers. Join via Webex.
URL:https://njacts.rbhs.rutgers.edu/event/child-health-institute-weekly-covid-19-discussion-group-16/
END:VEVENT
BEGIN:VEVENT
DTSTART;TZID=UTC:20201210T120000
DTEND;TZID=UTC:20201210T154500
DTSTAMP:20260423T144243
CREATED:20201118T203941Z
LAST-MODIFIED:20201118T203941Z
UID:18212-1607601600-1607615100@njacts.rbhs.rutgers.edu
SUMMARY:All In Data for Community Health National Meeting
DESCRIPTION:All In Data for Community Health National Meeting-4th Annual National Meeting themes include: examining work through the lens of racial justice and health equity; incorporating community voice and leadership; and unpacking the nuts and bolts of data sharing. Read More and Register Here.
URL:https://njacts.rbhs.rutgers.edu/event/all-in-data-for-community-health-national-meeting/
END:VEVENT
BEGIN:VEVENT
DTSTART;TZID=UTC:20201210T130000
DTEND;TZID=UTC:20201210T140000
DTSTAMP:20260423T144243
CREATED:20201020T173016Z
LAST-MODIFIED:20201020T173016Z
UID:17554-1607605200-1607608800@njacts.rbhs.rutgers.edu
SUMMARY:Association for Clinical and Translational Science (ACTS) Translational Science 2020 Webinar Series
DESCRIPTION:Association for Clinical and Translational Science (ACTS) Translational Science 2020 Webinar Series-Workshop: Inclusion Across the Lifespan and Life Course Research – Real World Applications for Translational Research.
URL:https://njacts.rbhs.rutgers.edu/event/association-for-clinical-and-translational-science-acts-translational-science-2020-webinar-series-7/
END:VEVENT
END:VCALENDAR