BEGIN:VCALENDAR
VERSION:2.0
PRODID:-//New Jersey Alliance for Clinical and Translational Science - ECPv6.15.14//NONSGML v1.0//EN
CALSCALE:GREGORIAN
METHOD:PUBLISH
X-WR-CALNAME:New Jersey Alliance for Clinical and Translational Science
X-ORIGINAL-URL:https://njacts.rbhs.rutgers.edu
X-WR-CALDESC:Events for New Jersey Alliance for Clinical and Translational Science
REFRESH-INTERVAL;VALUE=DURATION:PT1H
X-Robots-Tag:noindex
X-PUBLISHED-TTL:PT1H
BEGIN:VTIMEZONE
TZID:UTC
BEGIN:STANDARD
TZOFFSETFROM:+0000
TZOFFSETTO:+0000
TZNAME:UTC
DTSTART:20190101T000000
END:STANDARD
END:VTIMEZONE
BEGIN:VEVENT
DTSTART;TZID=UTC:20201030T150000
DTEND;TZID=UTC:20201030T170000
DTSTAMP:20260425T091355
CREATED:20201022T204731Z
LAST-MODIFIED:20201022T204731Z
UID:17624-1604070000-1604077200@njacts.rbhs.rutgers.edu
SUMMARY:Princeton Virtual Conference - Health Policy and the Election
DESCRIPTION:Princeton Virtual Conference\, Health Policy and the Election–Panel 1: The Politics behind Health Policy. Panel 2: The Economics of Health Policy. Read More! and Register Here!
URL:https://njacts.rbhs.rutgers.edu/event/princeton-virtual-conference-health-policy-and-the-election/
END:VEVENT
END:VCALENDAR