BEGIN:VCALENDAR
VERSION:2.0
PRODID:-//New Jersey Alliance for Clinical and Translational Science - ECPv6.15.14//NONSGML v1.0//EN
CALSCALE:GREGORIAN
METHOD:PUBLISH
X-WR-CALNAME:New Jersey Alliance for Clinical and Translational Science
X-ORIGINAL-URL:https://njacts.rbhs.rutgers.edu
X-WR-CALDESC:Events for New Jersey Alliance for Clinical and Translational Science
REFRESH-INTERVAL;VALUE=DURATION:PT1H
X-Robots-Tag:noindex
X-PUBLISHED-TTL:PT1H
BEGIN:VTIMEZONE
TZID:UTC
BEGIN:STANDARD
TZOFFSETFROM:+0000
TZOFFSETTO:+0000
TZNAME:UTC
DTSTART:20190101T000000
END:STANDARD
END:VTIMEZONE
BEGIN:VEVENT
DTSTART;TZID=UTC:20201021T100000
DTEND;TZID=UTC:20201021T120000
DTSTAMP:20260423T181218
CREATED:20200921T223401Z
LAST-MODIFIED:20200921T223401Z
UID:16577-1603274400-1603281600@njacts.rbhs.rutgers.edu
SUMMARY:Center for Environmental Exposures and Disease (CEED) Virtual Seminar Series
DESCRIPTION:Center for Environmental Exposures and Disease (CEED) Virtual Seminar Series-CoVID-19 and Cumulative Impacts. Read more.
URL:https://njacts.rbhs.rutgers.edu/event/center-for-environmental-exposures-and-disease-ceed-virtual-seminar-series-2/
END:VEVENT
BEGIN:VEVENT
DTSTART;TZID=UTC:20201021T120000
DTEND;TZID=UTC:20201021T130000
DTSTAMP:20260423T181218
CREATED:20201019T171337Z
LAST-MODIFIED:20201019T171337Z
UID:17451-1603281600-1603285200@njacts.rbhs.rutgers.edu
SUMMARY:Center for COVID-19 Response and Pandemic Preparedness (CCRP2) Biomedical Research-In-Progress Series
DESCRIPTION:Center for COVID-19 Response and Pandemic Preparedness (CCRP2) Biomedical Research-In-Progress Series-Clinically related COVID-19 research findings from Dr. Alland’s lab and the vision for the CCRP2 and how the CCRP2 can support Rutgers investigators on COVID-19 research projects across disciplines\, David Alland\, Director of the CCRP2. Join via Webex. \n 
URL:https://njacts.rbhs.rutgers.edu/event/center-for-covid-19-response-and-pandemic-preparedness-ccrp2-biomedical-research-in-progress-series/
END:VEVENT
BEGIN:VEVENT
DTSTART;TZID=UTC:20201021T160000
DTEND;TZID=UTC:20201021T170000
DTSTAMP:20260423T181218
CREATED:20201005T180726Z
LAST-MODIFIED:20201019T165959Z
UID:16939-1603296000-1603299600@njacts.rbhs.rutgers.edu
SUMMARY:CINJ Grand Round Lecture Seminar Series
DESCRIPTION:CINJ Grand Round Lecture Seminar Series-Precision Medicine Opportunities for Suntype and Genotype Specific Lung Cancers\, Christine Brainson\, University of Kentucky. Register Here!
URL:https://njacts.rbhs.rutgers.edu/event/cinj-grand-round-lecture-seminar-series-5/
END:VEVENT
END:VCALENDAR