BEGIN:VCALENDAR
VERSION:2.0
PRODID:-//New Jersey Alliance for Clinical and Translational Science - ECPv6.15.14//NONSGML v1.0//EN
CALSCALE:GREGORIAN
METHOD:PUBLISH
X-WR-CALNAME:New Jersey Alliance for Clinical and Translational Science
X-ORIGINAL-URL:https://njacts.rbhs.rutgers.edu
X-WR-CALDESC:Events for New Jersey Alliance for Clinical and Translational Science
REFRESH-INTERVAL;VALUE=DURATION:PT1H
X-Robots-Tag:noindex
X-PUBLISHED-TTL:PT1H
BEGIN:VTIMEZONE
TZID:UTC
BEGIN:STANDARD
TZOFFSETFROM:+0000
TZOFFSETTO:+0000
TZNAME:UTC
DTSTART:20190101T000000
END:STANDARD
END:VTIMEZONE
BEGIN:VEVENT
DTSTART;TZID=UTC:20200924T080000
DTEND;TZID=UTC:20200924T090000
DTSTAMP:20260423T200139
CREATED:20200914T213314Z
LAST-MODIFIED:20200914T213314Z
UID:16359-1600934400-1600938000@njacts.rbhs.rutgers.edu
SUMMARY:Pediatric Grand Rounds
DESCRIPTION:Pediatric Grand Rounds-Pediatric Stroke:  Finding (and Treating) the Needle in the Haystack\, Lauren Beslow\, Children’s Hospital of Philadelphia. Join via Webex. Contact Maricel Quinones.
URL:https://njacts.rbhs.rutgers.edu/event/pediatric-grand-rounds-13/
END:VEVENT
BEGIN:VEVENT
DTSTART;TZID=UTC:20200924T110000
DTEND;TZID=UTC:20200924T120000
DTSTAMP:20260423T200139
CREATED:20200923T174858Z
LAST-MODIFIED:20200923T174858Z
UID:16587-1600945200-1600948800@njacts.rbhs.rutgers.edu
SUMMARY:Child Health Institute Weekly COVID-19 Discussion Group
DESCRIPTION:Child Health Institute Weekly COVID-19 Discussion Group-Open Discussion hosted by Dr. Lisa Denzin. Join via Webex.
URL:https://njacts.rbhs.rutgers.edu/event/child-health-institute-weekly-covid-19-discussion-group-13/
END:VEVENT
BEGIN:VEVENT
DTSTART;TZID=UTC:20200924T130000
DTEND;TZID=UTC:20200924T140000
DTSTAMP:20260423T200139
CREATED:20201001T203051Z
LAST-MODIFIED:20201001T203051Z
UID:16891-1600952400-1600956000@njacts.rbhs.rutgers.edu
SUMMARY:NJIT Cyberpsychology Seminar Series
DESCRIPTION:NJIT Cyberpsychology Seminar Series-Disinformation — It’s the Thought That Counts\, Rand Waltzman\, RAND Corporation. Learn More and Register Here!
URL:https://njacts.rbhs.rutgers.edu/event/njit-cyberpsychology-seminar-series/
END:VEVENT
BEGIN:VEVENT
DTSTART;TZID=UTC:20200924T140000
DTEND;TZID=UTC:20200924T153000
DTSTAMP:20260423T200139
CREATED:20200914T205021Z
LAST-MODIFIED:20200914T205021Z
UID:16352-1600956000-1600961400@njacts.rbhs.rutgers.edu
SUMMARY:NJ ACTS Biostatistics and Epidemiology Workshop Series
DESCRIPTION:NJ ACTS Biostatistics and Epidemiology Workshop Series-Deep Learning Methods for Analysis of Genomic Data\, Zhi Wei\, NJIT. In this workshop\, two applications are used to illustrate how deep learning methods can help to solve biological problems. The first one concerns about clustering analysis of single-cell RNA-seq (scRNA-seq) data. The second application concerns about copy number variation (CNV) analysis in genetics. Join via Webex. For questions and RSVP contact: zabalaje@sph.rutgers.edu
URL:https://njacts.rbhs.rutgers.edu/event/nj-acts-biostatistics-and-epidemiology-workshop-series-5/
END:VEVENT
END:VCALENDAR