BEGIN:VCALENDAR
VERSION:2.0
PRODID:-//New Jersey Alliance for Clinical and Translational Science - ECPv6.15.14//NONSGML v1.0//EN
CALSCALE:GREGORIAN
METHOD:PUBLISH
X-WR-CALNAME:New Jersey Alliance for Clinical and Translational Science
X-ORIGINAL-URL:https://njacts.rbhs.rutgers.edu
X-WR-CALDESC:Events for New Jersey Alliance for Clinical and Translational Science
REFRESH-INTERVAL;VALUE=DURATION:PT1H
X-Robots-Tag:noindex
X-PUBLISHED-TTL:PT1H
BEGIN:VTIMEZONE
TZID:UTC
BEGIN:STANDARD
TZOFFSETFROM:+0000
TZOFFSETTO:+0000
TZNAME:UTC
DTSTART:20190101T000000
END:STANDARD
END:VTIMEZONE
BEGIN:VEVENT
DTSTART;TZID=UTC:20200730T080000
DTEND;TZID=UTC:20200730T090000
DTSTAMP:20260423T181218
CREATED:20200713T212219Z
LAST-MODIFIED:20200713T212219Z
UID:15036-1596096000-1596099600@njacts.rbhs.rutgers.edu
SUMMARY:Pediatric Grand Rounds
DESCRIPTION:Pediatric Grand Rounds-New AAP recommendations to proactively address systemic racism\, Jacqueline Dougé\, former resident and medical director for the bureau of health services in the Howard County (Maryland) Health Department (Hosted by Dr. Patricia Whitley-Williams). Clinical Academic Building\, Room 1302\, 125 Paterson Street\, New Brunswick.
URL:https://njacts.rbhs.rutgers.edu/event/pediatric-grand-rounds-10/
LOCATION:Clinical Academic Building\, Conference Room 1302\, 125 Paterson Street\, New Brunswick\, NJ\, 08901\, United States
END:VEVENT
BEGIN:VEVENT
DTSTART;TZID=UTC:20200730T110000
DTEND;TZID=UTC:20200730T120000
DTSTAMP:20260423T181218
CREATED:20200714T194548Z
LAST-MODIFIED:20200729T175553Z
UID:15119-1596106800-1596110400@njacts.rbhs.rutgers.edu
SUMMARY:Child Health Institute Weekly COVID-19 Discussion Group
DESCRIPTION:Child Health Institute Weekly COVID-19 Discussion Group-Open Discussion hosted by Dr. Arnold Rabson.  Connect via webex.
URL:https://njacts.rbhs.rutgers.edu/event/child-health-institute-weekly-covid-19-discussion-group-7/
END:VEVENT
END:VCALENDAR