BEGIN:VCALENDAR
VERSION:2.0
PRODID:-//New Jersey Alliance for Clinical and Translational Science - ECPv6.15.14//NONSGML v1.0//EN
CALSCALE:GREGORIAN
METHOD:PUBLISH
X-ORIGINAL-URL:https://njacts.rbhs.rutgers.edu
X-WR-CALDESC:Events for New Jersey Alliance for Clinical and Translational Science
REFRESH-INTERVAL;VALUE=DURATION:PT1H
X-Robots-Tag:noindex
X-PUBLISHED-TTL:PT1H
BEGIN:VTIMEZONE
TZID:UTC
BEGIN:STANDARD
TZOFFSETFROM:+0000
TZOFFSETTO:+0000
TZNAME:UTC
DTSTART:20190101T000000
END:STANDARD
END:VTIMEZONE
BEGIN:VEVENT
DTSTART;TZID=UTC:20200529T080000
DTEND;TZID=UTC:20200529T090000
DTSTAMP:20260425T193537
CREATED:20200304T194126Z
LAST-MODIFIED:20200409T181027Z
UID:12632-1590739200-1590742800@njacts.rbhs.rutgers.edu
SUMMARY:NJMS Surgery Grand Rounds
DESCRIPTION:NJMS Surgery Grand Rounds-Topics in Trauma and Surgical Critical Care\, Biren Juthani\, Rutgers NJMS. Medical Science Building\, Room B610\, New Jersey Medical School\, 185 South Orange Avenue\, Newark.
URL:https://njacts.rbhs.rutgers.edu/event/njms-surgery-grand-rounds-7/
LOCATION:Medical Science Building\, 185 South Orange Avenue\, Newark\, 07103\, United States
END:VEVENT
END:VCALENDAR