BEGIN:VCALENDAR
VERSION:2.0
PRODID:-//New Jersey Alliance for Clinical and Translational Science - ECPv6.15.14//NONSGML v1.0//EN
CALSCALE:GREGORIAN
METHOD:PUBLISH
X-WR-CALNAME:New Jersey Alliance for Clinical and Translational Science
X-ORIGINAL-URL:https://njacts.rbhs.rutgers.edu
X-WR-CALDESC:Events for New Jersey Alliance for Clinical and Translational Science
REFRESH-INTERVAL;VALUE=DURATION:PT1H
X-Robots-Tag:noindex
X-PUBLISHED-TTL:PT1H
BEGIN:VTIMEZONE
TZID:UTC
BEGIN:STANDARD
TZOFFSETFROM:+0000
TZOFFSETTO:+0000
TZNAME:UTC
DTSTART:20190101T000000
END:STANDARD
END:VTIMEZONE
BEGIN:VEVENT
DTSTART;TZID=UTC:20200522T120000
DTEND;TZID=UTC:20200522T130000
DTSTAMP:20260423T164421
CREATED:20200521T173552Z
LAST-MODIFIED:20200521T173552Z
UID:14386-1590148800-1590152400@njacts.rbhs.rutgers.edu
SUMMARY:Rutgers Project ECHO Series
DESCRIPTION:Rutgers Project ECHO Series: Mental Health COVID-19 Project Echo Series\, NJMS and Hunterdon Medical Center live video conference focusing on the impact of the pandemic on all aspects of mental health. For more information and to register.
URL:https://njacts.rbhs.rutgers.edu/event/rutgers-project-echo-series/
END:VEVENT
END:VCALENDAR