BEGIN:VCALENDAR
VERSION:2.0
PRODID:-//New Jersey Alliance for Clinical and Translational Science - ECPv6.15.14//NONSGML v1.0//EN
CALSCALE:GREGORIAN
METHOD:PUBLISH
X-WR-CALNAME:New Jersey Alliance for Clinical and Translational Science
X-ORIGINAL-URL:https://njacts.rbhs.rutgers.edu
X-WR-CALDESC:Events for New Jersey Alliance for Clinical and Translational Science
REFRESH-INTERVAL;VALUE=DURATION:PT1H
X-Robots-Tag:noindex
X-PUBLISHED-TTL:PT1H
BEGIN:VTIMEZONE
TZID:UTC
BEGIN:STANDARD
TZOFFSETFROM:+0000
TZOFFSETTO:+0000
TZNAME:UTC
DTSTART:20190101T000000
END:STANDARD
END:VTIMEZONE
BEGIN:VEVENT
DTSTART;TZID=UTC:20200511T113000
DTEND;TZID=UTC:20200511T123000
DTSTAMP:20260425T122643
CREATED:20200504T200354Z
LAST-MODIFIED:20200504T200354Z
UID:14096-1589196600-1589200200@njacts.rbhs.rutgers.edu
SUMMARY:Project ECHO COVID-19 Video Conference Session
DESCRIPTION:Project ECHO COVID-19 Video Conference Session– Maternal Child Health & Opioid Use Disorder\, How to Maximize Community Engagement. Register Here.
URL:https://njacts.rbhs.rutgers.edu/event/project-echo-covid-19-video-conference-session-3/
END:VEVENT
END:VCALENDAR