BEGIN:VCALENDAR
VERSION:2.0
PRODID:-//New Jersey Alliance for Clinical and Translational Science - ECPv6.15.14//NONSGML v1.0//EN
CALSCALE:GREGORIAN
METHOD:PUBLISH
X-WR-CALNAME:New Jersey Alliance for Clinical and Translational Science
X-ORIGINAL-URL:https://njacts.rbhs.rutgers.edu
X-WR-CALDESC:Events for New Jersey Alliance for Clinical and Translational Science
REFRESH-INTERVAL;VALUE=DURATION:PT1H
X-Robots-Tag:noindex
X-PUBLISHED-TTL:PT1H
BEGIN:VTIMEZONE
TZID:UTC
BEGIN:STANDARD
TZOFFSETFROM:+0000
TZOFFSETTO:+0000
TZNAME:UTC
DTSTART:20190101T000000
END:STANDARD
END:VTIMEZONE
BEGIN:VEVENT
DTSTART;TZID=UTC:20200427T120000
DTEND;TZID=UTC:20200427T130000
DTSTAMP:20260423T180409
CREATED:20200220T212233Z
LAST-MODIFIED:20200407T191433Z
UID:12344-1587988800-1587992400@njacts.rbhs.rutgers.edu
SUMMARY:Cancelled-RWJMS Translational Research Seminar Series
DESCRIPTION:RWJMS Translational Research Seminar Series-NOTCH as a Novel Regulator of NASH-Induced Liver Fibrosis\, Utpal Pajvani\, Columbia. Medical Education Building\, Lecture Hall 102\, 1 Robert Wood Johnson Place\, New Brunswick.
URL:https://njacts.rbhs.rutgers.edu/event/rwjms-translational-research-seminar-series/
LOCATION:Medical Education Building\, Lecture Hall 102\, 1 Robert Wood Johnson Place\, New Brunswick\, NJ\, 08901\, United States
END:VEVENT
BEGIN:VEVENT
DTSTART;TZID=UTC:20200427T120000
DTEND;TZID=UTC:20200427T130000
DTSTAMP:20260423T180409
CREATED:20200309T193922Z
LAST-MODIFIED:20200407T191359Z
UID:12713-1587988800-1587992400@njacts.rbhs.rutgers.edu
SUMMARY:Cancelled-Child Health Institute of New Jersey Science Seminar
DESCRIPTION:Child Health Institute of New Jersey Science Seminar-Study cell-surface interaction and identify the intracellular signals transduce and the pathways that are activated when cells adhere and spread on surfaces\, Beatrice Haimovich\, Rutgers. Child Health Institute of New Jersey Room 3209\, 89 French Street\, New Brunswick.
URL:https://njacts.rbhs.rutgers.edu/event/child-health-institute-of-new-jersey-science-seminar-8/
LOCATION:Child Health Institute of NJ\, Room 3101\, 89 French Street\, New Brunswick\, NJ\, 08901\, United States
END:VEVENT
BEGIN:VEVENT
DTSTART;TZID=UTC:20200427T120000
DTEND;TZID=UTC:20200427T130000
DTSTAMP:20260423T180409
CREATED:20200422T194858Z
LAST-MODIFIED:20200422T194858Z
UID:13873-1587988800-1587992400@njacts.rbhs.rutgers.edu
SUMMARY:Child Health Institute Special Seminar (Virtual)
DESCRIPTION:Child Health Institute Special Seminar (Virtual)-Regulation of lgE by T Follicular Helper Cells\, Gowthaman Uthaman\, Yale. Join via Webex or 650-429-3300\, meeting number 798 978 439.
URL:https://njacts.rbhs.rutgers.edu/event/child-health-institute-special-seminar-virtual/
END:VEVENT
BEGIN:VEVENT
DTSTART;TZID=UTC:20200427T170000
DTEND;TZID=UTC:20200427T200000
DTSTAMP:20260423T180409
CREATED:20200203T210845Z
LAST-MODIFIED:20200407T191326Z
UID:11990-1588006800-1588017600@njacts.rbhs.rutgers.edu
SUMMARY:Cancelled-Biomedical Engineering Cell-Gene Therapy Seminar Series
DESCRIPTION:Biomedical Engineering Cell-Gene Therapy Seminar Series-Design\, Development and Manufacturing of Polymeric Biomaterials- title from previous year\, Adam Gormley\, Rutgers and Practical Applications for Biomedical Engineers in Industry\, Zach Szcerbinski\, Integra. Biomedical Engineering\, Auditorium\, 599 Taylor Road\, Piscataway.
URL:https://njacts.rbhs.rutgers.edu/event/biomedical-engineering-cell-gene-therapy-seminar-series-12/
LOCATION:Biomedical Engineering\, 599 Taylor Road\, Piscataway\, NJ\, 08854\, United States
END:VEVENT
BEGIN:VEVENT
DTSTART;TZID=UTC:20200427T181500
DTEND;TZID=UTC:20200427T193500
DTSTAMP:20260423T180409
CREATED:20200204T194319Z
LAST-MODIFIED:20200409T192236Z
UID:12028-1588011300-1588016100@njacts.rbhs.rutgers.edu
SUMMARY:Ernest Mario School of Pharmacy Medicinal Chemistry Seminar (Virtual)
DESCRIPTION:Ernest Mario School of Pharmacy Medicinal Chemistry Seminar– Sprycel and Tyk2 pseudokinase stories\, Lou Lombardo\, Bristol-Myers Squibb. Available via WebEx.  Please contact the department.
URL:https://njacts.rbhs.rutgers.edu/event/ernest-mario-school-of-pharmacy-medicinal-chemistry-seminar-7/
LOCATION:Ernest Mario School of Pharmacy\, Room 288\, 160 Frelinghuysen Road\, Piscataway\, NJ\, 08854\, United States
END:VEVENT
END:VCALENDAR