BEGIN:VCALENDAR
VERSION:2.0
PRODID:-//New Jersey Alliance for Clinical and Translational Science - ECPv6.15.14//NONSGML v1.0//EN
CALSCALE:GREGORIAN
METHOD:PUBLISH
X-ORIGINAL-URL:https://njacts.rbhs.rutgers.edu
X-WR-CALDESC:Events for New Jersey Alliance for Clinical and Translational Science
REFRESH-INTERVAL;VALUE=DURATION:PT1H
X-Robots-Tag:noindex
X-PUBLISHED-TTL:PT1H
BEGIN:VTIMEZONE
TZID:UTC
BEGIN:STANDARD
TZOFFSETFROM:+0000
TZOFFSETTO:+0000
TZNAME:UTC
DTSTART:20190101T000000
END:STANDARD
END:VTIMEZONE
BEGIN:VEVENT
DTSTART;TZID=UTC:20200424T080000
DTEND;TZID=UTC:20200424T090000
DTSTAMP:20260424T055552
CREATED:20191029T202616Z
LAST-MODIFIED:20200407T191510Z
UID:10661-1587715200-1587718800@njacts.rbhs.rutgers.edu
SUMMARY:Cancelled-NJMS Surgery Grand Rounds
DESCRIPTION:NJMS Surgery Grand Rounds-Penis: The most misunderstood organ for transplantation\, Dicken S. C. Ko\, Tufts University School of Medicine and Harvard Medical School. Medical Science Building\, Room B610\, New Jersey Medical School\, 185 South Orange Avenue\, Newark
URL:https://njacts.rbhs.rutgers.edu/event/surgery-grand-rounds-4/
LOCATION:Medical Science Building\, New Jersey Medical School\, Room B610\, 185 South Orange Avenue\, Newark\, NJ\, 07103\, United States
END:VEVENT
BEGIN:VEVENT
DTSTART;TZID=UTC:20200424T120000
DTEND;TZID=UTC:20200424T130000
DTSTAMP:20260424T055552
CREATED:20200506T185406Z
LAST-MODIFIED:20200506T185406Z
UID:14131-1587729600-1587733200@njacts.rbhs.rutgers.edu
SUMMARY:NJMS COVID-19 Mental Health ECHO (Virtual)
DESCRIPTION:NJMS COVID-19 Mental Health ECHO (Virtual)-COVID-19 and Addiction Treatment\, Clement Chen\, Rutgers. Register Here.
URL:https://njacts.rbhs.rutgers.edu/event/njms-covid-19-mental-health-echo-virtual-2/
END:VEVENT
BEGIN:VEVENT
DTSTART;TZID=UTC:20200424T123000
DTEND;TZID=UTC:20200424T133000
DTSTAMP:20260424T055552
CREATED:20200421T184103Z
LAST-MODIFIED:20200421T184103Z
UID:13761-1587731400-1587735000@njacts.rbhs.rutgers.edu
SUMMARY:Princeton Bendheim Center for Finance Webinar Series on the economic implications of COVID-19
DESCRIPTION:Princeton Bendheim Center for Finance Webinar Series on the economic implications of COVID-19-COVID-19\, debt monetization\, and lessons from war financing\, Harold James\, Princeton. Register here.
URL:https://njacts.rbhs.rutgers.edu/event/princeton-bendheim-center-for-finance-webinar-series-on-the-economic-implications-of-covid-19/
END:VEVENT
BEGIN:VEVENT
DTSTART;TZID=UTC:20200424T123000
DTEND;TZID=UTC:20200424T133000
DTSTAMP:20260424T055552
CREATED:20200423T212042Z
LAST-MODIFIED:20220729T233920Z
UID:13930-1587731400-1587735000@njacts.rbhs.rutgers.edu
SUMMARY:RITMS Visiting Professor Lecture Series
DESCRIPTION:RITMS Special Guest Lecture-Host-pathogen interplay in ARDS: A Tale of Cleavage and Cell Death\, Janet S. Lee\, University of Pittsburgh. Join via Zoom. Meeting ID 454-894-8034\, Password RITMS.
URL:https://njacts.rbhs.rutgers.edu/event/ritms-special-guest-lecture/
END:VEVENT
BEGIN:VEVENT
DTSTART;TZID=UTC:20200424T123000
DTEND;TZID=UTC:20200424T133000
DTSTAMP:20260424T055552
CREATED:20200521T214816Z
LAST-MODIFIED:20200521T214816Z
UID:14413-1587731400-1587735000@njacts.rbhs.rutgers.edu
SUMMARY:Rutgers Institute for Translational Medicine and Science Special Guest Lecture Series
DESCRIPTION:“Host-pathogen interplay in ARDS: A Tale of Cleavage and Cell Death”\nJanet S. Lee\, MD  \nProfessor of Medicine  \nDirector\, Acute Lung Injury Center of Excellence  \nUPMC Chair in Acute Lung Injury University of Pittsburgh.  \n Online Via Zoom\nMeeting ID: 454-894-8034\nPassword: RITMS
URL:https://njacts.rbhs.rutgers.edu/event/rutgers-institute-for-translational-medicine-and-science-special-guest-lecture-series/
ORGANIZER;CN="Mena Soliman":MAILTO:mas869@sph.rutgers.edu
END:VEVENT
BEGIN:VEVENT
DTSTART;TZID=UTC:20200424T163000
DTEND;TZID=UTC:20200424T173000
DTSTAMP:20260424T055552
CREATED:20200421T183940Z
LAST-MODIFIED:20200421T183940Z
UID:13759-1587745800-1587749400@njacts.rbhs.rutgers.edu
SUMMARY:Panel Discussion\, Witnessing Climate Change
DESCRIPTION:Panel Discussion\, Witnessing Climate Change-Climate change and corona virus\, Stephen Pacala\, Princeton\, Kian Mintz-Woo\, researcher\, and Meera Subramanian\, environmental journalist. Online via Zoom\, Registration required.
URL:https://njacts.rbhs.rutgers.edu/event/panel-discussion-witnessing-climate-change/
END:VEVENT
END:VCALENDAR