BEGIN:VCALENDAR
VERSION:2.0
PRODID:-//New Jersey Alliance for Clinical and Translational Science - ECPv6.15.14//NONSGML v1.0//EN
CALSCALE:GREGORIAN
METHOD:PUBLISH
X-WR-CALNAME:New Jersey Alliance for Clinical and Translational Science
X-ORIGINAL-URL:https://njacts.rbhs.rutgers.edu
X-WR-CALDESC:Events for New Jersey Alliance for Clinical and Translational Science
REFRESH-INTERVAL;VALUE=DURATION:PT1H
X-Robots-Tag:noindex
X-PUBLISHED-TTL:PT1H
BEGIN:VTIMEZONE
TZID:UTC
BEGIN:STANDARD
TZOFFSETFROM:+0000
TZOFFSETTO:+0000
TZNAME:UTC
DTSTART:20190101T000000
END:STANDARD
END:VTIMEZONE
BEGIN:VEVENT
DTSTART;TZID=UTC:20200423T080000
DTEND;TZID=UTC:20200423T090000
DTSTAMP:20260423T061836
CREATED:20200129T184716Z
LAST-MODIFIED:20200409T165353Z
UID:11859-1587628800-1587632400@njacts.rbhs.rutgers.edu
SUMMARY:Virtual-RWJMS Pediatric Grand Rounds
DESCRIPTION:RWJMS Pediatric Grand Rounds-TBD\, Roy C. Wade\, University of Pennsylvania. Clinical Academic Building\, Room 1302\, 125 Paterson Street\, New Brunswick. Join by WebEx.
URL:https://njacts.rbhs.rutgers.edu/event/rwjms-pediatric-grand-rounds-13/
LOCATION:Clinical Academic Building\, Conference Room 1302\, 125 Paterson Street\, New Brunswick\, NJ\, 08901\, United States
END:VEVENT
BEGIN:VEVENT
DTSTART;TZID=UTC:20200423T090000
DTEND;TZID=UTC:20200423T120000
DTSTAMP:20260423T061836
CREATED:20200203T210557Z
LAST-MODIFIED:20200407T191556Z
UID:11986-1587632400-1587643200@njacts.rbhs.rutgers.edu
SUMMARY:Cancelled-School of Nursing Continuing Education
DESCRIPTION:School of Nursing Continuing Education-Orofacial Manifestations of Systemic Disease & Medical Therapy\, Positioned at the forefront of primary care and equipped with the oral health capacity\, nursing professionals are in a unique position to assess and promote oral health\, identify oral manifestations of diagnosed or subjectively silent systemic disease and contribute to timely diagnosis and appropriate management. Stanley S. Bergen\, Jr. Building\, room 1023\, 65 Bergen Street\, Newark. To register.
URL:https://njacts.rbhs.rutgers.edu/event/school-of-nursing-continuing-education-8/
LOCATION:Stanley S. Bergen Jr. Building\, 65 Bergen Street\, Newark\, NJ\, United States
END:VEVENT
BEGIN:VEVENT
DTSTART;TZID=UTC:20200423T110000
DTEND;TZID=UTC:20200423T120000
DTSTAMP:20260423T061836
CREATED:20200409T180112Z
LAST-MODIFIED:20200422T191900Z
UID:13214-1587639600-1587643200@njacts.rbhs.rutgers.edu
SUMMARY:Child Health Institute Weekly COVID Discussion
DESCRIPTION:Child Health Institute Weekly COVID Discussion– Connect to the meeting via WebEx.
URL:https://njacts.rbhs.rutgers.edu/event/child-health-institute-weekly-covid-discussion-3/
END:VEVENT
BEGIN:VEVENT
DTSTART;TZID=UTC:20200423T120000
DTEND;TZID=UTC:20200423T150000
DTSTAMP:20260423T061836
CREATED:20200413T173922Z
LAST-MODIFIED:20200413T173922Z
UID:13337-1587643200-1587654000@njacts.rbhs.rutgers.edu
SUMMARY:Masters Program Virtual Open House
DESCRIPTION:Masters Program Virtual Open House-Pre-Medical\, Pre-Dental\, Biomedical Research. Graduates from the program pursue medical school\, dental school\, health related professions\, PhD programs\, or jobs in the biopharma industry. Register now.
URL:https://njacts.rbhs.rutgers.edu/event/masters-program-virtual-open-house/
END:VEVENT
BEGIN:VEVENT
DTSTART;TZID=UTC:20200423T120000
DTEND;TZID=UTC:20200423T150000
DTSTAMP:20260423T061836
CREATED:20200430T235632Z
LAST-MODIFIED:20200430T235936Z
UID:14009-1587643200-1587654000@njacts.rbhs.rutgers.edu
SUMMARY:Rutgers School of Graduate Studies
DESCRIPTION:Newark Health Sciences Campus- Master’s Program- Virtual Open House \nPre-Medical ~ Pre-Dental ~ Biomedical Research \nRegister Here: https://events.r20.constantcontact.com/register/eventReg?oeidk=a07eh0ghiml4c679318&oseq=&c=&ch= \n 
URL:https://njacts.rbhs.rutgers.edu/event/rutgers-school-of-graduate-studies/
ORGANIZER;CN="Rutgers School of Graduate Studies":MAILTO:gsbsnadm@gsbs.rutgers.edu
END:VEVENT
END:VCALENDAR