BEGIN:VCALENDAR
VERSION:2.0
PRODID:-//New Jersey Alliance for Clinical and Translational Science - ECPv6.15.14//NONSGML v1.0//EN
CALSCALE:GREGORIAN
METHOD:PUBLISH
X-WR-CALNAME:New Jersey Alliance for Clinical and Translational Science
X-ORIGINAL-URL:https://njacts.rbhs.rutgers.edu
X-WR-CALDESC:Events for New Jersey Alliance for Clinical and Translational Science
REFRESH-INTERVAL;VALUE=DURATION:PT1H
X-Robots-Tag:noindex
X-PUBLISHED-TTL:PT1H
BEGIN:VTIMEZONE
TZID:UTC
BEGIN:STANDARD
TZOFFSETFROM:+0000
TZOFFSETTO:+0000
TZNAME:UTC
DTSTART:20190101T000000
END:STANDARD
END:VTIMEZONE
BEGIN:VEVENT
DTSTART;TZID=UTC:20200420T120000
DTEND;TZID=UTC:20200420T131500
DTSTAMP:20260423T033045
CREATED:20200416T183309Z
LAST-MODIFIED:20200416T183309Z
UID:13449-1587384000-1587388500@njacts.rbhs.rutgers.edu
SUMMARY:Child Health Institute of NJ Special Seminar
DESCRIPTION:Child Health Institute of NJ Special Seminar-From Il-2 to IL-33: How Cytokines Shape Regulatory T cell Development and Function\, Saskia Hemmers\, Memorial Sloan-Kettering Cancer Center.  View Flyer and Webex link.
URL:https://njacts.rbhs.rutgers.edu/event/child-health-institute-of-nj-special-seminar/
END:VEVENT
BEGIN:VEVENT
DTSTART;TZID=UTC:20200420T120000
DTEND;TZID=UTC:20200420T131500
DTSTAMP:20260423T033045
CREATED:20200501T002611Z
LAST-MODIFIED:20200501T002611Z
UID:14013-1587384000-1587388500@njacts.rbhs.rutgers.edu
SUMMARY:CINJ Special Seminar
DESCRIPTION:” From IL-2 to IL-33: How Cytokines Shape Regulatory T cell Development and Function” \nSaskia Hemmers\, PhD \nPost Doctoral Fellow \nDepartment of Immunology\, Memorial Sloan-Kettering Cancer Center \nWebex: https://rutgers.webex.meet/semlerka or semlerka@rutgers.webex.com or 1-650-429-3300 USA Toll \nMeeting Number: 798 978 439
URL:https://njacts.rbhs.rutgers.edu/event/cinj-special-seminar-3/
ORGANIZER;CN="Kathleen Semler":MAILTO:kathleen.semler@rutgers.edu
END:VEVENT
BEGIN:VEVENT
DTSTART;TZID=UTC:20200420T134500
DTEND;TZID=UTC:20200420T144500
DTSTAMP:20260423T033045
CREATED:20200304T185252Z
LAST-MODIFIED:20200407T191908Z
UID:12614-1587390300-1587393900@njacts.rbhs.rutgers.edu
SUMMARY:Cancelled-Biomedical Engineering Seminar
DESCRIPTION:Biomedical Engineering Seminar-Engineering Platforms for Infectious Disease Research\, Joel Freundlich\, Rutgers New Jersey Medical School.  Biomedical Engineering Building\, Room 102\, 599 Taylor Road\, Piscataway.
URL:https://njacts.rbhs.rutgers.edu/event/biomedical-engineering-seminar-5/
LOCATION:Biomedical Engineering\, 599 Taylor Road\, Piscataway\, NJ\, 08854\, United States
END:VEVENT
BEGIN:VEVENT
DTSTART;TZID=UTC:20200420T170000
DTEND;TZID=UTC:20200420T200000
DTSTAMP:20260423T033045
CREATED:20200203T210322Z
LAST-MODIFIED:20200407T191840Z
UID:11984-1587402000-1587412800@njacts.rbhs.rutgers.edu
SUMMARY:Cancelled-Biomedical Engineering Cell-Gene Therapy Seminar Series
DESCRIPTION:Biomedical Engineering Cell-Gene Therapy Seminar Series-Principles of Electroporation\, Jeff Zahn\, Rutgers and Clinical Electroporation for Non-viral Cell Engineering\, Jim Brady\, MaxCyte. Biomedical Engineering\, Auditorium\, 599 Taylor Road\, Piscataway.
URL:https://njacts.rbhs.rutgers.edu/event/biomedical-engineering-cell-gene-therapy-seminar-series-11/
LOCATION:Biomedical Engineering\, 599 Taylor Road\, Piscataway\, NJ\, 08854\, United States
END:VEVENT
END:VCALENDAR