BEGIN:VCALENDAR
VERSION:2.0
PRODID:-//New Jersey Alliance for Clinical and Translational Science - ECPv6.15.14//NONSGML v1.0//EN
CALSCALE:GREGORIAN
METHOD:PUBLISH
X-ORIGINAL-URL:https://njacts.rbhs.rutgers.edu
X-WR-CALDESC:Events for New Jersey Alliance for Clinical and Translational Science
REFRESH-INTERVAL;VALUE=DURATION:PT1H
X-Robots-Tag:noindex
X-PUBLISHED-TTL:PT1H
BEGIN:VTIMEZONE
TZID:UTC
BEGIN:STANDARD
TZOFFSETFROM:+0000
TZOFFSETTO:+0000
TZNAME:UTC
DTSTART:20190101T000000
END:STANDARD
END:VTIMEZONE
BEGIN:VEVENT
DTSTART;TZID=UTC:20200326T080000
DTEND;TZID=UTC:20200326T090000
DTSTAMP:20260425T113022
CREATED:20200128T214533Z
LAST-MODIFIED:20200407T193628Z
UID:11840-1585209600-1585213200@njacts.rbhs.rutgers.edu
SUMMARY:Cancelled-RWJMS Pediatric Grand Rounds
DESCRIPTION:RWJMS Pediatric Grand Rounds-TBD\, Michael Kelly\, Robert Wood Johnson Medical School. Clinical Academic Building\, Room 1302\, 125 Paterson Street\, New Brunswick.
URL:https://njacts.rbhs.rutgers.edu/event/rwjms-pediatric-grand-rounds-9/
LOCATION:Clinical Academic Building\, Conference Room 1302\, 125 Paterson Street\, New Brunswick\, NJ\, 08901\, United States
END:VEVENT
BEGIN:VEVENT
DTSTART;TZID=UTC:20200326T120000
DTEND;TZID=UTC:20200326T130000
DTSTAMP:20260425T113022
CREATED:20200128T190643Z
LAST-MODIFIED:20200407T193558Z
UID:11758-1585224000-1585227600@njacts.rbhs.rutgers.edu
SUMMARY:Cancelled-Rutgers Brain Health Institute Plenary Seminar Series
DESCRIPTION:Rutgers Brain Health Institute Plenary Seminar Series-The Mason Lab studies axon guidance in the visual pathways\, analyzing the behaviors\, cellular interactions and molecular directives of retinal axon growth cones during avoidance and crossing of the midline at the optic chiasm\, Carol Mason\, Columbia University. Proteomics Seminar Room\, Institute for Quantitative Biomedicine at Rutgers\, 174 Frelinghuysen Road\, Piscataway.
URL:https://njacts.rbhs.rutgers.edu/event/rutgers-brain-health-institute-plenary-seminar-series-2/
LOCATION:Institute for Quantitative Biomedicine at Rutgers\, Proteomics Room 120\, 174 Frelinghuysen Road\, Piscataway\, NJ\, 08854\, United States
END:VEVENT
BEGIN:VEVENT
DTSTART;TZID=UTC:20200326T120000
DTEND;TZID=UTC:20200326T133000
DTSTAMP:20260425T113022
CREATED:20200303T184907Z
LAST-MODIFIED:20200407T193528Z
UID:12547-1585224000-1585229400@njacts.rbhs.rutgers.edu
SUMMARY:Cancelled-Institute for Health\, Health Care Policy and Aging Research Lecture
DESCRIPTION:Institute for Health\, Health Care Policy and Aging Research Lecture– Endometriosis patients’ experiences with diagnosis and the value of the patient-provider relationship\, Lisa Mikesell\, Rutgers and Allyson C. Bontempo\, Rutgers.  Institute for Health\, Health Care Policy and Aging Research\, 1st Floor Conference Room\, 120 Paterson St\, New Brunswick.
URL:https://njacts.rbhs.rutgers.edu/event/institute-for-health-health-care-policy-and-aging-research-lecture-5/
LOCATION:Institute for Health\, Health Care Policy and Aging\, 1st Floor\, Room 120\, 112 Paterson Street\, New Brunswick\, NJ\, 08901\, United States
END:VEVENT
END:VCALENDAR