BEGIN:VCALENDAR
VERSION:2.0
PRODID:-//New Jersey Alliance for Clinical and Translational Science - ECPv6.15.14//NONSGML v1.0//EN
CALSCALE:GREGORIAN
METHOD:PUBLISH
X-WR-CALNAME:New Jersey Alliance for Clinical and Translational Science
X-ORIGINAL-URL:https://njacts.rbhs.rutgers.edu
X-WR-CALDESC:Events for New Jersey Alliance for Clinical and Translational Science
REFRESH-INTERVAL;VALUE=DURATION:PT1H
X-Robots-Tag:noindex
X-PUBLISHED-TTL:PT1H
BEGIN:VTIMEZONE
TZID:UTC
BEGIN:STANDARD
TZOFFSETFROM:+0000
TZOFFSETTO:+0000
TZNAME:UTC
DTSTART:20190101T000000
END:STANDARD
END:VTIMEZONE
BEGIN:VEVENT
DTSTART;TZID=UTC:20200229T071500
DTEND;TZID=UTC:20200229T170000
DTSTAMP:20260423T180408
CREATED:20200212T223649Z
LAST-MODIFIED:20200212T223649Z
UID:12124-1582960500-1582995600@njacts.rbhs.rutgers.edu
SUMMARY:Center for Continuing and Outreach Education Conference
DESCRIPTION:Center for Continuing and Outreach Education Conference– First Annual Emergency Medicine Triple Track CME/CE Conference\, Activity Director\, Tiffany Murano\, Rutgers NJMS.  Rutgers School of Dental Medicine\, Delta Dental Conference Center\, 110 Bergen St\, Newark\, NJ. For more information and to register.
URL:https://njacts.rbhs.rutgers.edu/event/center-for-continuing-and-outreach-education-conference/
LOCATION:Rutgers School of Dental Medicine\, 110 Bergen Street\, Newark\, NJ\, 07102\, United States
ORGANIZER;CN="CCOE":MAILTO:ccoe@rbhs.rutgers.edu
END:VEVENT
END:VCALENDAR