BEGIN:VCALENDAR
VERSION:2.0
PRODID:-//New Jersey Alliance for Clinical and Translational Science - ECPv6.15.14//NONSGML v1.0//EN
CALSCALE:GREGORIAN
METHOD:PUBLISH
X-WR-CALNAME:New Jersey Alliance for Clinical and Translational Science
X-ORIGINAL-URL:https://njacts.rbhs.rutgers.edu
X-WR-CALDESC:Events for New Jersey Alliance for Clinical and Translational Science
REFRESH-INTERVAL;VALUE=DURATION:PT1H
X-Robots-Tag:noindex
X-PUBLISHED-TTL:PT1H
BEGIN:VTIMEZONE
TZID:UTC
BEGIN:STANDARD
TZOFFSETFROM:+0000
TZOFFSETTO:+0000
TZNAME:UTC
DTSTART:20190101T000000
END:STANDARD
END:VTIMEZONE
BEGIN:VEVENT
DTSTART;TZID=UTC:20200226T120000
DTEND;TZID=UTC:20200226T130000
DTSTAMP:20260425T104713
CREATED:20200128T194556Z
LAST-MODIFIED:20200128T194556Z
UID:11775-1582718400-1582722000@njacts.rbhs.rutgers.edu
SUMMARY:Institute for Quantitative Biomedicine Seminar Series
DESCRIPTION:Institute for Quantitative Biomedicine Seminar Series– Beyond Fourier\, Jeffrey Hoch\, Uconn Health. Proteomics Room 120\, Institute for Quantitative Biomedicine at Rutgers\, 174 Frelinghuysen Road\, Piscataway.
URL:https://njacts.rbhs.rutgers.edu/event/institute-for-quantitative-biomedicine-seminar-series-4/
LOCATION:Institute for Quantitative Biomedicine at Rutgers\, Proteomics Room 120\, 174 Frelinghuysen Road\, Piscataway\, NJ\, 08854\, United States
END:VEVENT
BEGIN:VEVENT
DTSTART;TZID=UTC:20200226T160000
DTEND;TZID=UTC:20200226T170000
DTSTAMP:20260425T104713
CREATED:20191224T205229Z
LAST-MODIFIED:20191224T205229Z
UID:11277-1582732800-1582736400@njacts.rbhs.rutgers.edu
SUMMARY:Princeton Department of Molecular Biology Special Seminar
DESCRIPTION:Princeton Department of Molecular Biology Special Seminar– Molecular mechanism of Hsp90 chaperone machinery: co-chaperone regulation and client protein maturation\, Yanxin Liu\, UCSF. Princeton University\, Schultz Laboratory 107\, Princeton.
URL:https://njacts.rbhs.rutgers.edu/event/princeton-department-of-molecular-biology-special-seminar-4/
LOCATION:Princeton University\, Schultz Laboratory\, Princeton\, 08544-1014\, United States
END:VEVENT
BEGIN:VEVENT
DTSTART;TZID=UTC:20200226T181500
DTEND;TZID=UTC:20200226T193500
DTSTAMP:20260425T104713
CREATED:20200204T193528Z
LAST-MODIFIED:20200204T193528Z
UID:12016-1582740900-1582745700@njacts.rbhs.rutgers.edu
SUMMARY:Ernest Mario School of Pharmacy Medicinal Chemistry Seminar
DESCRIPTION:Ernest Mario School of Pharmacy Medicinal Chemistry Seminar- Applications of Fluorines in Drug Design\, Nick Meanwell\, Bristol-Myers Squibb. Ernest Mario School of Pharmacy\, Room 288\, William Levine Hall\, 160 Frelinghuysen Road\, Piscataway.
URL:https://njacts.rbhs.rutgers.edu/event/ernest-mario-school-of-pharmacy-medicinal-chemistry-seminar-2/
LOCATION:Ernest Mario School of Pharmacy\, Room 288\, 160 Frelinghuysen Road\, Piscataway\, NJ\, 08854\, United States
END:VEVENT
END:VCALENDAR