BEGIN:VCALENDAR
VERSION:2.0
PRODID:-//New Jersey Alliance for Clinical and Translational Science - ECPv6.15.14//NONSGML v1.0//EN
CALSCALE:GREGORIAN
METHOD:PUBLISH
X-ORIGINAL-URL:https://njacts.rbhs.rutgers.edu
X-WR-CALDESC:Events for New Jersey Alliance for Clinical and Translational Science
REFRESH-INTERVAL;VALUE=DURATION:PT1H
X-Robots-Tag:noindex
X-PUBLISHED-TTL:PT1H
BEGIN:VTIMEZONE
TZID:UTC
BEGIN:STANDARD
TZOFFSETFROM:+0000
TZOFFSETTO:+0000
TZNAME:UTC
DTSTART:20190101T000000
END:STANDARD
END:VTIMEZONE
BEGIN:VEVENT
DTSTART;TZID=UTC:20200118T080000
DTEND;TZID=UTC:20200118T141500
DTSTAMP:20260424T220640
CREATED:20191216T222301Z
LAST-MODIFIED:20200113T224153Z
UID:11130-1579334400-1579356900@njacts.rbhs.rutgers.edu
SUMMARY:School of Nursing IV Therapy Training Course
DESCRIPTION:School of Nursing IV Therapy Training Course-This course presents all the core skills needed for the healthcare practitioner to become familiar with intravenous therapy.  Rutgers University\, School of Nursing\, Stanley S. Bergen\, Jr. Building\, 65 Bergen Street\, Newark. To register.
URL:https://njacts.rbhs.rutgers.edu/event/iv-therapy-training-course/
LOCATION:Stanley S. Bergen Jr. Building\, 65 Bergen Street\, Newark\, NJ\, United States
END:VEVENT
BEGIN:VEVENT
DTSTART;TZID=UTC:20200118T080000
DTEND;TZID=UTC:20200118T163000
DTSTAMP:20260424T220640
CREATED:20191212T213149Z
LAST-MODIFIED:20191212T214310Z
UID:11105-1579334400-1579365000@njacts.rbhs.rutgers.edu
SUMMARY:Continuing Education for Healthcare Professionals
DESCRIPTION:Continuing Education for Healthcare Professionals-12-Lead ECG Interpretation -This two-day course is designed to enhance assessment skills of the practitioner who works with all types of adult critically-ill patients through analysis of a variety of challenging 12-Lead ECGs and case studies. To learn more. Nursing and Science Building (CNS)\, 530 Federal Street\, Camden. To register.
URL:https://njacts.rbhs.rutgers.edu/event/continuing-education-for-healthcare-professionals-8/
LOCATION:CNS Building\, 530 Federal Street\, Lab 310\, Camden\, NJ\, United States
END:VEVENT
END:VCALENDAR