BEGIN:VCALENDAR
VERSION:2.0
PRODID:-//New Jersey Alliance for Clinical and Translational Science - ECPv6.15.14//NONSGML v1.0//EN
CALSCALE:GREGORIAN
METHOD:PUBLISH
X-ORIGINAL-URL:https://njacts.rbhs.rutgers.edu
X-WR-CALDESC:Events for New Jersey Alliance for Clinical and Translational Science
REFRESH-INTERVAL;VALUE=DURATION:PT1H
X-Robots-Tag:noindex
X-PUBLISHED-TTL:PT1H
BEGIN:VTIMEZONE
TZID:UTC
BEGIN:STANDARD
TZOFFSETFROM:+0000
TZOFFSETTO:+0000
TZNAME:UTC
DTSTART:20190101T000000
END:STANDARD
END:VTIMEZONE
BEGIN:VEVENT
DTSTART;TZID=UTC:20200107T110000
DTEND;TZID=UTC:20200107T120000
DTSTAMP:20260424T185038
CREATED:20200102T200442Z
LAST-MODIFIED:20200102T200442Z
UID:11293-1578394800-1578398400@njacts.rbhs.rutgers.edu
SUMMARY:Recruitment Lecture
DESCRIPTION:Recruitment Lecture-Stress\, Cognitive Function\, and Inflammation: From Links to Opportunities in Cancer Survivorship\, Heather Derry\, Weill Cornell Medical College. Rutgers Cancer Institute of New Jersey\, Auditorium A\,195 Little Albany Street\, New Brunswick.
URL:https://njacts.rbhs.rutgers.edu/event/recruitment-lecture-2/
LOCATION:Rutgers Cancer Institute of New Jersey\, 1st Floor\, Auditorium A\, 195 Little Albany Street\, New Brunswick\, NJ\, 08901\, United States
END:VEVENT
BEGIN:VEVENT
DTSTART;TZID=UTC:20200107T120000
DTEND;TZID=UTC:20200107T133000
DTSTAMP:20260424T185038
CREATED:20190924T194805Z
LAST-MODIFIED:20190924T194805Z
UID:9850-1578398400-1578403800@njacts.rbhs.rutgers.edu
SUMMARY:K-Award Grant Writing Seminar
DESCRIPTION:K-Award Grant Writing Seminar: The Mechanics of NIH Applications-Getting All the Parts Right.  Institute for Health\, Health Care Policy and Aging Research\, 120 Paterson St\, New Brunswick.
URL:https://njacts.rbhs.rutgers.edu/event/k-award-grant-writing-seminar-5/
LOCATION:Institute for Health\, Health Care Policy and Aging Research\, 1st floor conference room\, 112 Paterson Street\, New Brunswick\, 08901\, United States
END:VEVENT
END:VCALENDAR