BEGIN:VCALENDAR
VERSION:2.0
PRODID:-//New Jersey Alliance for Clinical and Translational Science - ECPv6.15.14//NONSGML v1.0//EN
CALSCALE:GREGORIAN
METHOD:PUBLISH
X-ORIGINAL-URL:https://njacts.rbhs.rutgers.edu
X-WR-CALDESC:Events for New Jersey Alliance for Clinical and Translational Science
REFRESH-INTERVAL;VALUE=DURATION:PT1H
X-Robots-Tag:noindex
X-PUBLISHED-TTL:PT1H
BEGIN:VTIMEZONE
TZID:UTC
BEGIN:STANDARD
TZOFFSETFROM:+0000
TZOFFSETTO:+0000
TZNAME:UTC
DTSTART:20180101T000000
END:STANDARD
END:VTIMEZONE
BEGIN:VEVENT
DTSTART;TZID=UTC:20191118T073000
DTEND;TZID=UTC:20191118T170000
DTSTAMP:20260422T111624
CREATED:20190924T194102Z
LAST-MODIFIED:20191007T195841Z
UID:9840-1574062200-1574096400@njacts.rbhs.rutgers.edu
SUMMARY:Roy A. Bowers 69th Annual Rutgers Pharmaceutical Conference
DESCRIPTION:11/18/19 7:30 am: Roy A. Bowers 69th Annual Rutgers Pharmaceutical Conference: Transforming New Jersey Healthcare: Affordability\, Consumerism\, & Innovation-A Call to Action.  The Palace at Somerset Park\, 333 Davidson Avenue\, Somerset\, NJ. \n69th Annual Roy A. Bowers Conference – Agenda – FINAL (003)
URL:https://njacts.rbhs.rutgers.edu/event/roy-a-bowers-69th-annual-rutgers-pharmaceutical-conference/
LOCATION:Palace at Somerset Park\, 333 Davidson Avenue\, Somerset\, NJ\, United States
END:VEVENT
BEGIN:VEVENT
DTSTART;TZID=UTC:20191118T080000
DTEND;TZID=UTC:20191118T170000
DTSTAMP:20260422T111624
CREATED:20191119T012129Z
LAST-MODIFIED:20191119T012129Z
UID:10872-1574064000-1574096400@njacts.rbhs.rutgers.edu
SUMMARY:Autumn Health Fest
DESCRIPTION:11/16/19 10:00 am-2:00 pm: Autumn Health Fest\, 18 Centre Drive\, Monroe Township.  For more information. \nautumn-health-fest-flyer
URL:https://njacts.rbhs.rutgers.edu/event/autumn-health-fest/
END:VEVENT
BEGIN:VEVENT
DTSTART;TZID=UTC:20191118T130000
DTEND;TZID=UTC:20191118T140000
DTSTAMP:20260422T111624
CREATED:20191115T003830Z
LAST-MODIFIED:20191115T003830Z
UID:10838-1574082000-1574085600@njacts.rbhs.rutgers.edu
SUMMARY:Science Seminar
DESCRIPTION:Child Health Institute of New Jersey \nScience Seminar \n\n\nPresents   \n“Neuroimmunological Consequences of Cell Death Signaling During CNS Viral Infection” \nSpeaker: \n\n\nBrian Daniels\, PhD \nAssociate Professor\, Department of Cell Biology and Neuroscience \nRutgers School of Arts and Sciences \nHost: Arnold B. Rabson\, MD \nDirector\, Child Health Institute of New Jersey
URL:https://njacts.rbhs.rutgers.edu/event/science-seminar/
LOCATION:Child Health Institute of NJ\, Room 3101\, 89 French Street\, New Brunswick\, NJ\, 08901\, United States
ORGANIZER;CN="Kathleen Semler":MAILTO:kathleen.semler@rutgers.edu
END:VEVENT
BEGIN:VEVENT
DTSTART;TZID=UTC:20191118T134500
DTEND;TZID=UTC:20191118T144500
DTSTAMP:20260422T111624
CREATED:20191021T215026Z
LAST-MODIFIED:20191023T215136Z
UID:10477-1574084700-1574088300@njacts.rbhs.rutgers.edu
SUMMARY:Biomedical Engineering Seminar
DESCRIPTION:Seminar-Engineered Models of Pediatric Neuroblastoma\, Jeannine Coburn\, Worcester Polytechnic Institute. Room 102\, Biomedical Engineering\, 599 Taylor Road\, Piscataway
URL:https://njacts.rbhs.rutgers.edu/event/engineered-models-of-pediatric-neuroblastoma/
LOCATION:Biomedical Engineering\, 599 Taylor Road\, Piscataway\, NJ\, 08854\, United States
END:VEVENT
BEGIN:VEVENT
DTSTART;TZID=UTC:20191118T140000
DTEND;TZID=UTC:20191118T170000
DTSTAMP:20260422T111624
CREATED:20191031T171701Z
LAST-MODIFIED:20191031T171701Z
UID:10710-1574085600-1574096400@njacts.rbhs.rutgers.edu
SUMMARY:Cancer Institute of NJ Technical “Office Hours” Seminar Series
DESCRIPTION:Cancer Institute of NJ Technical “Office Hours” Seminar Series-NanoString Gene Expression Analysis for Immune Monitoring\, Technical Seminar with free experimental consultation.  Cancer Institute of New Jersey\, Auditorium A\, 195 Little Albany Street\, New Brunswick. For more information\, or to book “Office Hours” timeslots to discuss your research\, please contact Joshua.vieth@rutgers.edu
URL:https://njacts.rbhs.rutgers.edu/event/cancer-institute-of-nj-technical-office-hours-seminar-series/
LOCATION:Rutgers Cancer Institute of New Jersey\, 1st Floor\, Auditorium A\, 195 Little Albany Street\, New Brunswick\, NJ\, 08901\, United States
END:VEVENT
BEGIN:VEVENT
DTSTART;TZID=UTC:20191118T180000
DTEND;TZID=UTC:20191118T200000
DTSTAMP:20260422T111624
CREATED:20191028T190706Z
LAST-MODIFIED:20191028T195830Z
UID:10613-1574100000-1574107200@njacts.rbhs.rutgers.edu
SUMMARY:Anita Ashok Datar Lecture on Women’s Global Health
DESCRIPTION:Anita Ashok Datar Lecture on Women’s Global Health– A screening and discussion of the Oscar-winning film\, Period. End of Sentence\, with Rayka Zehtabchi\, the director of the Oscar-winning short documentary about a group of village women in northern India who start a sanitary pad-making business in an effort to improve feminine hygiene and destigmatize menstruation. College Avenue Student Center (Multipurpose Room A)\, 126 College Avenue\, New Brunswick. Registration is required.
URL:https://njacts.rbhs.rutgers.edu/event/anita-ashok-datar-lecture-on-womens-global-health/
LOCATION:College Avenue Student Center\, Multipurpose Room A\, 126 College Avenue\, New Brunswick\, NJ\, 08901\, United States
ORGANIZER;CN="":MAILTO:dahlen@rbhs.rutgers.edu
END:VEVENT
END:VCALENDAR