BEGIN:VCALENDAR
VERSION:2.0
PRODID:-//New Jersey Alliance for Clinical and Translational Science - ECPv6.15.14//NONSGML v1.0//EN
CALSCALE:GREGORIAN
METHOD:PUBLISH
X-ORIGINAL-URL:https://njacts.rbhs.rutgers.edu
X-WR-CALDESC:Events for New Jersey Alliance for Clinical and Translational Science
REFRESH-INTERVAL;VALUE=DURATION:PT1H
X-Robots-Tag:noindex
X-PUBLISHED-TTL:PT1H
BEGIN:VTIMEZONE
TZID:UTC
BEGIN:STANDARD
TZOFFSETFROM:+0000
TZOFFSETTO:+0000
TZNAME:UTC
DTSTART:20180101T000000
END:STANDARD
END:VTIMEZONE
BEGIN:VEVENT
DTSTART;TZID=UTC:20191108T080000
DTEND;TZID=UTC:20191108T090000
DTSTAMP:20260422T064456
CREATED:20191029T212324Z
LAST-MODIFIED:20191029T212324Z
UID:10680-1573200000-1573203600@njacts.rbhs.rutgers.edu
SUMMARY:Surgery Grand Rounds
DESCRIPTION:Surgery Grand Rounds– Topics in Plastic and Reconstructive Surgery\, Edward Lee\, Rutgers New Jersey Medical School. Medical Science Building\, Room B610\, New Jersey Medical School\, 185 South Orange Avenue\, Newark
URL:https://njacts.rbhs.rutgers.edu/event/surgery-grand-rounds-12/
LOCATION:Medical Science Building\, New Jersey Medical School\, Room B610\, 185 South Orange Avenue\, Newark\, NJ\, 07103\, United States
END:VEVENT
BEGIN:VEVENT
DTSTART;TZID=UTC:20191108T120000
DTEND;TZID=UTC:20191108T133000
DTSTAMP:20260422T064456
CREATED:20191028T185758Z
LAST-MODIFIED:20191028T195913Z
UID:10610-1573214400-1573219800@njacts.rbhs.rutgers.edu
SUMMARY:Rutgers Climate Institute November 2019 Climate Lunch
DESCRIPTION:Rutgers Climate Institute November 2019 Climate Lunch-Rutgers Global Health Institute core faculty member Shauna Downs\, Assistant Professor\, Department of Urban-Global Public Health at the School of Public Health\, will speak about “Climate\, Food Systems\, and Nutrition.” Grace Saba\, Assistant Professor\, Department of Marine and Coastal Sciences at the School of Environmental and Biological Sciences\, will discuss “Ocean Acidification in the Mid-Atlantic: State of the Science.” Gathering Lounge\, Livingston Student Center\, 84 Joyce Kilmer Avenue\, Piscataway. . RSVP requested by 5:00 pm Monday November 4\, 2019. For more information. \n\n\n  \n\n\n\n\n  \n\n\n\n\n 
URL:https://njacts.rbhs.rutgers.edu/event/rutgers-climate-institute-november-2019-climate-lunch/
LOCATION:Livingston Student Center\, 84 Joyce Kilmer Ave\, Piscataway\, NJ\, United States
END:VEVENT
BEGIN:VEVENT
DTSTART;TZID=UTC:20191108T130000
DTEND;TZID=UTC:20191108T140000
DTSTAMP:20260422T064456
CREATED:20191107T203121Z
LAST-MODIFIED:20191107T203121Z
UID:10778-1573218000-1573221600@njacts.rbhs.rutgers.edu
SUMMARY:Clinical Research and Occupational Medicine Grand Rounds
DESCRIPTION:Clinical Research and Occupational Medicine Grand Rounds-Active Resilience\, Jim Bruncati\, Board of Public Utilities. Environmental and Occupational Health Sciences Institute (EOHSI)\, Conference Rooms A&B\, 170 Frelinghuysen Road\, Piscataway
URL:https://njacts.rbhs.rutgers.edu/event/clinical-research-and-occupational-medicine-grand-rounds/
LOCATION:EOHSI\, Conference Rooms A&B\, 170 Frelinghuysen Road\, Piscataway\, NJ\, 08854\, United States
END:VEVENT
END:VCALENDAR