BEGIN:VCALENDAR
VERSION:2.0
PRODID:-//New Jersey Alliance for Clinical and Translational Science - ECPv6.15.14//NONSGML v1.0//EN
CALSCALE:GREGORIAN
METHOD:PUBLISH
X-ORIGINAL-URL:https://njacts.rbhs.rutgers.edu
X-WR-CALDESC:Events for New Jersey Alliance for Clinical and Translational Science
REFRESH-INTERVAL;VALUE=DURATION:PT1H
X-Robots-Tag:noindex
X-PUBLISHED-TTL:PT1H
BEGIN:VTIMEZONE
TZID:UTC
BEGIN:STANDARD
TZOFFSETFROM:+0000
TZOFFSETTO:+0000
TZNAME:UTC
DTSTART:20180101T000000
END:STANDARD
END:VTIMEZONE
BEGIN:VEVENT
DTSTART;TZID=UTC:20191023T103000
DTEND;TZID=UTC:20191023T120000
DTSTAMP:20260424T220639
CREATED:20191021T210559Z
LAST-MODIFIED:20191024T201034Z
UID:10455-1571826600-1571832000@njacts.rbhs.rutgers.edu
SUMMARY:Biomedical Engineering and Electrical and Computer Engineering Colloquium
DESCRIPTION:Colloquium-Quartz Biosensors-Integrating Transducers\, Biomaterials\, and Fluidics\, Srinivas Tadigadapa\, Northeastern University. Lecture Hall\, Computing Research and Education Building (CoRE)\, 96 Frelinghuysen Road\, Piscataway
URL:https://njacts.rbhs.rutgers.edu/event/quartz-biosensors-integrating-transducers-biomaterials-and-fluidics/
END:VEVENT
BEGIN:VEVENT
DTSTART;TZID=UTC:20191023T120000
DTEND;TZID=UTC:20191023T130000
DTSTAMP:20260424T220639
CREATED:20191021T193336Z
LAST-MODIFIED:20191024T200637Z
UID:10430-1571832000-1571835600@njacts.rbhs.rutgers.edu
SUMMARY:Princeton Molecular Biology Butler Seminar Series
DESCRIPTION:Seminar-From protein folding to cognition: The serendipitous path of discovery\, Peter Walter\, University of California\, San Francisco. Princeton\, Thomas Laboratory 003\, Department of Molecular Biology\, 119 Lewis Thomas Laboratory\, Washington Road\, Princeton
URL:https://njacts.rbhs.rutgers.edu/event/from-protein-folding-to-cognition-the-serendipitous-path-of-discovery/
LOCATION:Princeton University\, Thomas Laboratory\, 119 Lewis Thomas Laboratory\, Washington Road\, Princeton\, NJ\, 08544-1014\, United States
END:VEVENT
BEGIN:VEVENT
DTSTART;TZID=UTC:20191023T120000
DTEND;TZID=UTC:20191023T130000
DTSTAMP:20260424T220639
CREATED:20191021T210152Z
LAST-MODIFIED:20191024T200507Z
UID:10434-1571832000-1571835600@njacts.rbhs.rutgers.edu
SUMMARY:Institute for Quantitative Biomedicine Seminar
DESCRIPTION:Seminar-Accelerating the Translation of Scientific Discoveries for Public Value\, Fred Ledley\, Bentley University. Proteomics Room 120\, Institute for Quantitative Biomedicine at Rutgers\, 174 Frelinghuysen Road\, Piscataway
URL:https://njacts.rbhs.rutgers.edu/event/accelerating-the-translation-of-scientific-discoveries-for-public-value/
END:VEVENT
BEGIN:VEVENT
DTSTART;TZID=UTC:20191023T130000
DTEND;TZID=UTC:20191023T160000
DTSTAMP:20260424T220639
CREATED:20191014T185609Z
LAST-MODIFIED:20191014T185609Z
UID:10386-1571835600-1571846400@njacts.rbhs.rutgers.edu
SUMMARY:Continuing Education for Healthcare Professionals
DESCRIPTION:Continuing Education for Healthcare Professionals-Part 2: Basic Knowledge of Scraping Therapy Course\, Stanley S. Bergen\, Jr. Building\, 65 Bergen Street\, Newark. To register.
URL:https://njacts.rbhs.rutgers.edu/event/continuing-education-for-healthcare-professionals-2/
LOCATION:Stanley S. Bergen Jr. Building\, 65 Bergen Street\, Newark\, NJ\, United States
END:VEVENT
BEGIN:VEVENT
DTSTART;TZID=UTC:20191023T160000
DTEND;TZID=UTC:20191023T170000
DTSTAMP:20260424T220639
CREATED:20191022T202847Z
LAST-MODIFIED:20191022T202847Z
UID:10495-1571846400-1571850000@njacts.rbhs.rutgers.edu
SUMMARY:CINJ Grand Round Seminar Lecture Series
DESCRIPTION:CINJ Grand Round Seminar Lecture Series-Using spatial Analysis to Evaluate Residential Segregation’s Association with Colorectal Cancer Screening\, Joseph Gibbons\, Center for Human Dynamics in our Mobile Age (HDMA)\, San Diego State University.  Auditorium A\, 1st Floor\, Rutgers Cancer Institute of New Jersey\, 195 Little Albany Street\, New Brunswick
URL:https://njacts.rbhs.rutgers.edu/event/cinj-grand-round-seminar-lecture-series-6/
LOCATION:Rutgers Cancer Institute of New Jersey\, 1st Floor\, Auditorium A\, 195 Little Albany Street\, New Brunswick\, NJ\, 08901\, United States
END:VEVENT
BEGIN:VEVENT
DTSTART;TZID=UTC:20191023T170000
DTEND;TZID=UTC:20191023T200000
DTSTAMP:20260424T220639
CREATED:20191028T184728Z
LAST-MODIFIED:20191028T184728Z
UID:10601-1571850000-1571860800@njacts.rbhs.rutgers.edu
SUMMARY:Global Health and Surgery Research Symposium
DESCRIPTION:Global Health and Surgery Research Symposium-New Jersey Medical School’s Office of Global Health presents the fourth annual Global Health and Surgery Research Symposium\, highlighting global health disparities within the community\, featuring keynote speakers\, Kevin Lyons\, Associate Professor of Professional Practice at Rutgers Business School\, and Craig Spencer\, Director of Global Health in Emergency Medicine at New York-Presbyterian/Columbia University Medical Center. Dental Pavilion\, 110 Bergen Street\, Rooms B-961 & B-974\, Newark.
URL:https://njacts.rbhs.rutgers.edu/event/global-health-and-surgery-research-symposium/
LOCATION:Dental Pavilion\, Rooms B-961 & B974\, 110 Bergen Street\, Newark\, NJ\, 07103\, United States
END:VEVENT
END:VCALENDAR