BEGIN:VCALENDAR
VERSION:2.0
PRODID:-//New Jersey Alliance for Clinical and Translational Science - ECPv6.15.14//NONSGML v1.0//EN
CALSCALE:GREGORIAN
METHOD:PUBLISH
X-ORIGINAL-URL:https://njacts.rbhs.rutgers.edu
X-WR-CALDESC:Events for New Jersey Alliance for Clinical and Translational Science
REFRESH-INTERVAL;VALUE=DURATION:PT1H
X-Robots-Tag:noindex
X-PUBLISHED-TTL:PT1H
BEGIN:VTIMEZONE
TZID:UTC
BEGIN:STANDARD
TZOFFSETFROM:+0000
TZOFFSETTO:+0000
TZNAME:UTC
DTSTART:20180101T000000
END:STANDARD
END:VTIMEZONE
BEGIN:VEVENT
DTSTART;TZID=UTC:20191010T080000
DTEND;TZID=UTC:20191010T090000
DTSTAMP:20260425T193532
CREATED:20191008T011430Z
LAST-MODIFIED:20191008T011430Z
UID:10298-1570694400-1570698000@njacts.rbhs.rutgers.edu
SUMMARY:Rutgers RWJMS Pediatric Grand Rounds
DESCRIPTION:Rutgers RWJMS Pediatric Grand Rounds-Out of Hospital Care 2019\, Mark Merlin\, Rutgers New Jersey Medical School.  Room 1302 Clinical Academic Building\, 125 Paterson Street\, New Brunswick
URL:https://njacts.rbhs.rutgers.edu/event/rutgers-rwjms-pediatric-grand-rounds-5/
LOCATION:Clinical Academic Building\, Conference Room 1302\, 125 Paterson Street\, New Brunswick\, NJ\, 08901\, United States
END:VEVENT
BEGIN:VEVENT
DTSTART;TZID=UTC:20191010T120000
DTEND;TZID=UTC:20191010T130000
DTSTAMP:20260425T193532
CREATED:20191009T211024Z
LAST-MODIFIED:20191010T211250Z
UID:10322-1570708800-1570712400@njacts.rbhs.rutgers.edu
SUMMARY:EOHSI/NIEHS Seminar
DESCRIPTION:EOHSI/NIEHS Seminar-The use of multiple cutting-edge technologies to develop a high throughput in vitro female reproductive  toxicity screening platform\, Shuo Xiao\, University of South Carolina. Conference Room C\, Environmental and Occupational Health Sciences Institute (EOHSI)\, 170 Frelinghuysen Road\, Piscataway
URL:https://njacts.rbhs.rutgers.edu/event/the-use-of-multiple-cutting-edge-technologies-to-develop-a-high-throughput-in-vitro-female-reproductive-toxicity-screening-platform/
LOCATION:EOHSI\, Conference Room C\, 170 Frelinghuysen Road\, Piscataway\, NJ\, 08854\, United States
END:VEVENT
BEGIN:VEVENT
DTSTART;TZID=UTC:20191010T120000
DTEND;TZID=UTC:20191010T133000
DTSTAMP:20260425T193532
CREATED:20191009T210237Z
LAST-MODIFIED:20191010T211010Z
UID:10320-1570708800-1570714200@njacts.rbhs.rutgers.edu
SUMMARY:Institute for Health\, Health Care Policy and Aging Research Seminar & Lecture Series
DESCRIPTION:Institute for Health\, Health Care Policy and Aging Research Seminar & Lecture Series-The New Zealand Healthcare System and the Harkness Fellowship: An Opportunity for Collective Learning\, Martin Chadwick\, Harkness Fellow from New Zealand. 1st Floor Conference Room\, Institute for Health\, Health Care Policy and Aging Research Rutgers\, 112 Paterson Street\, New Brunswick
URL:https://njacts.rbhs.rutgers.edu/event/the-new-zealand-healthcare-system-and-the-harkness-fellowship-an-opportunity-for-collective-learning/
LOCATION:Institute for Health\, Health Care Policy and Aging Research\, 1st floor conference room\, 112 Paterson Street\, New Brunswick\, 08901\, United States
END:VEVENT
END:VCALENDAR