BEGIN:VCALENDAR
VERSION:2.0
PRODID:-//New Jersey Alliance for Clinical and Translational Science - ECPv6.15.14//NONSGML v1.0//EN
CALSCALE:GREGORIAN
METHOD:PUBLISH
X-ORIGINAL-URL:https://njacts.rbhs.rutgers.edu
X-WR-CALDESC:Events for New Jersey Alliance for Clinical and Translational Science
REFRESH-INTERVAL;VALUE=DURATION:PT1H
X-Robots-Tag:noindex
X-PUBLISHED-TTL:PT1H
BEGIN:VTIMEZONE
TZID:UTC
BEGIN:STANDARD
TZOFFSETFROM:+0000
TZOFFSETTO:+0000
TZNAME:UTC
DTSTART:20180101T000000
END:STANDARD
END:VTIMEZONE
BEGIN:VEVENT
DTSTART;TZID=UTC:20191002T090000
DTEND;TZID=UTC:20191002T160000
DTSTAMP:20260424T214333
CREATED:20190924T185521Z
LAST-MODIFIED:20191002T190706Z
UID:9802-1570006800-1570032000@njacts.rbhs.rutgers.edu
SUMMARY:NJ ACTS Community Core Kickoff Event
DESCRIPTION:NJ ACTS Community Engagement Core kick-off event.  Rutgers Club\, 85 Avenue E 2nd Floor\, Piscataway. To register. \nNJ ACTS Community Engagement Core Kick-Off Event Agenda
URL:https://njacts.rbhs.rutgers.edu/event/nj-acts-community-core-kickoff-event/
LOCATION:Rutgers Club\, 85 Avenue E\, Piscataway\, 08854\, United States
END:VEVENT
BEGIN:VEVENT
DTSTART;TZID=UTC:20191002T160000
DTEND;TZID=UTC:20191002T170000
DTSTAMP:20260424T214333
CREATED:20190925T225753Z
LAST-MODIFIED:20190925T225753Z
UID:10015-1570032000-1570035600@njacts.rbhs.rutgers.edu
SUMMARY:CINJ Grand Round Seminar Lecture Series
DESCRIPTION:CINJ Grand Round Seminar Lecture Series-Improving Care Delivery and Outcomes for Older Adults with Cancer and Their Caregivers\, Supriya Mohile\, Wilmot Cancer Institute\, University of Rochester Medical Center.  Auditorium A\, 1st Floor\, Rutgers Cancer Institute of New Jersey\, 195 Little Albany Street\, New Brunswick
URL:https://njacts.rbhs.rutgers.edu/event/cinj-grand-round-seminar-lecture-series-5/
LOCATION:Rutgers Cancer Institute of New Jersey\, 1st Floor\, Auditorium A\, 195 Little Albany Street\, New Brunswick\, NJ\, 08901\, United States
END:VEVENT
END:VCALENDAR