BEGIN:VCALENDAR
VERSION:2.0
PRODID:-//New Jersey Alliance for Clinical and Translational Science - ECPv6.15.14//NONSGML v1.0//EN
CALSCALE:GREGORIAN
METHOD:PUBLISH
X-ORIGINAL-URL:https://njacts.rbhs.rutgers.edu
X-WR-CALDESC:Events for New Jersey Alliance for Clinical and Translational Science
REFRESH-INTERVAL;VALUE=DURATION:PT1H
X-Robots-Tag:noindex
X-PUBLISHED-TTL:PT1H
BEGIN:VTIMEZONE
TZID:UTC
BEGIN:STANDARD
TZOFFSETFROM:+0000
TZOFFSETTO:+0000
TZNAME:UTC
DTSTART:20180101T000000
END:STANDARD
END:VTIMEZONE
BEGIN:VEVENT
DTSTART;TZID=UTC:20190726T120000
DTEND;TZID=UTC:20190726T133000
DTSTAMP:20260422T113057
CREATED:20190925T184007Z
LAST-MODIFIED:20190925T184007Z
UID:9927-1564142400-1564147800@njacts.rbhs.rutgers.edu
SUMMARY:CINJ Trainee Seminar Series
DESCRIPTION:CINJ Trainee Seminar Series-Novel Mitochondrial Uncoupler Drugs are Highly Effective for the Treatment of T-cell Acute Lymphoblastic Leukemia\, Maria Victoria Da Silva Diz\, Rutgers Cancer Institute of New Jersey\, and Non-Genetic Intra-Tumor Heterogeneity is a Major Predictor of Phenotypic Heterogeneity and Ongoing Evolutionary Dynamics in Tumors\, Anchal Sharma\, Rutgers Cancer Institute of New Jersey\, Auditorium B\, 1st Floor\, Rutgers Cancer Institute of New Jersey\, 195 Little Albany Street\, New Brunswick
URL:https://njacts.rbhs.rutgers.edu/event/cinj-trainee-seminar-series-2/
LOCATION:Rutgers Cancer Institute of New Jersey\, Auditorium B\, 1st Floor\, 195 Little Albany Street\, New Brunswick\, NJ\, 08901\, United States
END:VEVENT
END:VCALENDAR